BEGIN:VCALENDAR
VERSION:2.0
PRODID:-//AFLabs urnik izvoz - fs//aflabs.si//SI
NAME:UL FS Urnik
X-WR-CALNAME:UL FS Urnik
DTSTAMP:20260426T002852Z
REFRESH-INTERVAL:PT1H
SOURCE:https://urnik.fs.uni-lj.si/en/teacher/846/?day=2026-01-19&export=1
URL:https://urnik.fs.uni-lj.si/en/teacher/846/?day=2026-01-19&export=1
X-PUBLISHED-TTL:PT1H
X-WR-TIMEZONE:Europe/Ljubljana
BEGIN:VTIMEZONE
TZID:Europe/Ljubljana
BEGIN:DAYLIGHT
DTSTART:20260329T020000
RDATE:20260329T020000
RDATE:20270328T020000
TZNAME:CEST
TZOFFSETFROM:+0100
TZOFFSETTO:+0200
END:DAYLIGHT
BEGIN:STANDARD
DTSTART:20261025T030000
RDATE:20261025T030000
RDATE:20271031T030000
TZNAME:CET
TZOFFSETFROM:+0200
TZOFFSETTO:+0100
END:STANDARD
END:VTIMEZONE
BEGIN:VEVENT
SUMMARY:Advanced combustion processes (NPZM)\, Lectures (P)
DTSTART;TZID=Europe/Ljubljana:20251215T100000
DTEND;TZID=Europe/Ljubljana:20251215T120000
DTSTAMP:20260426T002852Z
UID:fs-AFLABS-URNIK:srecanje:7025-2025-12-15 10:00:00+01:00
DESCRIPTION:Predmet: Advanced combustion processes (NPZM)\, Lectures (P)\n
 Letniki: Energy engineering (MAG-1)\nIzvajalci: Tomaž Katrašnik\, Mitja 
 Mori\, Tine Seljak\, Andrej Senegačnik\nProstor: Lecture hall III/4
END:VEVENT
BEGIN:VEVENT
SUMMARY:Advanced combustion processes (NPZM)\, Lectures (P)
DTSTART;TZID=Europe/Ljubljana:20251222T100000
DTEND;TZID=Europe/Ljubljana:20251222T120000
DTSTAMP:20260426T002852Z
UID:fs-AFLABS-URNIK:srecanje:7025-2025-12-22 10:00:00+01:00
DESCRIPTION:Predmet: Advanced combustion processes (NPZM)\, Lectures (P)\n
 Letniki: Energy engineering (MAG-1)\nIzvajalci: Tomaž Katrašnik\, Mitja 
 Mori\, Tine Seljak\, Andrej Senegačnik\nProstor: Lecture hall III/4
END:VEVENT
BEGIN:VEVENT
SUMMARY:Advanced combustion processes (NPZM)\, Lectures (P)
DTSTART;TZID=Europe/Ljubljana:20260105T100000
DTEND;TZID=Europe/Ljubljana:20260105T120000
DTSTAMP:20260426T002852Z
UID:fs-AFLABS-URNIK:srecanje:7025-2026-01-05 10:00:00+01:00
DESCRIPTION:Predmet: Advanced combustion processes (NPZM)\, Lectures (P)\n
 Letniki: Energy engineering (MAG-1)\nIzvajalci: Tomaž Katrašnik\, Mitja 
 Mori\, Tine Seljak\, Andrej Senegačnik\nProstor: Lecture hall III/4
END:VEVENT
BEGIN:VEVENT
SUMMARY:Advanced combustion processes (NPZM)\, Lectures (P)
DTSTART;TZID=Europe/Ljubljana:20260112T100000
DTEND;TZID=Europe/Ljubljana:20260112T120000
DTSTAMP:20260426T002852Z
UID:fs-AFLABS-URNIK:srecanje:7025-2026-01-12 10:00:00+01:00
DESCRIPTION:Predmet: Advanced combustion processes (NPZM)\, Lectures (P)\n
 Letniki: Energy engineering (MAG-1)\nIzvajalci: Tomaž Katrašnik\, Mitja 
 Mori\, Tine Seljak\, Andrej Senegačnik\nProstor: Lecture hall III/4
END:VEVENT
BEGIN:VEVENT
SUMMARY:Energy supply in circular economy (EKGM)\, Lectures (P)
DTSTART;TZID=Europe/Ljubljana:20251216T120000
DTEND;TZID=Europe/Ljubljana:20251216T140000
DTSTAMP:20260426T002852Z
UID:fs-AFLABS-URNIK:srecanje:12812-2025-12-16 12:00:00+01:00
DESCRIPTION:Predmet: Energy supply in circular economy (EKGM)\, Lectures (
 P)\nLetniki: Energy engineering (MAG-2)\nIzvajalci: Tomaž Katrašnik\, Mi
 tja Mori\, Mihael Sekavčnik\, Tine Seljak\nProstor: Lecture hall III/3B
END:VEVENT
BEGIN:VEVENT
SUMMARY:Energy supply in circular economy (EKGM)\, Lectures (P)
DTSTART;TZID=Europe/Ljubljana:20251223T120000
DTEND;TZID=Europe/Ljubljana:20251223T140000
DTSTAMP:20260426T002852Z
UID:fs-AFLABS-URNIK:srecanje:12812-2025-12-23 12:00:00+01:00
DESCRIPTION:Predmet: Energy supply in circular economy (EKGM)\, Lectures (
 P)\nLetniki: Energy engineering (MAG-2)\nIzvajalci: Tomaž Katrašnik\, Mi
 tja Mori\, Mihael Sekavčnik\, Tine Seljak\nProstor: Lecture hall III/3B
END:VEVENT
BEGIN:VEVENT
SUMMARY:Energy supply in circular economy (EKGM)\, Lectures (P)
DTSTART;TZID=Europe/Ljubljana:20260106T120000
DTEND;TZID=Europe/Ljubljana:20260106T140000
DTSTAMP:20260426T002852Z
UID:fs-AFLABS-URNIK:srecanje:12812-2026-01-06 12:00:00+01:00
DESCRIPTION:Predmet: Energy supply in circular economy (EKGM)\, Lectures (
 P)\nLetniki: Energy engineering (MAG-2)\nIzvajalci: Tomaž Katrašnik\, Mi
 tja Mori\, Mihael Sekavčnik\, Tine Seljak\nProstor: Lecture hall III/3B
END:VEVENT
BEGIN:VEVENT
SUMMARY:Energy supply in circular economy (EKGM)\, Lectures (P)
DTSTART;TZID=Europe/Ljubljana:20260113T120000
DTEND;TZID=Europe/Ljubljana:20260113T140000
DTSTAMP:20260426T002852Z
UID:fs-AFLABS-URNIK:srecanje:12812-2026-01-13 12:00:00+01:00
DESCRIPTION:Predmet: Energy supply in circular economy (EKGM)\, Lectures (
 P)\nLetniki: Energy engineering (MAG-2)\nIzvajalci: Tomaž Katrašnik\, Mi
 tja Mori\, Mihael Sekavčnik\, Tine Seljak\nProstor: Lecture hall III/3B
END:VEVENT
BEGIN:VEVENT
SUMMARY:Chemical energy carriers (KNEM)\, Lectures (P)
DTSTART;TZID=Europe/Ljubljana:20260216T100000
DTEND;TZID=Europe/Ljubljana:20260216T120000
DTSTAMP:20260426T002852Z
UID:fs-AFLABS-URNIK:srecanje:4587-2026-02-16 10:00:00+01:00
DESCRIPTION:Predmet: Chemical energy carriers (KNEM)\, Lectures (P)\nLetni
 ki: Energy engineering (MAG-1)\nIzvajalci: Mitja Mori\, Tine Seljak\, Andr
 ej Senegačnik\nProstor: Lecture hall III/2
END:VEVENT
BEGIN:VEVENT
SUMMARY:Chemical energy carriers (KNEM)\, Lectures (P)
DTSTART;TZID=Europe/Ljubljana:20260223T100000
DTEND;TZID=Europe/Ljubljana:20260223T120000
DTSTAMP:20260426T002852Z
UID:fs-AFLABS-URNIK:srecanje:4587-2026-02-23 10:00:00+01:00
DESCRIPTION:Predmet: Chemical energy carriers (KNEM)\, Lectures (P)\nLetni
 ki: Energy engineering (MAG-1)\nIzvajalci: Mitja Mori\, Tine Seljak\, Andr
 ej Senegačnik\nProstor: Lecture hall III/2
END:VEVENT
BEGIN:VEVENT
SUMMARY:Chemical Energy Carriers (CECE)\, Lectures (P)
DTSTART;TZID=Europe/Ljubljana:20260217T140000
DTEND;TZID=Europe/Ljubljana:20260217T160000
DTSTAMP:20260426T002852Z
UID:fs-AFLABS-URNIK:srecanje:14574-2026-02-17 14:00:00+01:00
DESCRIPTION:Predmet: Chemical Energy Carriers (CECE)\, Lectures (P)\nLetni
 ki: Erasmus (Erasmus)\nIzvajalci: Mitja Mori\, Tine Seljak\, Andrej Senega
 čnik\nProstor: Lecture hall III/4
END:VEVENT
BEGIN:VEVENT
SUMMARY:2. kolokvij NPZ
DTSTART;TZID=Europe/Ljubljana:20260123T160000
DTEND;TZID=Europe/Ljubljana:20260123T180000
DTSTAMP:20260426T002852Z
UID:fs-AFLABS-URNIK:rezervacija:11143
CATEGORIES:Reservation
COLOR:royalblue
DESCRIPTION:Predmeti: \nLetniki: \nIzvajalci: Tine Seljak\nProstori: Lectu
 re hall V/2
LOCATION:Lecture hall V/2
ORGANIZER:Tine Seljak
X-WR-TIMEZONE:Europe/Ljubljana
END:VEVENT
BEGIN:VEVENT
SUMMARY:NPZ - 2. kolokivj
DTSTART;TZID=Europe/Ljubljana:20260116T160000
DTEND;TZID=Europe/Ljubljana:20260116T180000
DTSTAMP:20260426T002852Z
UID:fs-AFLABS-URNIK:rezervacija:12948
CATEGORIES:Reservation
COLOR:royalblue
DESCRIPTION:Predmeti: \nLetniki: \nIzvajalci: Tine Seljak\nProstori: Lectu
 re hall III/4
LOCATION:Lecture hall III/4
ORGANIZER:Tine Seljak
X-WR-TIMEZONE:Europe/Ljubljana
END:VEVENT
END:VCALENDAR
