BEGIN:VCALENDAR
VERSION:2.0
PRODID:-//AFLabs urnik izvoz - fs//aflabs.si//SI
NAME:UL FS Urnik
X-WR-CALNAME:UL FS Urnik
DTSTAMP:20260421T203252Z
REFRESH-INTERVAL:PT1H
SOURCE:https://urnik.fs.uni-lj.si/en/teacher/847/?day=2024-04-01&export=1
URL:https://urnik.fs.uni-lj.si/en/teacher/847/?day=2024-04-01&export=1
X-PUBLISHED-TTL:PT1H
X-WR-TIMEZONE:Europe/Ljubljana
BEGIN:VTIMEZONE
TZID:Europe/Ljubljana
BEGIN:DAYLIGHT
DTSTART:20260329T020000
RDATE:20260329T020000
RDATE:20270328T020000
TZNAME:CEST
TZOFFSETFROM:+0100
TZOFFSETTO:+0200
END:DAYLIGHT
BEGIN:STANDARD
DTSTART:20261025T030000
RDATE:20261025T030000
RDATE:20271031T030000
TZNAME:CET
TZOFFSETFROM:+0200
TZOFFSETTO:+0100
END:STANDARD
END:VTIMEZONE
BEGIN:VEVENT
SUMMARY:Chemical energy carriers (KNEM)\, Lectures (P)
DTSTART;TZID=Europe/Ljubljana:20240219T100000
DTEND;TZID=Europe/Ljubljana:20240219T120000
DTSTAMP:20260421T203252Z
UID:fs-AFLABS-URNIK:srecanje:4587-2024-02-19 10:00:00+01:00
DESCRIPTION:Predmet: Chemical energy carriers (KNEM)\, Lectures (P)\nLetni
 ki: Energy engineering (MAG-1)\nIzvajalci: Mitja Mori\, Tine Seljak\, Andr
 ej Senegačnik\nProstor: Lecture hall III/2
END:VEVENT
BEGIN:VEVENT
SUMMARY:Chemical energy carriers (KNEM)\, Lectures (P)
DTSTART;TZID=Europe/Ljubljana:20240226T100000
DTEND;TZID=Europe/Ljubljana:20240226T120000
DTSTAMP:20260421T203252Z
UID:fs-AFLABS-URNIK:srecanje:4587-2024-02-26 10:00:00+01:00
DESCRIPTION:Predmet: Chemical energy carriers (KNEM)\, Lectures (P)\nLetni
 ki: Energy engineering (MAG-1)\nIzvajalci: Mitja Mori\, Tine Seljak\, Andr
 ej Senegačnik\nProstor: Lecture hall III/2
END:VEVENT
BEGIN:VEVENT
SUMMARY:Chemical energy carriers (KNEM)\, Lectures (P)
DTSTART;TZID=Europe/Ljubljana:20240304T100000
DTEND;TZID=Europe/Ljubljana:20240304T120000
DTSTAMP:20260421T203252Z
UID:fs-AFLABS-URNIK:srecanje:4587-2024-03-04 10:00:00+01:00
DESCRIPTION:Predmet: Chemical energy carriers (KNEM)\, Lectures (P)\nLetni
 ki: Energy engineering (MAG-1)\nIzvajalci: Mitja Mori\, Tine Seljak\, Andr
 ej Senegačnik\nProstor: Lecture hall III/2
END:VEVENT
BEGIN:VEVENT
SUMMARY:Chemical energy carriers (KNEM)\, Lectures (P)
DTSTART;TZID=Europe/Ljubljana:20240311T100000
DTEND;TZID=Europe/Ljubljana:20240311T120000
DTSTAMP:20260421T203252Z
UID:fs-AFLABS-URNIK:srecanje:4587-2024-03-11 10:00:00+01:00
DESCRIPTION:Predmet: Chemical energy carriers (KNEM)\, Lectures (P)\nLetni
 ki: Energy engineering (MAG-1)\nIzvajalci: Mitja Mori\, Tine Seljak\, Andr
 ej Senegačnik\nProstor: Lecture hall III/2
END:VEVENT
BEGIN:VEVENT
SUMMARY:Chemical energy carriers (KNEM)\, Lectures (P)
DTSTART;TZID=Europe/Ljubljana:20240318T100000
DTEND;TZID=Europe/Ljubljana:20240318T120000
DTSTAMP:20260421T203252Z
UID:fs-AFLABS-URNIK:srecanje:4587-2024-03-18 10:00:00+01:00
DESCRIPTION:Predmet: Chemical energy carriers (KNEM)\, Lectures (P)\nLetni
 ki: Energy engineering (MAG-1)\nIzvajalci: Mitja Mori\, Tine Seljak\, Andr
 ej Senegačnik\nProstor: Lecture hall III/2
END:VEVENT
BEGIN:VEVENT
SUMMARY:Chemical energy carriers (KNEM)\, Lectures (P)
DTSTART;TZID=Europe/Ljubljana:20240325T100000
DTEND;TZID=Europe/Ljubljana:20240325T120000
DTSTAMP:20260421T203252Z
UID:fs-AFLABS-URNIK:srecanje:4587-2024-03-25 10:00:00+01:00
DESCRIPTION:Predmet: Chemical energy carriers (KNEM)\, Lectures (P)\nLetni
 ki: Energy engineering (MAG-1)\nIzvajalci: Mitja Mori\, Tine Seljak\, Andr
 ej Senegačnik\nProstor: Lecture hall III/2
END:VEVENT
BEGIN:VEVENT
SUMMARY:Chemical energy carriers (KNEM)\, Lectures (P)
DTSTART;TZID=Europe/Ljubljana:20240401T100000
DTEND;TZID=Europe/Ljubljana:20240401T120000
DTSTAMP:20260421T203252Z
UID:fs-AFLABS-URNIK:srecanje:4587-2024-04-01 10:00:00+02:00
DESCRIPTION:Predmet: Chemical energy carriers (KNEM)\, Lectures (P)\nLetni
 ki: Energy engineering (MAG-1)\nIzvajalci: Mitja Mori\, Tine Seljak\, Andr
 ej Senegačnik\nProstor: Lecture hall III/2
END:VEVENT
BEGIN:VEVENT
SUMMARY:Chemical energy carriers (KNEM)\, Lectures (P)
DTSTART;TZID=Europe/Ljubljana:20240408T100000
DTEND;TZID=Europe/Ljubljana:20240408T120000
DTSTAMP:20260421T203252Z
UID:fs-AFLABS-URNIK:srecanje:4587-2024-04-08 10:00:00+02:00
DESCRIPTION:Predmet: Chemical energy carriers (KNEM)\, Lectures (P)\nLetni
 ki: Energy engineering (MAG-1)\nIzvajalci: Mitja Mori\, Tine Seljak\, Andr
 ej Senegačnik\nProstor: Lecture hall III/2
END:VEVENT
BEGIN:VEVENT
SUMMARY:Chemical energy carriers (KNEM)\, Lectures (P)
DTSTART;TZID=Europe/Ljubljana:20240415T100000
DTEND;TZID=Europe/Ljubljana:20240415T120000
DTSTAMP:20260421T203252Z
UID:fs-AFLABS-URNIK:srecanje:4587-2024-04-15 10:00:00+02:00
DESCRIPTION:Predmet: Chemical energy carriers (KNEM)\, Lectures (P)\nLetni
 ki: Energy engineering (MAG-1)\nIzvajalci: Mitja Mori\, Tine Seljak\, Andr
 ej Senegačnik\nProstor: Lecture hall III/2
END:VEVENT
BEGIN:VEVENT
SUMMARY:Chemical energy carriers (KNEM)\, Lectures (P)
DTSTART;TZID=Europe/Ljubljana:20240422T100000
DTEND;TZID=Europe/Ljubljana:20240422T120000
DTSTAMP:20260421T203252Z
UID:fs-AFLABS-URNIK:srecanje:4587-2024-04-22 10:00:00+02:00
DESCRIPTION:Predmet: Chemical energy carriers (KNEM)\, Lectures (P)\nLetni
 ki: Energy engineering (MAG-1)\nIzvajalci: Mitja Mori\, Tine Seljak\, Andr
 ej Senegačnik\nProstor: Lecture hall III/2
END:VEVENT
BEGIN:VEVENT
SUMMARY:Chemical energy carriers (KNEM)\, Lectures (P)
DTSTART;TZID=Europe/Ljubljana:20240429T100000
DTEND;TZID=Europe/Ljubljana:20240429T120000
DTSTAMP:20260421T203252Z
UID:fs-AFLABS-URNIK:srecanje:4587-2024-04-29 10:00:00+02:00
DESCRIPTION:Predmet: Chemical energy carriers (KNEM)\, Lectures (P)\nLetni
 ki: Energy engineering (MAG-1)\nIzvajalci: Mitja Mori\, Tine Seljak\, Andr
 ej Senegačnik\nProstor: Lecture hall III/2
END:VEVENT
BEGIN:VEVENT
SUMMARY:Chemical energy carriers (KNEM)\, Lectures (P)
DTSTART;TZID=Europe/Ljubljana:20240506T100000
DTEND;TZID=Europe/Ljubljana:20240506T120000
DTSTAMP:20260421T203252Z
UID:fs-AFLABS-URNIK:srecanje:4587-2024-05-06 10:00:00+02:00
DESCRIPTION:Predmet: Chemical energy carriers (KNEM)\, Lectures (P)\nLetni
 ki: Energy engineering (MAG-1)\nIzvajalci: Mitja Mori\, Tine Seljak\, Andr
 ej Senegačnik\nProstor: Lecture hall III/2
END:VEVENT
BEGIN:VEVENT
SUMMARY:Chemical energy carriers (KNEM)\, Lectures (P)
DTSTART;TZID=Europe/Ljubljana:20240513T100000
DTEND;TZID=Europe/Ljubljana:20240513T120000
DTSTAMP:20260421T203252Z
UID:fs-AFLABS-URNIK:srecanje:4587-2024-05-13 10:00:00+02:00
DESCRIPTION:Predmet: Chemical energy carriers (KNEM)\, Lectures (P)\nLetni
 ki: Energy engineering (MAG-1)\nIzvajalci: Mitja Mori\, Tine Seljak\, Andr
 ej Senegačnik\nProstor: Lecture hall III/2
END:VEVENT
BEGIN:VEVENT
SUMMARY:Chemical energy carriers (KNEM)\, Lectures (P)
DTSTART;TZID=Europe/Ljubljana:20240520T100000
DTEND;TZID=Europe/Ljubljana:20240520T120000
DTSTAMP:20260421T203252Z
UID:fs-AFLABS-URNIK:srecanje:4587-2024-05-20 10:00:00+02:00
DESCRIPTION:Predmet: Chemical energy carriers (KNEM)\, Lectures (P)\nLetni
 ki: Energy engineering (MAG-1)\nIzvajalci: Mitja Mori\, Tine Seljak\, Andr
 ej Senegačnik\nProstor: Lecture hall III/2
END:VEVENT
BEGIN:VEVENT
SUMMARY:Chemical energy carriers (KNEM)\, Lectures (P)
DTSTART;TZID=Europe/Ljubljana:20240527T100000
DTEND;TZID=Europe/Ljubljana:20240527T120000
DTSTAMP:20260421T203252Z
UID:fs-AFLABS-URNIK:srecanje:4587-2024-05-27 10:00:00+02:00
DESCRIPTION:Predmet: Chemical energy carriers (KNEM)\, Lectures (P)\nLetni
 ki: Energy engineering (MAG-1)\nIzvajalci: Mitja Mori\, Tine Seljak\, Andr
 ej Senegačnik\nProstor: Lecture hall III/2
END:VEVENT
BEGIN:VEVENT
SUMMARY:Thermal and nuclear power systems (TJEP)\, Lectures (P)
DTSTART;TZID=Europe/Ljubljana:20240220T113000
DTEND;TZID=Europe/Ljubljana:20240220T133000
DTSTAMP:20260421T203252Z
UID:fs-AFLABS-URNIK:srecanje:3859-2024-02-20 11:30:00+01:00
DESCRIPTION:Predmet: Thermal and nuclear power systems (TJEP)\, Lectures (
 P)\nLetniki: Energy engineering (PAP-2)\nIzvajalci: Andrej Senegačnik\nPr
 ostor: Lecture hall II/3A
END:VEVENT
BEGIN:VEVENT
SUMMARY:Thermal and nuclear power systems (TJEP)\, Lectures (P)
DTSTART;TZID=Europe/Ljubljana:20240227T113000
DTEND;TZID=Europe/Ljubljana:20240227T133000
DTSTAMP:20260421T203252Z
UID:fs-AFLABS-URNIK:srecanje:3859-2024-02-27 11:30:00+01:00
DESCRIPTION:Predmet: Thermal and nuclear power systems (TJEP)\, Lectures (
 P)\nLetniki: Energy engineering (PAP-2)\nIzvajalci: Andrej Senegačnik\nPr
 ostor: Lecture hall II/3A
END:VEVENT
BEGIN:VEVENT
SUMMARY:Thermal and nuclear power systems (TJEP)\, Lectures (P)
DTSTART;TZID=Europe/Ljubljana:20240305T113000
DTEND;TZID=Europe/Ljubljana:20240305T133000
DTSTAMP:20260421T203252Z
UID:fs-AFLABS-URNIK:srecanje:3859-2024-03-05 11:30:00+01:00
DESCRIPTION:Predmet: Thermal and nuclear power systems (TJEP)\, Lectures (
 P)\nLetniki: Energy engineering (PAP-2)\nIzvajalci: Andrej Senegačnik\nPr
 ostor: Lecture hall II/3A
END:VEVENT
BEGIN:VEVENT
SUMMARY:Thermal and nuclear power systems (TJEP)\, Lectures (P)
DTSTART;TZID=Europe/Ljubljana:20240312T113000
DTEND;TZID=Europe/Ljubljana:20240312T133000
DTSTAMP:20260421T203252Z
UID:fs-AFLABS-URNIK:srecanje:3859-2024-03-12 11:30:00+01:00
DESCRIPTION:Predmet: Thermal and nuclear power systems (TJEP)\, Lectures (
 P)\nLetniki: Energy engineering (PAP-2)\nIzvajalci: Andrej Senegačnik\nPr
 ostor: Lecture hall II/3A
END:VEVENT
BEGIN:VEVENT
SUMMARY:Thermal and nuclear power systems (TJEP)\, Lectures (P)
DTSTART;TZID=Europe/Ljubljana:20240319T113000
DTEND;TZID=Europe/Ljubljana:20240319T133000
DTSTAMP:20260421T203252Z
UID:fs-AFLABS-URNIK:srecanje:3859-2024-03-19 11:30:00+01:00
DESCRIPTION:Predmet: Thermal and nuclear power systems (TJEP)\, Lectures (
 P)\nLetniki: Energy engineering (PAP-2)\nIzvajalci: Andrej Senegačnik\nPr
 ostor: Lecture hall II/3A
END:VEVENT
BEGIN:VEVENT
SUMMARY:Thermal and nuclear power systems (TJEP)\, Lectures (P)
DTSTART;TZID=Europe/Ljubljana:20240326T113000
DTEND;TZID=Europe/Ljubljana:20240326T133000
DTSTAMP:20260421T203252Z
UID:fs-AFLABS-URNIK:srecanje:3859-2024-03-26 11:30:00+01:00
DESCRIPTION:Predmet: Thermal and nuclear power systems (TJEP)\, Lectures (
 P)\nLetniki: Energy engineering (PAP-2)\nIzvajalci: Andrej Senegačnik\nPr
 ostor: Lecture hall II/3A
END:VEVENT
BEGIN:VEVENT
SUMMARY:Thermal and nuclear power systems (TJEP)\, Lectures (P)
DTSTART;TZID=Europe/Ljubljana:20240402T113000
DTEND;TZID=Europe/Ljubljana:20240402T133000
DTSTAMP:20260421T203252Z
UID:fs-AFLABS-URNIK:srecanje:3859-2024-04-02 11:30:00+02:00
DESCRIPTION:Predmet: Thermal and nuclear power systems (TJEP)\, Lectures (
 P)\nLetniki: Energy engineering (PAP-2)\nIzvajalci: Andrej Senegačnik\nPr
 ostor: Lecture hall II/3A
END:VEVENT
BEGIN:VEVENT
SUMMARY:Thermal and nuclear power systems (TJEP)\, Lectures (P)
DTSTART;TZID=Europe/Ljubljana:20240409T113000
DTEND;TZID=Europe/Ljubljana:20240409T133000
DTSTAMP:20260421T203252Z
UID:fs-AFLABS-URNIK:srecanje:3859-2024-04-09 11:30:00+02:00
DESCRIPTION:Predmet: Thermal and nuclear power systems (TJEP)\, Lectures (
 P)\nLetniki: Energy engineering (PAP-2)\nIzvajalci: Andrej Senegačnik\nPr
 ostor: Lecture hall II/3A
END:VEVENT
BEGIN:VEVENT
SUMMARY:Thermal and nuclear power systems (TJEP)\, Lectures (P)
DTSTART;TZID=Europe/Ljubljana:20240416T113000
DTEND;TZID=Europe/Ljubljana:20240416T133000
DTSTAMP:20260421T203252Z
UID:fs-AFLABS-URNIK:srecanje:3859-2024-04-16 11:30:00+02:00
DESCRIPTION:Predmet: Thermal and nuclear power systems (TJEP)\, Lectures (
 P)\nLetniki: Energy engineering (PAP-2)\nIzvajalci: Andrej Senegačnik\nPr
 ostor: Lecture hall II/3A
END:VEVENT
BEGIN:VEVENT
SUMMARY:Thermal and nuclear power systems (TJEP)\, Lectures (P)
DTSTART;TZID=Europe/Ljubljana:20240423T113000
DTEND;TZID=Europe/Ljubljana:20240423T133000
DTSTAMP:20260421T203252Z
UID:fs-AFLABS-URNIK:srecanje:3859-2024-04-23 11:30:00+02:00
DESCRIPTION:Predmet: Thermal and nuclear power systems (TJEP)\, Lectures (
 P)\nLetniki: Energy engineering (PAP-2)\nIzvajalci: Andrej Senegačnik\nPr
 ostor: Lecture hall II/3A
END:VEVENT
BEGIN:VEVENT
SUMMARY:Thermal and nuclear power systems (TJEP)\, Lectures (P)
DTSTART;TZID=Europe/Ljubljana:20240430T113000
DTEND;TZID=Europe/Ljubljana:20240430T133000
DTSTAMP:20260421T203252Z
UID:fs-AFLABS-URNIK:srecanje:3859-2024-04-30 11:30:00+02:00
DESCRIPTION:Predmet: Thermal and nuclear power systems (TJEP)\, Lectures (
 P)\nLetniki: Energy engineering (PAP-2)\nIzvajalci: Andrej Senegačnik\nPr
 ostor: Lecture hall II/3A
END:VEVENT
BEGIN:VEVENT
SUMMARY:Thermal and nuclear power systems (TJEP)\, Lectures (P)
DTSTART;TZID=Europe/Ljubljana:20240507T113000
DTEND;TZID=Europe/Ljubljana:20240507T133000
DTSTAMP:20260421T203252Z
UID:fs-AFLABS-URNIK:srecanje:3859-2024-05-07 11:30:00+02:00
DESCRIPTION:Predmet: Thermal and nuclear power systems (TJEP)\, Lectures (
 P)\nLetniki: Energy engineering (PAP-2)\nIzvajalci: Andrej Senegačnik\nPr
 ostor: Lecture hall II/3A
END:VEVENT
BEGIN:VEVENT
SUMMARY:Thermal and nuclear power systems (TJEP)\, Lectures (P)
DTSTART;TZID=Europe/Ljubljana:20240514T113000
DTEND;TZID=Europe/Ljubljana:20240514T133000
DTSTAMP:20260421T203252Z
UID:fs-AFLABS-URNIK:srecanje:3859-2024-05-14 11:30:00+02:00
DESCRIPTION:Predmet: Thermal and nuclear power systems (TJEP)\, Lectures (
 P)\nLetniki: Energy engineering (PAP-2)\nIzvajalci: Andrej Senegačnik\nPr
 ostor: Lecture hall II/3A
END:VEVENT
BEGIN:VEVENT
SUMMARY:Thermal and nuclear power systems (TJEP)\, Lectures (P)
DTSTART;TZID=Europe/Ljubljana:20240521T113000
DTEND;TZID=Europe/Ljubljana:20240521T133000
DTSTAMP:20260421T203252Z
UID:fs-AFLABS-URNIK:srecanje:3859-2024-05-21 11:30:00+02:00
DESCRIPTION:Predmet: Thermal and nuclear power systems (TJEP)\, Lectures (
 P)\nLetniki: Energy engineering (PAP-2)\nIzvajalci: Andrej Senegačnik\nPr
 ostor: Lecture hall II/3A
END:VEVENT
BEGIN:VEVENT
SUMMARY:Thermal and nuclear power systems (TJEP)\, Lectures (P)
DTSTART;TZID=Europe/Ljubljana:20240528T113000
DTEND;TZID=Europe/Ljubljana:20240528T133000
DTSTAMP:20260421T203252Z
UID:fs-AFLABS-URNIK:srecanje:3859-2024-05-28 11:30:00+02:00
DESCRIPTION:Predmet: Thermal and nuclear power systems (TJEP)\, Lectures (
 P)\nLetniki: Energy engineering (PAP-2)\nIzvajalci: Andrej Senegačnik\nPr
 ostor: Lecture hall II/3A
END:VEVENT
BEGIN:VEVENT
SUMMARY:Chemical Energy Carriers (CECE)\, Lectures (P)
DTSTART;TZID=Europe/Ljubljana:20240220T140000
DTEND;TZID=Europe/Ljubljana:20240220T160000
DTSTAMP:20260421T203252Z
UID:fs-AFLABS-URNIK:srecanje:6115-2024-02-20 14:00:00+01:00
DESCRIPTION:Predmet: Chemical Energy Carriers (CECE)\, Lectures (P)\nLetni
 ki: Erasmus (Erasmus)\nIzvajalci: Andrej Senegačnik\nProstor: Lecture hal
 l I/4A
END:VEVENT
BEGIN:VEVENT
SUMMARY:Chemical Energy Carriers (CECE)\, Lectures (P)
DTSTART;TZID=Europe/Ljubljana:20240227T140000
DTEND;TZID=Europe/Ljubljana:20240227T160000
DTSTAMP:20260421T203252Z
UID:fs-AFLABS-URNIK:srecanje:6115-2024-02-27 14:00:00+01:00
DESCRIPTION:Predmet: Chemical Energy Carriers (CECE)\, Lectures (P)\nLetni
 ki: Erasmus (Erasmus)\nIzvajalci: Andrej Senegačnik\nProstor: Lecture hal
 l I/4A
END:VEVENT
BEGIN:VEVENT
SUMMARY:Chemical Energy Carriers (CECE)\, Lectures (P)
DTSTART;TZID=Europe/Ljubljana:20240305T140000
DTEND;TZID=Europe/Ljubljana:20240305T160000
DTSTAMP:20260421T203252Z
UID:fs-AFLABS-URNIK:srecanje:6115-2024-03-05 14:00:00+01:00
DESCRIPTION:Predmet: Chemical Energy Carriers (CECE)\, Lectures (P)\nLetni
 ki: Erasmus (Erasmus)\nIzvajalci: Andrej Senegačnik\nProstor: Lecture hal
 l I/4A
END:VEVENT
BEGIN:VEVENT
SUMMARY:Chemical Energy Carriers (CECE)\, Lectures (P)
DTSTART;TZID=Europe/Ljubljana:20240312T140000
DTEND;TZID=Europe/Ljubljana:20240312T160000
DTSTAMP:20260421T203252Z
UID:fs-AFLABS-URNIK:srecanje:6115-2024-03-12 14:00:00+01:00
DESCRIPTION:Predmet: Chemical Energy Carriers (CECE)\, Lectures (P)\nLetni
 ki: Erasmus (Erasmus)\nIzvajalci: Andrej Senegačnik\nProstor: Lecture hal
 l I/4A
END:VEVENT
BEGIN:VEVENT
SUMMARY:Chemical Energy Carriers (CECE)\, Lectures (P)
DTSTART;TZID=Europe/Ljubljana:20240319T140000
DTEND;TZID=Europe/Ljubljana:20240319T160000
DTSTAMP:20260421T203252Z
UID:fs-AFLABS-URNIK:srecanje:6115-2024-03-19 14:00:00+01:00
DESCRIPTION:Predmet: Chemical Energy Carriers (CECE)\, Lectures (P)\nLetni
 ki: Erasmus (Erasmus)\nIzvajalci: Andrej Senegačnik\nProstor: Lecture hal
 l I/4A
END:VEVENT
BEGIN:VEVENT
SUMMARY:Chemical Energy Carriers (CECE)\, Lectures (P)
DTSTART;TZID=Europe/Ljubljana:20240326T140000
DTEND;TZID=Europe/Ljubljana:20240326T160000
DTSTAMP:20260421T203252Z
UID:fs-AFLABS-URNIK:srecanje:6115-2024-03-26 14:00:00+01:00
DESCRIPTION:Predmet: Chemical Energy Carriers (CECE)\, Lectures (P)\nLetni
 ki: Erasmus (Erasmus)\nIzvajalci: Andrej Senegačnik\nProstor: Lecture hal
 l I/4A
END:VEVENT
BEGIN:VEVENT
SUMMARY:Chemical Energy Carriers (CECE)\, Lectures (P)
DTSTART;TZID=Europe/Ljubljana:20240402T140000
DTEND;TZID=Europe/Ljubljana:20240402T160000
DTSTAMP:20260421T203252Z
UID:fs-AFLABS-URNIK:srecanje:6115-2024-04-02 14:00:00+02:00
DESCRIPTION:Predmet: Chemical Energy Carriers (CECE)\, Lectures (P)\nLetni
 ki: Erasmus (Erasmus)\nIzvajalci: Andrej Senegačnik\nProstor: Lecture hal
 l I/4A
END:VEVENT
BEGIN:VEVENT
SUMMARY:Chemical Energy Carriers (CECE)\, Lectures (P)
DTSTART;TZID=Europe/Ljubljana:20240409T140000
DTEND;TZID=Europe/Ljubljana:20240409T160000
DTSTAMP:20260421T203252Z
UID:fs-AFLABS-URNIK:srecanje:6115-2024-04-09 14:00:00+02:00
DESCRIPTION:Predmet: Chemical Energy Carriers (CECE)\, Lectures (P)\nLetni
 ki: Erasmus (Erasmus)\nIzvajalci: Andrej Senegačnik\nProstor: Lecture hal
 l I/4A
END:VEVENT
BEGIN:VEVENT
SUMMARY:Chemical Energy Carriers (CECE)\, Lectures (P)
DTSTART;TZID=Europe/Ljubljana:20240416T140000
DTEND;TZID=Europe/Ljubljana:20240416T160000
DTSTAMP:20260421T203252Z
UID:fs-AFLABS-URNIK:srecanje:6115-2024-04-16 14:00:00+02:00
DESCRIPTION:Predmet: Chemical Energy Carriers (CECE)\, Lectures (P)\nLetni
 ki: Erasmus (Erasmus)\nIzvajalci: Andrej Senegačnik\nProstor: Lecture hal
 l I/4A
END:VEVENT
BEGIN:VEVENT
SUMMARY:Chemical Energy Carriers (CECE)\, Lectures (P)
DTSTART;TZID=Europe/Ljubljana:20240423T140000
DTEND;TZID=Europe/Ljubljana:20240423T160000
DTSTAMP:20260421T203252Z
UID:fs-AFLABS-URNIK:srecanje:6115-2024-04-23 14:00:00+02:00
DESCRIPTION:Predmet: Chemical Energy Carriers (CECE)\, Lectures (P)\nLetni
 ki: Erasmus (Erasmus)\nIzvajalci: Andrej Senegačnik\nProstor: Lecture hal
 l I/4A
END:VEVENT
BEGIN:VEVENT
SUMMARY:Chemical Energy Carriers (CECE)\, Lectures (P)
DTSTART;TZID=Europe/Ljubljana:20240430T140000
DTEND;TZID=Europe/Ljubljana:20240430T160000
DTSTAMP:20260421T203252Z
UID:fs-AFLABS-URNIK:srecanje:6115-2024-04-30 14:00:00+02:00
DESCRIPTION:Predmet: Chemical Energy Carriers (CECE)\, Lectures (P)\nLetni
 ki: Erasmus (Erasmus)\nIzvajalci: Andrej Senegačnik\nProstor: Lecture hal
 l I/4A
END:VEVENT
BEGIN:VEVENT
SUMMARY:Chemical Energy Carriers (CECE)\, Lectures (P)
DTSTART;TZID=Europe/Ljubljana:20240507T140000
DTEND;TZID=Europe/Ljubljana:20240507T160000
DTSTAMP:20260421T203252Z
UID:fs-AFLABS-URNIK:srecanje:6115-2024-05-07 14:00:00+02:00
DESCRIPTION:Predmet: Chemical Energy Carriers (CECE)\, Lectures (P)\nLetni
 ki: Erasmus (Erasmus)\nIzvajalci: Andrej Senegačnik\nProstor: Lecture hal
 l I/4A
END:VEVENT
BEGIN:VEVENT
SUMMARY:Chemical Energy Carriers (CECE)\, Lectures (P)
DTSTART;TZID=Europe/Ljubljana:20240514T140000
DTEND;TZID=Europe/Ljubljana:20240514T160000
DTSTAMP:20260421T203252Z
UID:fs-AFLABS-URNIK:srecanje:6115-2024-05-14 14:00:00+02:00
DESCRIPTION:Predmet: Chemical Energy Carriers (CECE)\, Lectures (P)\nLetni
 ki: Erasmus (Erasmus)\nIzvajalci: Andrej Senegačnik\nProstor: Lecture hal
 l I/4A
END:VEVENT
BEGIN:VEVENT
SUMMARY:Chemical Energy Carriers (CECE)\, Lectures (P)
DTSTART;TZID=Europe/Ljubljana:20240521T140000
DTEND;TZID=Europe/Ljubljana:20240521T160000
DTSTAMP:20260421T203252Z
UID:fs-AFLABS-URNIK:srecanje:6115-2024-05-21 14:00:00+02:00
DESCRIPTION:Predmet: Chemical Energy Carriers (CECE)\, Lectures (P)\nLetni
 ki: Erasmus (Erasmus)\nIzvajalci: Andrej Senegačnik\nProstor: Lecture hal
 l I/4A
END:VEVENT
BEGIN:VEVENT
SUMMARY:Chemical Energy Carriers (CECE)\, Lectures (P)
DTSTART;TZID=Europe/Ljubljana:20240528T140000
DTEND;TZID=Europe/Ljubljana:20240528T160000
DTSTAMP:20260421T203252Z
UID:fs-AFLABS-URNIK:srecanje:6115-2024-05-28 14:00:00+02:00
DESCRIPTION:Predmet: Chemical Energy Carriers (CECE)\, Lectures (P)\nLetni
 ki: Erasmus (Erasmus)\nIzvajalci: Andrej Senegačnik\nProstor: Lecture hal
 l I/4A
END:VEVENT
BEGIN:VEVENT
SUMMARY:Chemical Energy Carriers (CECE)\, Lecture exercises (VP)
DTSTART;TZID=Europe/Ljubljana:20240220T093000
DTEND;TZID=Europe/Ljubljana:20240220T113000
DTSTAMP:20260421T203252Z
UID:fs-AFLABS-URNIK:srecanje:6125-2024-02-20 09:30:00+01:00
DESCRIPTION:Predmet: Chemical Energy Carriers (CECE)\, Lecture exercises (
 VP)\nLetniki: Erasmus (Erasmus)\nIzvajalci: Andrej Senegačnik\nProstor: L
 aboratory LTE SI-60A
END:VEVENT
BEGIN:VEVENT
SUMMARY:Chemical Energy Carriers (CECE)\, Lecture exercises (VP)
DTSTART;TZID=Europe/Ljubljana:20240227T093000
DTEND;TZID=Europe/Ljubljana:20240227T113000
DTSTAMP:20260421T203252Z
UID:fs-AFLABS-URNIK:srecanje:6125-2024-02-27 09:30:00+01:00
DESCRIPTION:Predmet: Chemical Energy Carriers (CECE)\, Lecture exercises (
 VP)\nLetniki: Erasmus (Erasmus)\nIzvajalci: Andrej Senegačnik\nProstor: L
 aboratory LTE SI-60A
END:VEVENT
BEGIN:VEVENT
SUMMARY:Chemical Energy Carriers (CECE)\, Lecture exercises (VP)
DTSTART;TZID=Europe/Ljubljana:20240305T093000
DTEND;TZID=Europe/Ljubljana:20240305T113000
DTSTAMP:20260421T203252Z
UID:fs-AFLABS-URNIK:srecanje:6125-2024-03-05 09:30:00+01:00
DESCRIPTION:Predmet: Chemical Energy Carriers (CECE)\, Lecture exercises (
 VP)\nLetniki: Erasmus (Erasmus)\nIzvajalci: Andrej Senegačnik\nProstor: L
 aboratory LTE SI-60A
END:VEVENT
BEGIN:VEVENT
SUMMARY:Chemical Energy Carriers (CECE)\, Lecture exercises (VP)
DTSTART;TZID=Europe/Ljubljana:20240319T093000
DTEND;TZID=Europe/Ljubljana:20240319T113000
DTSTAMP:20260421T203252Z
UID:fs-AFLABS-URNIK:srecanje:6125-2024-03-19 09:30:00+01:00
DESCRIPTION:Predmet: Chemical Energy Carriers (CECE)\, Lecture exercises (
 VP)\nLetniki: Erasmus (Erasmus)\nIzvajalci: Andrej Senegačnik\nProstor: L
 aboratory LTE SI-60A
END:VEVENT
BEGIN:VEVENT
SUMMARY:Chemical Energy Carriers (CECE)\, Lecture exercises (VP)
DTSTART;TZID=Europe/Ljubljana:20240326T093000
DTEND;TZID=Europe/Ljubljana:20240326T113000
DTSTAMP:20260421T203252Z
UID:fs-AFLABS-URNIK:srecanje:6125-2024-03-26 09:30:00+01:00
DESCRIPTION:Predmet: Chemical Energy Carriers (CECE)\, Lecture exercises (
 VP)\nLetniki: Erasmus (Erasmus)\nIzvajalci: Andrej Senegačnik\nProstor: L
 aboratory LTE SI-60A
END:VEVENT
BEGIN:VEVENT
SUMMARY:Chemical Energy Carriers (CECE)\, Lecture exercises (VP)
DTSTART;TZID=Europe/Ljubljana:20240416T093000
DTEND;TZID=Europe/Ljubljana:20240416T113000
DTSTAMP:20260421T203252Z
UID:fs-AFLABS-URNIK:srecanje:6125-2024-04-16 09:30:00+02:00
DESCRIPTION:Predmet: Chemical Energy Carriers (CECE)\, Lecture exercises (
 VP)\nLetniki: Erasmus (Erasmus)\nIzvajalci: Andrej Senegačnik\nProstor: L
 aboratory LTE SI-60A
END:VEVENT
BEGIN:VEVENT
SUMMARY:Chemical Energy Carriers (CECE)\, Lecture exercises (VP)
DTSTART;TZID=Europe/Ljubljana:20240423T093000
DTEND;TZID=Europe/Ljubljana:20240423T113000
DTSTAMP:20260421T203252Z
UID:fs-AFLABS-URNIK:srecanje:6125-2024-04-23 09:30:00+02:00
DESCRIPTION:Predmet: Chemical Energy Carriers (CECE)\, Lecture exercises (
 VP)\nLetniki: Erasmus (Erasmus)\nIzvajalci: Andrej Senegačnik\nProstor: L
 aboratory LTE SI-60A
END:VEVENT
BEGIN:VEVENT
SUMMARY:Chemical Energy Carriers (CECE)\, Lecture exercises (VP)
DTSTART;TZID=Europe/Ljubljana:20240514T093000
DTEND;TZID=Europe/Ljubljana:20240514T113000
DTSTAMP:20260421T203252Z
UID:fs-AFLABS-URNIK:srecanje:6125-2024-05-14 09:30:00+02:00
DESCRIPTION:Predmet: Chemical Energy Carriers (CECE)\, Lecture exercises (
 VP)\nLetniki: Erasmus (Erasmus)\nIzvajalci: Andrej Senegačnik\nProstor: L
 aboratory LTE SI-60A
END:VEVENT
BEGIN:VEVENT
SUMMARY:Chemical Energy Carriers (CECE)\, Lecture exercises (VP)
DTSTART;TZID=Europe/Ljubljana:20240521T093000
DTEND;TZID=Europe/Ljubljana:20240521T113000
DTSTAMP:20260421T203252Z
UID:fs-AFLABS-URNIK:srecanje:6125-2024-05-21 09:30:00+02:00
DESCRIPTION:Predmet: Chemical Energy Carriers (CECE)\, Lecture exercises (
 VP)\nLetniki: Erasmus (Erasmus)\nIzvajalci: Andrej Senegačnik\nProstor: L
 aboratory LTE SI-60A
END:VEVENT
BEGIN:VEVENT
SUMMARY:Chemical Energy Carriers (CECE)\, Laboratory excercises (VL)
DTSTART;TZID=Europe/Ljubljana:20240312T093000
DTEND;TZID=Europe/Ljubljana:20240312T113000
DTSTAMP:20260421T203252Z
UID:fs-AFLABS-URNIK:srecanje:9254-2024-03-12 09:30:00+01:00
DESCRIPTION:Predmet: Chemical Energy Carriers (CECE)\, Laboratory excercis
 es (VL)\nLetniki: Erasmus (Erasmus)\nIzvajalci: Andrej Senegačnik\nProsto
 r: Laboratory LTE SI-60A
END:VEVENT
BEGIN:VEVENT
SUMMARY:Chemical Energy Carriers (CECE)\, Laboratory excercises (VL)
DTSTART;TZID=Europe/Ljubljana:20240402T093000
DTEND;TZID=Europe/Ljubljana:20240402T113000
DTSTAMP:20260421T203252Z
UID:fs-AFLABS-URNIK:srecanje:9254-2024-04-02 09:30:00+02:00
DESCRIPTION:Predmet: Chemical Energy Carriers (CECE)\, Laboratory excercis
 es (VL)\nLetniki: Erasmus (Erasmus)\nIzvajalci: Andrej Senegačnik\nProsto
 r: Laboratory LTE SI-60A
END:VEVENT
BEGIN:VEVENT
SUMMARY:Chemical Energy Carriers (CECE)\, Laboratory excercises (VL)
DTSTART;TZID=Europe/Ljubljana:20240409T093000
DTEND;TZID=Europe/Ljubljana:20240409T113000
DTSTAMP:20260421T203252Z
UID:fs-AFLABS-URNIK:srecanje:9254-2024-04-09 09:30:00+02:00
DESCRIPTION:Predmet: Chemical Energy Carriers (CECE)\, Laboratory excercis
 es (VL)\nLetniki: Erasmus (Erasmus)\nIzvajalci: Andrej Senegačnik\nProsto
 r: Laboratory LTE SI-60A
END:VEVENT
BEGIN:VEVENT
SUMMARY:Chemical Energy Carriers (CECE)\, Laboratory excercises (VL)
DTSTART;TZID=Europe/Ljubljana:20240430T093000
DTEND;TZID=Europe/Ljubljana:20240430T113000
DTSTAMP:20260421T203252Z
UID:fs-AFLABS-URNIK:srecanje:9254-2024-04-30 09:30:00+02:00
DESCRIPTION:Predmet: Chemical Energy Carriers (CECE)\, Laboratory excercis
 es (VL)\nLetniki: Erasmus (Erasmus)\nIzvajalci: Andrej Senegačnik\nProsto
 r: Laboratory LTE SI-60A
END:VEVENT
BEGIN:VEVENT
SUMMARY:Chemical Energy Carriers (CECE)\, Laboratory excercises (VL)
DTSTART;TZID=Europe/Ljubljana:20240507T093000
DTEND;TZID=Europe/Ljubljana:20240507T113000
DTSTAMP:20260421T203252Z
UID:fs-AFLABS-URNIK:srecanje:9254-2024-05-07 09:30:00+02:00
DESCRIPTION:Predmet: Chemical Energy Carriers (CECE)\, Laboratory excercis
 es (VL)\nLetniki: Erasmus (Erasmus)\nIzvajalci: Andrej Senegačnik\nProsto
 r: Laboratory LTE SI-60A
END:VEVENT
BEGIN:VEVENT
SUMMARY:Chemical Energy Carriers (CECE)\, Laboratory excercises (VL)
DTSTART;TZID=Europe/Ljubljana:20240528T093000
DTEND;TZID=Europe/Ljubljana:20240528T113000
DTSTAMP:20260421T203252Z
UID:fs-AFLABS-URNIK:srecanje:9254-2024-05-28 09:30:00+02:00
DESCRIPTION:Predmet: Chemical Energy Carriers (CECE)\, Laboratory excercis
 es (VL)\nLetniki: Erasmus (Erasmus)\nIzvajalci: Andrej Senegačnik\nProsto
 r: Laboratory LTE SI-60A
END:VEVENT
BEGIN:VEVENT
SUMMARY:Izredni izpitni rok Energetski sistemi
DTSTART;TZID=Europe/Ljubljana:20240508T180000
DTEND;TZID=Europe/Ljubljana:20240508T200000
DTSTAMP:20260421T203252Z
UID:fs-AFLABS-URNIK:rezervacija:4798
CATEGORIES:Reservation
COLOR:royalblue
DESCRIPTION:Predmeti: \nLetniki: \nIzvajalci: Valentina Hajdinjak\, Andrej
  Senegačnik\nProstori: Lecture hall II/3A
LOCATION:Lecture hall II/3A
ORGANIZER:Valentina Hajdinjak, Andrej Senegačnik
X-WR-TIMEZONE:Europe/Ljubljana
END:VEVENT
END:VCALENDAR
