BEGIN:VCALENDAR
VERSION:2.0
PRODID:-//AFLabs urnik izvoz - fs//aflabs.si//SI
NAME:UL FS Urnik
X-WR-CALNAME:UL FS Urnik
DTSTAMP:20260426T034312Z
REFRESH-INTERVAL:PT1H
SOURCE:https://urnik.fs.uni-lj.si/en/teacher/847/?day=2025-07-21&export=1
URL:https://urnik.fs.uni-lj.si/en/teacher/847/?day=2025-07-21&export=1
X-PUBLISHED-TTL:PT1H
X-WR-TIMEZONE:Europe/Ljubljana
BEGIN:VTIMEZONE
TZID:Europe/Ljubljana
BEGIN:DAYLIGHT
DTSTART:20260329T020000
RDATE:20260329T020000
RDATE:20270328T020000
TZNAME:CEST
TZOFFSETFROM:+0100
TZOFFSETTO:+0200
END:DAYLIGHT
BEGIN:STANDARD
DTSTART:20261025T030000
RDATE:20261025T030000
RDATE:20271031T030000
TZNAME:CET
TZOFFSETFROM:+0200
TZOFFSETTO:+0100
END:STANDARD
END:VTIMEZONE
BEGIN:VEVENT
SUMMARY:Izpit: Chemical energy carriers (6006-M)
DTSTART;TZID=Europe/Ljubljana:20250623T150000
DTEND;TZID=Europe/Ljubljana:20250623T170000
DTSTAMP:20260426T034312Z
UID:fs-AFLABS-URNIK:rezervacija:6435
CATEGORIES:Reservation
COLOR:royalblue
DESCRIPTION:Predmeti: \nLetniki: \nIzvajalci: Andrej Senegačnik\nProstori
 : Lecture hall IV/4
LOCATION:Lecture hall IV/4
ORGANIZER:Andrej Senegačnik
X-WR-TIMEZONE:Europe/Ljubljana
END:VEVENT
BEGIN:VEVENT
SUMMARY:Izpit: Energetska proizvodnja (3024)
DTSTART;TZID=Europe/Ljubljana:20250620T120000
DTEND;TZID=Europe/Ljubljana:20250620T140000
DTSTAMP:20260426T034312Z
UID:fs-AFLABS-URNIK:rezervacija:6551
CATEGORIES:Reservation
COLOR:royalblue
DESCRIPTION:Predmeti: \nLetniki: \nIzvajalci: Andrej Senegačnik\nProstori
 : Lecture hall III/3A
LOCATION:Lecture hall III/3A
ORGANIZER:Andrej Senegačnik
X-WR-TIMEZONE:Europe/Ljubljana
END:VEVENT
BEGIN:VEVENT
SUMMARY:Izpit: Energetska proizvodnja (3024)
DTSTART;TZID=Europe/Ljubljana:20250814T080000
DTEND;TZID=Europe/Ljubljana:20250814T100000
DTSTAMP:20260426T034312Z
UID:fs-AFLABS-URNIK:rezervacija:6552
CATEGORIES:Reservation
COLOR:royalblue
DESCRIPTION:Predmeti: \nLetniki: \nIzvajalci: Andrej Senegačnik\nProstori
 : Lecture hall II/5
LOCATION:Lecture hall II/5
ORGANIZER:Andrej Senegačnik
X-WR-TIMEZONE:Europe/Ljubljana
END:VEVENT
BEGIN:VEVENT
SUMMARY:Izpit: Generatorji toplote (6214)
DTSTART;TZID=Europe/Ljubljana:20250813T110000
DTEND;TZID=Europe/Ljubljana:20250813T130000
DTSTAMP:20260426T034312Z
UID:fs-AFLABS-URNIK:rezervacija:6607
CATEGORIES:Reservation
COLOR:royalblue
DESCRIPTION:Predmeti: \nLetniki: \nIzvajalci: Andrej Senegačnik\nProstori
 : Lecture hall II/3B
LOCATION:Lecture hall II/3B
ORGANIZER:Andrej Senegačnik
X-WR-TIMEZONE:Europe/Ljubljana
END:VEVENT
BEGIN:VEVENT
SUMMARY:Izpit: Goriva in zgorevanje (6215)
DTSTART;TZID=Europe/Ljubljana:20250619T110000
DTEND;TZID=Europe/Ljubljana:20250619T130000
DTSTAMP:20260426T034312Z
UID:fs-AFLABS-URNIK:rezervacija:6621
CATEGORIES:Reservation
COLOR:royalblue
DESCRIPTION:Predmeti: \nLetniki: \nIzvajalci: Andrej Senegačnik\nProstori
 : Lecture hall IV/3A
LOCATION:Lecture hall IV/3A
ORGANIZER:Andrej Senegačnik
X-WR-TIMEZONE:Europe/Ljubljana
END:VEVENT
BEGIN:VEVENT
SUMMARY:Izpit: Goriva in zgorevanje (6215)
DTSTART;TZID=Europe/Ljubljana:20250825T100000
DTEND;TZID=Europe/Ljubljana:20250825T120000
DTSTAMP:20260426T034312Z
UID:fs-AFLABS-URNIK:rezervacija:6622
CATEGORIES:Reservation
COLOR:royalblue
DESCRIPTION:Predmeti: \nLetniki: \nIzvajalci: Andrej Senegačnik\nProstori
 : Lecture hall IV/4
LOCATION:Lecture hall IV/4
ORGANIZER:Andrej Senegačnik
X-WR-TIMEZONE:Europe/Ljubljana
END:VEVENT
BEGIN:VEVENT
SUMMARY:Izpit: Kemični nosilci energije (6006-M)
DTSTART;TZID=Europe/Ljubljana:20250623T150000
DTEND;TZID=Europe/Ljubljana:20250623T170000
DTSTAMP:20260426T034312Z
UID:fs-AFLABS-URNIK:rezervacija:6743
CATEGORIES:Reservation
COLOR:royalblue
DESCRIPTION:Predmeti: \nLetniki: \nIzvajalci: Andrej Senegačnik\nProstori
 : Lecture hall IV/4
LOCATION:Lecture hall IV/4
ORGANIZER:Andrej Senegačnik
X-WR-TIMEZONE:Europe/Ljubljana
END:VEVENT
BEGIN:VEVENT
SUMMARY:Izpit: Kemični nosilci energije (6006-M) [dve oceni]
DTSTART;TZID=Europe/Ljubljana:20250623T150000
DTEND;TZID=Europe/Ljubljana:20250623T170000
DTSTAMP:20260426T034312Z
UID:fs-AFLABS-URNIK:rezervacija:6746
CATEGORIES:Reservation
COLOR:royalblue
DESCRIPTION:Predmeti: \nLetniki: \nIzvajalci: Andrej Senegačnik\nProstori
 : Lecture hall IV/4
LOCATION:Lecture hall IV/4
ORGANIZER:Andrej Senegačnik
X-WR-TIMEZONE:Europe/Ljubljana
END:VEVENT
BEGIN:VEVENT
SUMMARY:Izpit: Napredni procesi zgorevanja (6002-M)
DTSTART;TZID=Europe/Ljubljana:20250825T100000
DTEND;TZID=Europe/Ljubljana:20250825T120000
DTSTAMP:20260426T034312Z
UID:fs-AFLABS-URNIK:rezervacija:7141
CATEGORIES:Reservation
COLOR:royalblue
DESCRIPTION:Predmeti: \nLetniki: \nIzvajalci: Andrej Senegačnik\nProstori
 : Lecture hall IV/4
LOCATION:Lecture hall IV/4
ORGANIZER:Andrej Senegačnik
X-WR-TIMEZONE:Europe/Ljubljana
END:VEVENT
BEGIN:VEVENT
SUMMARY:Izpit: Napredni procesi zgorevanja (6002-M) [dve oceni]
DTSTART;TZID=Europe/Ljubljana:20250825T100000
DTEND;TZID=Europe/Ljubljana:20250825T120000
DTSTAMP:20260426T034312Z
UID:fs-AFLABS-URNIK:rezervacija:7144
CATEGORIES:Reservation
COLOR:royalblue
DESCRIPTION:Predmeti: \nLetniki: \nIzvajalci: Andrej Senegačnik\nProstori
 : Lecture hall IV/4
LOCATION:Lecture hall IV/4
ORGANIZER:Andrej Senegačnik
X-WR-TIMEZONE:Europe/Ljubljana
END:VEVENT
BEGIN:VEVENT
SUMMARY:Izpit: Termo in jedrski energetski sistemi (3024-V) [dve oceni]
DTSTART;TZID=Europe/Ljubljana:20250626T100000
DTEND;TZID=Europe/Ljubljana:20250626T120000
DTSTAMP:20260426T034312Z
UID:fs-AFLABS-URNIK:rezervacija:7681
CATEGORIES:Reservation
COLOR:royalblue
DESCRIPTION:Predmeti: \nLetniki: \nIzvajalci: Andrej Senegačnik\nProstori
 : Lecture hall V/2
LOCATION:Lecture hall V/2
ORGANIZER:Andrej Senegačnik
X-WR-TIMEZONE:Europe/Ljubljana
END:VEVENT
BEGIN:VEVENT
SUMMARY:Izpit: Termo in jedrski energetski sistemi (3024-V) [dve oceni]
DTSTART;TZID=Europe/Ljubljana:20250821T130000
DTEND;TZID=Europe/Ljubljana:20250821T150000
DTSTAMP:20260426T034312Z
UID:fs-AFLABS-URNIK:rezervacija:7682
CATEGORIES:Reservation
COLOR:royalblue
DESCRIPTION:Predmeti: \nLetniki: \nIzvajalci: Andrej Senegačnik\nProstori
 : Lecture hall III/2
LOCATION:Lecture hall III/2
ORGANIZER:Andrej Senegačnik
X-WR-TIMEZONE:Europe/Ljubljana
END:VEVENT
BEGIN:VEVENT
SUMMARY:Izpit: Učinkovitost in zanesljivost energetskih sistemov (3055)
DTSTART;TZID=Europe/Ljubljana:20250616T120000
DTEND;TZID=Europe/Ljubljana:20250616T140000
DTSTAMP:20260426T034312Z
UID:fs-AFLABS-URNIK:rezervacija:7766
CATEGORIES:Reservation
COLOR:royalblue
DESCRIPTION:Predmeti: \nLetniki: \nIzvajalci: Andrej Senegačnik\nProstori
 : Lecture hall III/3A
LOCATION:Lecture hall III/3A
ORGANIZER:Andrej Senegačnik
X-WR-TIMEZONE:Europe/Ljubljana
END:VEVENT
BEGIN:VEVENT
SUMMARY:Izpit: Učinkovitost in zanesljivost energetskih sistemov (3055)
DTSTART;TZID=Europe/Ljubljana:20250818T120000
DTEND;TZID=Europe/Ljubljana:20250818T140000
DTSTAMP:20260426T034312Z
UID:fs-AFLABS-URNIK:rezervacija:7767
CATEGORIES:Reservation
COLOR:royalblue
DESCRIPTION:Predmeti: \nLetniki: \nIzvajalci: Andrej Senegačnik\nProstori
 : Lecture hall III/3A
LOCATION:Lecture hall III/3A
ORGANIZER:Andrej Senegačnik
X-WR-TIMEZONE:Europe/Ljubljana
END:VEVENT
END:VCALENDAR
