BEGIN:VCALENDAR
VERSION:2.0
PRODID:-//AFLabs urnik izvoz - fs//aflabs.si//SI
NAME:UL FS Urnik
X-WR-CALNAME:UL FS Urnik
DTSTAMP:20260423T201419Z
REFRESH-INTERVAL:PT1H
SOURCE:https://urnik.fs.uni-lj.si/en/teacher/853/?day=2024-11-04&export=1
URL:https://urnik.fs.uni-lj.si/en/teacher/853/?day=2024-11-04&export=1
X-PUBLISHED-TTL:PT1H
X-WR-TIMEZONE:Europe/Ljubljana
BEGIN:VTIMEZONE
TZID:Europe/Ljubljana
BEGIN:DAYLIGHT
DTSTART:20260329T020000
RDATE:20260329T020000
RDATE:20270328T020000
TZNAME:CEST
TZOFFSETFROM:+0100
TZOFFSETTO:+0200
END:DAYLIGHT
BEGIN:STANDARD
DTSTART:20261025T030000
RDATE:20261025T030000
RDATE:20271031T030000
TZNAME:CET
TZOFFSETFROM:+0200
TZOFFSETTO:+0100
END:STANDARD
END:VTIMEZONE
BEGIN:VEVENT
SUMMARY:Advanced dynamics (VSDM)\, Lectures (P)
DTSTART;TZID=Europe/Ljubljana:20241001T120000
DTEND;TZID=Europe/Ljubljana:20241001T140000
DTSTAMP:20260423T201419Z
UID:fs-AFLABS-URNIK:srecanje:12630-2024-10-01 12:00:00+02:00
DESCRIPTION:Predmet: Advanced dynamics (VSDM)\, Lectures (P)\nLetniki: Mec
 hanics (MAG-1)\nIzvajalci: Janko Slavič\nProstor: Lecture hall I/4A
END:VEVENT
BEGIN:VEVENT
SUMMARY:Advanced dynamics (VSDM)\, Lectures (P)
DTSTART;TZID=Europe/Ljubljana:20241008T120000
DTEND;TZID=Europe/Ljubljana:20241008T140000
DTSTAMP:20260423T201419Z
UID:fs-AFLABS-URNIK:srecanje:12630-2024-10-08 12:00:00+02:00
DESCRIPTION:Predmet: Advanced dynamics (VSDM)\, Lectures (P)\nLetniki: Mec
 hanics (MAG-1)\nIzvajalci: Janko Slavič\nProstor: Lecture hall I/4A
END:VEVENT
BEGIN:VEVENT
SUMMARY:Advanced dynamics (VSDM)\, Lectures (P)
DTSTART;TZID=Europe/Ljubljana:20241015T120000
DTEND;TZID=Europe/Ljubljana:20241015T140000
DTSTAMP:20260423T201419Z
UID:fs-AFLABS-URNIK:srecanje:12630-2024-10-15 12:00:00+02:00
DESCRIPTION:Predmet: Advanced dynamics (VSDM)\, Lectures (P)\nLetniki: Mec
 hanics (MAG-1)\nIzvajalci: Janko Slavič\nProstor: Lecture hall I/4A
END:VEVENT
BEGIN:VEVENT
SUMMARY:Advanced dynamics (VSDM)\, Lectures (P)
DTSTART;TZID=Europe/Ljubljana:20241022T120000
DTEND;TZID=Europe/Ljubljana:20241022T140000
DTSTAMP:20260423T201419Z
UID:fs-AFLABS-URNIK:srecanje:12630-2024-10-22 12:00:00+02:00
DESCRIPTION:Predmet: Advanced dynamics (VSDM)\, Lectures (P)\nLetniki: Mec
 hanics (MAG-1)\nIzvajalci: Janko Slavič\nProstor: Lecture hall I/4A
END:VEVENT
BEGIN:VEVENT
SUMMARY:Advanced dynamics (VSDM)\, Lectures (P)
DTSTART;TZID=Europe/Ljubljana:20241105T120000
DTEND;TZID=Europe/Ljubljana:20241105T140000
DTSTAMP:20260423T201419Z
UID:fs-AFLABS-URNIK:srecanje:12630-2024-11-05 12:00:00+01:00
DESCRIPTION:Predmet: Advanced dynamics (VSDM)\, Lectures (P)\nLetniki: Mec
 hanics (MAG-1)\nIzvajalci: Janko Slavič\nProstor: Lecture hall I/4A
END:VEVENT
BEGIN:VEVENT
SUMMARY:Advanced dynamics (VSDM)\, Lectures (P)
DTSTART;TZID=Europe/Ljubljana:20241112T120000
DTEND;TZID=Europe/Ljubljana:20241112T140000
DTSTAMP:20260423T201419Z
UID:fs-AFLABS-URNIK:srecanje:12630-2024-11-12 12:00:00+01:00
DESCRIPTION:Predmet: Advanced dynamics (VSDM)\, Lectures (P)\nLetniki: Mec
 hanics (MAG-1)\nIzvajalci: Janko Slavič\nProstor: Lecture hall I/4A
END:VEVENT
BEGIN:VEVENT
SUMMARY:Advanced dynamics (VSDM)\, Lectures (P)
DTSTART;TZID=Europe/Ljubljana:20241119T120000
DTEND;TZID=Europe/Ljubljana:20241119T140000
DTSTAMP:20260423T201419Z
UID:fs-AFLABS-URNIK:srecanje:12630-2024-11-19 12:00:00+01:00
DESCRIPTION:Predmet: Advanced dynamics (VSDM)\, Lectures (P)\nLetniki: Mec
 hanics (MAG-1)\nIzvajalci: Janko Slavič\nProstor: Lecture hall I/4A
END:VEVENT
BEGIN:VEVENT
SUMMARY:Advanced dynamics (VSDM)\, Lectures (P)
DTSTART;TZID=Europe/Ljubljana:20241126T120000
DTEND;TZID=Europe/Ljubljana:20241126T140000
DTSTAMP:20260423T201419Z
UID:fs-AFLABS-URNIK:srecanje:12630-2024-11-26 12:00:00+01:00
DESCRIPTION:Predmet: Advanced dynamics (VSDM)\, Lectures (P)\nLetniki: Mec
 hanics (MAG-1)\nIzvajalci: Janko Slavič\nProstor: Lecture hall I/4A
END:VEVENT
BEGIN:VEVENT
SUMMARY:Advanced dynamics (VSDM)\, Lectures (P)
DTSTART;TZID=Europe/Ljubljana:20241203T120000
DTEND;TZID=Europe/Ljubljana:20241203T140000
DTSTAMP:20260423T201419Z
UID:fs-AFLABS-URNIK:srecanje:12630-2024-12-03 12:00:00+01:00
DESCRIPTION:Predmet: Advanced dynamics (VSDM)\, Lectures (P)\nLetniki: Mec
 hanics (MAG-1)\nIzvajalci: Janko Slavič\nProstor: Lecture hall I/4A
END:VEVENT
BEGIN:VEVENT
SUMMARY:Advanced dynamics (VSDM)\, Lectures (P)
DTSTART;TZID=Europe/Ljubljana:20241210T120000
DTEND;TZID=Europe/Ljubljana:20241210T140000
DTSTAMP:20260423T201419Z
UID:fs-AFLABS-URNIK:srecanje:12630-2024-12-10 12:00:00+01:00
DESCRIPTION:Predmet: Advanced dynamics (VSDM)\, Lectures (P)\nLetniki: Mec
 hanics (MAG-1)\nIzvajalci: Janko Slavič\nProstor: Lecture hall I/4A
END:VEVENT
BEGIN:VEVENT
SUMMARY:Advanced dynamics (VSDM)\, Lectures (P)
DTSTART;TZID=Europe/Ljubljana:20241217T120000
DTEND;TZID=Europe/Ljubljana:20241217T140000
DTSTAMP:20260423T201419Z
UID:fs-AFLABS-URNIK:srecanje:12630-2024-12-17 12:00:00+01:00
DESCRIPTION:Predmet: Advanced dynamics (VSDM)\, Lectures (P)\nLetniki: Mec
 hanics (MAG-1)\nIzvajalci: Janko Slavič\nProstor: Lecture hall I/4A
END:VEVENT
BEGIN:VEVENT
SUMMARY:Advanced dynamics (VSDM)\, Lectures (P)
DTSTART;TZID=Europe/Ljubljana:20241224T120000
DTEND;TZID=Europe/Ljubljana:20241224T140000
DTSTAMP:20260423T201419Z
UID:fs-AFLABS-URNIK:srecanje:12630-2024-12-24 12:00:00+01:00
DESCRIPTION:Predmet: Advanced dynamics (VSDM)\, Lectures (P)\nLetniki: Mec
 hanics (MAG-1)\nIzvajalci: Janko Slavič\nProstor: Lecture hall I/4A
END:VEVENT
BEGIN:VEVENT
SUMMARY:Advanced dynamics (VSDM)\, Lectures (P)
DTSTART;TZID=Europe/Ljubljana:20250107T120000
DTEND;TZID=Europe/Ljubljana:20250107T140000
DTSTAMP:20260423T201419Z
UID:fs-AFLABS-URNIK:srecanje:12630-2025-01-07 12:00:00+01:00
DESCRIPTION:Predmet: Advanced dynamics (VSDM)\, Lectures (P)\nLetniki: Mec
 hanics (MAG-1)\nIzvajalci: Janko Slavič\nProstor: Lecture hall I/4A
END:VEVENT
BEGIN:VEVENT
SUMMARY:Advanced dynamics (VSDM)\, Lectures (P)
DTSTART;TZID=Europe/Ljubljana:20250114T120000
DTEND;TZID=Europe/Ljubljana:20250114T140000
DTSTAMP:20260423T201419Z
UID:fs-AFLABS-URNIK:srecanje:12630-2025-01-14 12:00:00+01:00
DESCRIPTION:Predmet: Advanced dynamics (VSDM)\, Lectures (P)\nLetniki: Mec
 hanics (MAG-1)\nIzvajalci: Janko Slavič\nProstor: Lecture hall I/4A
END:VEVENT
BEGIN:VEVENT
SUMMARY:Rigid body dynamics (DTTR)\, Lectures (P)
DTSTART;TZID=Europe/Ljubljana:20241002T080000
DTEND;TZID=Europe/Ljubljana:20241002T110000
DTSTAMP:20260423T201419Z
UID:fs-AFLABS-URNIK:srecanje:6439-2024-10-02 08:00:00+02:00
DESCRIPTION:Predmet: Rigid body dynamics (DTTR)\, Lectures (P)\nLetniki: R
 RP-2 (RRP-2)\nIzvajalci: Janko Slavič\nProstor: Lecture hall V/2
END:VEVENT
BEGIN:VEVENT
SUMMARY:Rigid body dynamics (DTTR)\, Lectures (P)
DTSTART;TZID=Europe/Ljubljana:20241009T080000
DTEND;TZID=Europe/Ljubljana:20241009T110000
DTSTAMP:20260423T201419Z
UID:fs-AFLABS-URNIK:srecanje:6439-2024-10-09 08:00:00+02:00
DESCRIPTION:Predmet: Rigid body dynamics (DTTR)\, Lectures (P)\nLetniki: R
 RP-2 (RRP-2)\nIzvajalci: Janko Slavič\nProstor: Lecture hall V/2
END:VEVENT
BEGIN:VEVENT
SUMMARY:Rigid body dynamics (DTTR)\, Lectures (P)
DTSTART;TZID=Europe/Ljubljana:20241016T080000
DTEND;TZID=Europe/Ljubljana:20241016T110000
DTSTAMP:20260423T201419Z
UID:fs-AFLABS-URNIK:srecanje:6439-2024-10-16 08:00:00+02:00
DESCRIPTION:Predmet: Rigid body dynamics (DTTR)\, Lectures (P)\nLetniki: R
 RP-2 (RRP-2)\nIzvajalci: Janko Slavič\nProstor: Lecture hall V/2
END:VEVENT
BEGIN:VEVENT
SUMMARY:Rigid body dynamics (DTTR)\, Lectures (P)
DTSTART;TZID=Europe/Ljubljana:20241023T080000
DTEND;TZID=Europe/Ljubljana:20241023T110000
DTSTAMP:20260423T201419Z
UID:fs-AFLABS-URNIK:srecanje:6439-2024-10-23 08:00:00+02:00
DESCRIPTION:Predmet: Rigid body dynamics (DTTR)\, Lectures (P)\nLetniki: R
 RP-2 (RRP-2)\nIzvajalci: Janko Slavič\nProstor: Lecture hall V/2
END:VEVENT
BEGIN:VEVENT
SUMMARY:Rigid body dynamics (DTTR)\, Lectures (P)
DTSTART;TZID=Europe/Ljubljana:20241030T080000
DTEND;TZID=Europe/Ljubljana:20241030T110000
DTSTAMP:20260423T201419Z
UID:fs-AFLABS-URNIK:srecanje:6439-2024-10-30 08:00:00+01:00
DESCRIPTION:Predmet: Rigid body dynamics (DTTR)\, Lectures (P)\nLetniki: R
 RP-2 (RRP-2)\nIzvajalci: Janko Slavič\nProstor: Lecture hall V/2
END:VEVENT
BEGIN:VEVENT
SUMMARY:Rigid body dynamics (DTTR)\, Lectures (P)
DTSTART;TZID=Europe/Ljubljana:20241106T080000
DTEND;TZID=Europe/Ljubljana:20241106T110000
DTSTAMP:20260423T201419Z
UID:fs-AFLABS-URNIK:srecanje:6439-2024-11-06 08:00:00+01:00
DESCRIPTION:Predmet: Rigid body dynamics (DTTR)\, Lectures (P)\nLetniki: R
 RP-2 (RRP-2)\nIzvajalci: Janko Slavič\nProstor: Lecture hall V/2
END:VEVENT
BEGIN:VEVENT
SUMMARY:Rigid body dynamics (DTTR)\, Lectures (P)
DTSTART;TZID=Europe/Ljubljana:20241113T080000
DTEND;TZID=Europe/Ljubljana:20241113T110000
DTSTAMP:20260423T201419Z
UID:fs-AFLABS-URNIK:srecanje:6439-2024-11-13 08:00:00+01:00
DESCRIPTION:Predmet: Rigid body dynamics (DTTR)\, Lectures (P)\nLetniki: R
 RP-2 (RRP-2)\nIzvajalci: Janko Slavič\nProstor: Lecture hall V/2
END:VEVENT
BEGIN:VEVENT
SUMMARY:Rigid body dynamics (DTTR)\, Lectures (P)
DTSTART;TZID=Europe/Ljubljana:20241120T080000
DTEND;TZID=Europe/Ljubljana:20241120T110000
DTSTAMP:20260423T201419Z
UID:fs-AFLABS-URNIK:srecanje:6439-2024-11-20 08:00:00+01:00
DESCRIPTION:Predmet: Rigid body dynamics (DTTR)\, Lectures (P)\nLetniki: R
 RP-2 (RRP-2)\nIzvajalci: Janko Slavič\nProstor: Lecture hall V/2
END:VEVENT
BEGIN:VEVENT
SUMMARY:Rigid body dynamics (DTTR)\, Lectures (P)
DTSTART;TZID=Europe/Ljubljana:20241127T080000
DTEND;TZID=Europe/Ljubljana:20241127T110000
DTSTAMP:20260423T201419Z
UID:fs-AFLABS-URNIK:srecanje:6439-2024-11-27 08:00:00+01:00
DESCRIPTION:Predmet: Rigid body dynamics (DTTR)\, Lectures (P)\nLetniki: R
 RP-2 (RRP-2)\nIzvajalci: Janko Slavič\nProstor: Lecture hall V/2
END:VEVENT
BEGIN:VEVENT
SUMMARY:Rigid body dynamics (DTTR)\, Lectures (P)
DTSTART;TZID=Europe/Ljubljana:20241204T080000
DTEND;TZID=Europe/Ljubljana:20241204T110000
DTSTAMP:20260423T201419Z
UID:fs-AFLABS-URNIK:srecanje:6439-2024-12-04 08:00:00+01:00
DESCRIPTION:Predmet: Rigid body dynamics (DTTR)\, Lectures (P)\nLetniki: R
 RP-2 (RRP-2)\nIzvajalci: Janko Slavič\nProstor: Lecture hall V/2
END:VEVENT
BEGIN:VEVENT
SUMMARY:Rigid body dynamics (DTTR)\, Lectures (P)
DTSTART;TZID=Europe/Ljubljana:20241211T080000
DTEND;TZID=Europe/Ljubljana:20241211T110000
DTSTAMP:20260423T201419Z
UID:fs-AFLABS-URNIK:srecanje:6439-2024-12-11 08:00:00+01:00
DESCRIPTION:Predmet: Rigid body dynamics (DTTR)\, Lectures (P)\nLetniki: R
 RP-2 (RRP-2)\nIzvajalci: Janko Slavič\nProstor: Lecture hall V/2
END:VEVENT
BEGIN:VEVENT
SUMMARY:Rigid body dynamics (DTTR)\, Lectures (P)
DTSTART;TZID=Europe/Ljubljana:20241218T080000
DTEND;TZID=Europe/Ljubljana:20241218T110000
DTSTAMP:20260423T201419Z
UID:fs-AFLABS-URNIK:srecanje:6439-2024-12-18 08:00:00+01:00
DESCRIPTION:Predmet: Rigid body dynamics (DTTR)\, Lectures (P)\nLetniki: R
 RP-2 (RRP-2)\nIzvajalci: Janko Slavič\nProstor: Lecture hall V/2
END:VEVENT
BEGIN:VEVENT
SUMMARY:Rigid body dynamics (DTTR)\, Lectures (P)
DTSTART;TZID=Europe/Ljubljana:20241225T080000
DTEND;TZID=Europe/Ljubljana:20241225T110000
DTSTAMP:20260423T201419Z
UID:fs-AFLABS-URNIK:srecanje:6439-2024-12-25 08:00:00+01:00
DESCRIPTION:Predmet: Rigid body dynamics (DTTR)\, Lectures (P)\nLetniki: R
 RP-2 (RRP-2)\nIzvajalci: Janko Slavič\nProstor: Lecture hall V/2
END:VEVENT
BEGIN:VEVENT
SUMMARY:Rigid body dynamics (DTTR)\, Lectures (P)
DTSTART;TZID=Europe/Ljubljana:20250108T080000
DTEND;TZID=Europe/Ljubljana:20250108T110000
DTSTAMP:20260423T201419Z
UID:fs-AFLABS-URNIK:srecanje:6439-2025-01-08 08:00:00+01:00
DESCRIPTION:Predmet: Rigid body dynamics (DTTR)\, Lectures (P)\nLetniki: R
 RP-2 (RRP-2)\nIzvajalci: Janko Slavič\nProstor: Lecture hall V/2
END:VEVENT
BEGIN:VEVENT
SUMMARY:Rigid body dynamics (DTTR)\, Lectures (P)
DTSTART;TZID=Europe/Ljubljana:20250115T080000
DTEND;TZID=Europe/Ljubljana:20250115T110000
DTSTAMP:20260423T201419Z
UID:fs-AFLABS-URNIK:srecanje:6439-2025-01-15 08:00:00+01:00
DESCRIPTION:Predmet: Rigid body dynamics (DTTR)\, Lectures (P)\nLetniki: R
 RP-2 (RRP-2)\nIzvajalci: Janko Slavič\nProstor: Lecture hall V/2
END:VEVENT
BEGIN:VEVENT
SUMMARY:Experimental modal analysis (EMAM)\, Lectures (P)
DTSTART;TZID=Europe/Ljubljana:20241002T120000
DTEND;TZID=Europe/Ljubljana:20241002T140000
DTSTAMP:20260423T201419Z
UID:fs-AFLABS-URNIK:srecanje:6466-2024-10-02 12:00:00+02:00
DESCRIPTION:Predmet: Experimental modal analysis (EMAM)\, Lectures (P)\nLe
 tniki: Mechanics (MAG-2)\nIzvajalci: Gregor Čepon\, Janko Slavič\nProsto
 r: Lecture hall II/2
END:VEVENT
BEGIN:VEVENT
SUMMARY:Experimental modal analysis (EMAM)\, Lectures (P)
DTSTART;TZID=Europe/Ljubljana:20241009T120000
DTEND;TZID=Europe/Ljubljana:20241009T140000
DTSTAMP:20260423T201419Z
UID:fs-AFLABS-URNIK:srecanje:6466-2024-10-09 12:00:00+02:00
DESCRIPTION:Predmet: Experimental modal analysis (EMAM)\, Lectures (P)\nLe
 tniki: Mechanics (MAG-2)\nIzvajalci: Gregor Čepon\, Janko Slavič\nProsto
 r: Lecture hall II/2
END:VEVENT
BEGIN:VEVENT
SUMMARY:Experimental modal analysis (EMAM)\, Lectures (P)
DTSTART;TZID=Europe/Ljubljana:20241016T120000
DTEND;TZID=Europe/Ljubljana:20241016T140000
DTSTAMP:20260423T201419Z
UID:fs-AFLABS-URNIK:srecanje:6466-2024-10-16 12:00:00+02:00
DESCRIPTION:Predmet: Experimental modal analysis (EMAM)\, Lectures (P)\nLe
 tniki: Mechanics (MAG-2)\nIzvajalci: Gregor Čepon\, Janko Slavič\nProsto
 r: Lecture hall II/2
END:VEVENT
BEGIN:VEVENT
SUMMARY:Experimental modal analysis (EMAM)\, Lectures (P)
DTSTART;TZID=Europe/Ljubljana:20241023T120000
DTEND;TZID=Europe/Ljubljana:20241023T140000
DTSTAMP:20260423T201419Z
UID:fs-AFLABS-URNIK:srecanje:6466-2024-10-23 12:00:00+02:00
DESCRIPTION:Predmet: Experimental modal analysis (EMAM)\, Lectures (P)\nLe
 tniki: Mechanics (MAG-2)\nIzvajalci: Gregor Čepon\, Janko Slavič\nProsto
 r: Lecture hall II/2
END:VEVENT
BEGIN:VEVENT
SUMMARY:Experimental modal analysis (EMAM)\, Lectures (P)
DTSTART;TZID=Europe/Ljubljana:20241030T120000
DTEND;TZID=Europe/Ljubljana:20241030T140000
DTSTAMP:20260423T201419Z
UID:fs-AFLABS-URNIK:srecanje:6466-2024-10-30 12:00:00+01:00
DESCRIPTION:Predmet: Experimental modal analysis (EMAM)\, Lectures (P)\nLe
 tniki: Mechanics (MAG-2)\nIzvajalci: Gregor Čepon\, Janko Slavič\nProsto
 r: Lecture hall II/2
END:VEVENT
BEGIN:VEVENT
SUMMARY:Experimental modal analysis (EMAM)\, Lectures (P)
DTSTART;TZID=Europe/Ljubljana:20241106T120000
DTEND;TZID=Europe/Ljubljana:20241106T140000
DTSTAMP:20260423T201419Z
UID:fs-AFLABS-URNIK:srecanje:6466-2024-11-06 12:00:00+01:00
DESCRIPTION:Predmet: Experimental modal analysis (EMAM)\, Lectures (P)\nLe
 tniki: Mechanics (MAG-2)\nIzvajalci: Gregor Čepon\, Janko Slavič\nProsto
 r: Lecture hall II/2
END:VEVENT
BEGIN:VEVENT
SUMMARY:Experimental modal analysis (EMAM)\, Lectures (P)
DTSTART;TZID=Europe/Ljubljana:20241113T120000
DTEND;TZID=Europe/Ljubljana:20241113T140000
DTSTAMP:20260423T201419Z
UID:fs-AFLABS-URNIK:srecanje:6466-2024-11-13 12:00:00+01:00
DESCRIPTION:Predmet: Experimental modal analysis (EMAM)\, Lectures (P)\nLe
 tniki: Mechanics (MAG-2)\nIzvajalci: Gregor Čepon\, Janko Slavič\nProsto
 r: Lecture hall II/2
END:VEVENT
BEGIN:VEVENT
SUMMARY:Experimental modal analysis (EMAM)\, Lectures (P)
DTSTART;TZID=Europe/Ljubljana:20241120T120000
DTEND;TZID=Europe/Ljubljana:20241120T140000
DTSTAMP:20260423T201419Z
UID:fs-AFLABS-URNIK:srecanje:6466-2024-11-20 12:00:00+01:00
DESCRIPTION:Predmet: Experimental modal analysis (EMAM)\, Lectures (P)\nLe
 tniki: Mechanics (MAG-2)\nIzvajalci: Gregor Čepon\, Janko Slavič\nProsto
 r: Lecture hall II/2
END:VEVENT
BEGIN:VEVENT
SUMMARY:Experimental modal analysis (EMAM)\, Lectures (P)
DTSTART;TZID=Europe/Ljubljana:20241127T120000
DTEND;TZID=Europe/Ljubljana:20241127T140000
DTSTAMP:20260423T201419Z
UID:fs-AFLABS-URNIK:srecanje:6466-2024-11-27 12:00:00+01:00
DESCRIPTION:Predmet: Experimental modal analysis (EMAM)\, Lectures (P)\nLe
 tniki: Mechanics (MAG-2)\nIzvajalci: Gregor Čepon\, Janko Slavič\nProsto
 r: Lecture hall II/2
END:VEVENT
BEGIN:VEVENT
SUMMARY:Experimental modal analysis (EMAM)\, Lectures (P)
DTSTART;TZID=Europe/Ljubljana:20241204T120000
DTEND;TZID=Europe/Ljubljana:20241204T140000
DTSTAMP:20260423T201419Z
UID:fs-AFLABS-URNIK:srecanje:6466-2024-12-04 12:00:00+01:00
DESCRIPTION:Predmet: Experimental modal analysis (EMAM)\, Lectures (P)\nLe
 tniki: Mechanics (MAG-2)\nIzvajalci: Gregor Čepon\, Janko Slavič\nProsto
 r: Lecture hall II/2
END:VEVENT
BEGIN:VEVENT
SUMMARY:Experimental modal analysis (EMAM)\, Lectures (P)
DTSTART;TZID=Europe/Ljubljana:20241211T120000
DTEND;TZID=Europe/Ljubljana:20241211T140000
DTSTAMP:20260423T201419Z
UID:fs-AFLABS-URNIK:srecanje:6466-2024-12-11 12:00:00+01:00
DESCRIPTION:Predmet: Experimental modal analysis (EMAM)\, Lectures (P)\nLe
 tniki: Mechanics (MAG-2)\nIzvajalci: Gregor Čepon\, Janko Slavič\nProsto
 r: Lecture hall II/2
END:VEVENT
BEGIN:VEVENT
SUMMARY:Experimental modal analysis (EMAM)\, Lectures (P)
DTSTART;TZID=Europe/Ljubljana:20241218T120000
DTEND;TZID=Europe/Ljubljana:20241218T140000
DTSTAMP:20260423T201419Z
UID:fs-AFLABS-URNIK:srecanje:6466-2024-12-18 12:00:00+01:00
DESCRIPTION:Predmet: Experimental modal analysis (EMAM)\, Lectures (P)\nLe
 tniki: Mechanics (MAG-2)\nIzvajalci: Gregor Čepon\, Janko Slavič\nProsto
 r: Lecture hall II/2
END:VEVENT
BEGIN:VEVENT
SUMMARY:Experimental modal analysis (EMAM)\, Lectures (P)
DTSTART;TZID=Europe/Ljubljana:20241225T120000
DTEND;TZID=Europe/Ljubljana:20241225T140000
DTSTAMP:20260423T201419Z
UID:fs-AFLABS-URNIK:srecanje:6466-2024-12-25 12:00:00+01:00
DESCRIPTION:Predmet: Experimental modal analysis (EMAM)\, Lectures (P)\nLe
 tniki: Mechanics (MAG-2)\nIzvajalci: Gregor Čepon\, Janko Slavič\nProsto
 r: Lecture hall II/2
END:VEVENT
BEGIN:VEVENT
SUMMARY:Experimental modal analysis (EMAM)\, Lectures (P)
DTSTART;TZID=Europe/Ljubljana:20250108T120000
DTEND;TZID=Europe/Ljubljana:20250108T140000
DTSTAMP:20260423T201419Z
UID:fs-AFLABS-URNIK:srecanje:6466-2025-01-08 12:00:00+01:00
DESCRIPTION:Predmet: Experimental modal analysis (EMAM)\, Lectures (P)\nLe
 tniki: Mechanics (MAG-2)\nIzvajalci: Gregor Čepon\, Janko Slavič\nProsto
 r: Lecture hall II/2
END:VEVENT
BEGIN:VEVENT
SUMMARY:Experimental modal analysis (EMAM)\, Lectures (P)
DTSTART;TZID=Europe/Ljubljana:20250115T120000
DTEND;TZID=Europe/Ljubljana:20250115T140000
DTSTAMP:20260423T201419Z
UID:fs-AFLABS-URNIK:srecanje:6466-2025-01-15 12:00:00+01:00
DESCRIPTION:Predmet: Experimental modal analysis (EMAM)\, Lectures (P)\nLe
 tniki: Mechanics (MAG-2)\nIzvajalci: Gregor Čepon\, Janko Slavič\nProsto
 r: Lecture hall II/2
END:VEVENT
BEGIN:VEVENT
SUMMARY:Numerical methods (NMMR)\, Lectures (P)
DTSTART;TZID=Europe/Ljubljana:20241007T110000
DTEND;TZID=Europe/Ljubljana:20241007T140000
DTSTAMP:20260423T201419Z
UID:fs-AFLABS-URNIK:srecanje:7054-2024-10-07 11:00:00+02:00
DESCRIPTION:Predmet: Numerical methods (NMMR)\, Lectures (P)\nLetniki: RRP
 -2 (RRP-2)\nIzvajalci: Janko Slavič\nProstor: Lecture hall V/2
END:VEVENT
BEGIN:VEVENT
SUMMARY:Numerical methods (NMMR)\, Lectures (P)
DTSTART;TZID=Europe/Ljubljana:20241014T110000
DTEND;TZID=Europe/Ljubljana:20241014T140000
DTSTAMP:20260423T201419Z
UID:fs-AFLABS-URNIK:srecanje:7054-2024-10-14 11:00:00+02:00
DESCRIPTION:Predmet: Numerical methods (NMMR)\, Lectures (P)\nLetniki: RRP
 -2 (RRP-2)\nIzvajalci: Janko Slavič\nProstor: Lecture hall V/2
END:VEVENT
BEGIN:VEVENT
SUMMARY:Numerical methods (NMMR)\, Lectures (P)
DTSTART;TZID=Europe/Ljubljana:20241021T110000
DTEND;TZID=Europe/Ljubljana:20241021T140000
DTSTAMP:20260423T201419Z
UID:fs-AFLABS-URNIK:srecanje:7054-2024-10-21 11:00:00+02:00
DESCRIPTION:Predmet: Numerical methods (NMMR)\, Lectures (P)\nLetniki: RRP
 -2 (RRP-2)\nIzvajalci: Janko Slavič\nProstor: Lecture hall V/2
END:VEVENT
BEGIN:VEVENT
SUMMARY:Numerical methods (NMMR)\, Lectures (P)
DTSTART;TZID=Europe/Ljubljana:20241104T110000
DTEND;TZID=Europe/Ljubljana:20241104T140000
DTSTAMP:20260423T201419Z
UID:fs-AFLABS-URNIK:srecanje:7054-2024-11-04 11:00:00+01:00
DESCRIPTION:Predmet: Numerical methods (NMMR)\, Lectures (P)\nLetniki: RRP
 -2 (RRP-2)\nIzvajalci: Janko Slavič\nProstor: Lecture hall V/2
END:VEVENT
BEGIN:VEVENT
SUMMARY:Numerical methods (NMMR)\, Lectures (P)
DTSTART;TZID=Europe/Ljubljana:20241111T110000
DTEND;TZID=Europe/Ljubljana:20241111T140000
DTSTAMP:20260423T201419Z
UID:fs-AFLABS-URNIK:srecanje:7054-2024-11-11 11:00:00+01:00
DESCRIPTION:Predmet: Numerical methods (NMMR)\, Lectures (P)\nLetniki: RRP
 -2 (RRP-2)\nIzvajalci: Janko Slavič\nProstor: Lecture hall V/2
END:VEVENT
BEGIN:VEVENT
SUMMARY:Numerical methods (NMMR)\, Lectures (P)
DTSTART;TZID=Europe/Ljubljana:20241118T110000
DTEND;TZID=Europe/Ljubljana:20241118T140000
DTSTAMP:20260423T201419Z
UID:fs-AFLABS-URNIK:srecanje:7054-2024-11-18 11:00:00+01:00
DESCRIPTION:Predmet: Numerical methods (NMMR)\, Lectures (P)\nLetniki: RRP
 -2 (RRP-2)\nIzvajalci: Janko Slavič\nProstor: Lecture hall V/2
END:VEVENT
BEGIN:VEVENT
SUMMARY:Numerical methods (NMMR)\, Lectures (P)
DTSTART;TZID=Europe/Ljubljana:20241125T110000
DTEND;TZID=Europe/Ljubljana:20241125T140000
DTSTAMP:20260423T201419Z
UID:fs-AFLABS-URNIK:srecanje:7054-2024-11-25 11:00:00+01:00
DESCRIPTION:Predmet: Numerical methods (NMMR)\, Lectures (P)\nLetniki: RRP
 -2 (RRP-2)\nIzvajalci: Janko Slavič\nProstor: Lecture hall V/2
END:VEVENT
BEGIN:VEVENT
SUMMARY:Numerical methods (NMMR)\, Lectures (P)
DTSTART;TZID=Europe/Ljubljana:20241202T110000
DTEND;TZID=Europe/Ljubljana:20241202T140000
DTSTAMP:20260423T201419Z
UID:fs-AFLABS-URNIK:srecanje:7054-2024-12-02 11:00:00+01:00
DESCRIPTION:Predmet: Numerical methods (NMMR)\, Lectures (P)\nLetniki: RRP
 -2 (RRP-2)\nIzvajalci: Janko Slavič\nProstor: Lecture hall V/2
END:VEVENT
BEGIN:VEVENT
SUMMARY:Numerical methods (NMMR)\, Lectures (P)
DTSTART;TZID=Europe/Ljubljana:20241209T110000
DTEND;TZID=Europe/Ljubljana:20241209T140000
DTSTAMP:20260423T201419Z
UID:fs-AFLABS-URNIK:srecanje:7054-2024-12-09 11:00:00+01:00
DESCRIPTION:Predmet: Numerical methods (NMMR)\, Lectures (P)\nLetniki: RRP
 -2 (RRP-2)\nIzvajalci: Janko Slavič\nProstor: Lecture hall V/2
END:VEVENT
BEGIN:VEVENT
SUMMARY:Numerical methods (NMMR)\, Lectures (P)
DTSTART;TZID=Europe/Ljubljana:20241216T110000
DTEND;TZID=Europe/Ljubljana:20241216T140000
DTSTAMP:20260423T201419Z
UID:fs-AFLABS-URNIK:srecanje:7054-2024-12-16 11:00:00+01:00
DESCRIPTION:Predmet: Numerical methods (NMMR)\, Lectures (P)\nLetniki: RRP
 -2 (RRP-2)\nIzvajalci: Janko Slavič\nProstor: Lecture hall V/2
END:VEVENT
BEGIN:VEVENT
SUMMARY:Numerical methods (NMMR)\, Lectures (P)
DTSTART;TZID=Europe/Ljubljana:20241223T110000
DTEND;TZID=Europe/Ljubljana:20241223T140000
DTSTAMP:20260423T201419Z
UID:fs-AFLABS-URNIK:srecanje:7054-2024-12-23 11:00:00+01:00
DESCRIPTION:Predmet: Numerical methods (NMMR)\, Lectures (P)\nLetniki: RRP
 -2 (RRP-2)\nIzvajalci: Janko Slavič\nProstor: Lecture hall V/2
END:VEVENT
BEGIN:VEVENT
SUMMARY:Numerical methods (NMMR)\, Lectures (P)
DTSTART;TZID=Europe/Ljubljana:20250106T110000
DTEND;TZID=Europe/Ljubljana:20250106T140000
DTSTAMP:20260423T201419Z
UID:fs-AFLABS-URNIK:srecanje:7054-2025-01-06 11:00:00+01:00
DESCRIPTION:Predmet: Numerical methods (NMMR)\, Lectures (P)\nLetniki: RRP
 -2 (RRP-2)\nIzvajalci: Janko Slavič\nProstor: Lecture hall V/2
END:VEVENT
BEGIN:VEVENT
SUMMARY:Numerical methods (NMMR)\, Lectures (P)
DTSTART;TZID=Europe/Ljubljana:20250113T110000
DTEND;TZID=Europe/Ljubljana:20250113T140000
DTSTAMP:20260423T201419Z
UID:fs-AFLABS-URNIK:srecanje:7054-2025-01-13 11:00:00+01:00
DESCRIPTION:Predmet: Numerical methods (NMMR)\, Lectures (P)\nLetniki: RRP
 -2 (RRP-2)\nIzvajalci: Janko Slavič\nProstor: Lecture hall V/2
END:VEVENT
BEGIN:VEVENT
SUMMARY:Numerical methods (NMMR)\, Lectures (P)
DTSTART;TZID=Europe/Ljubljana:20250120T110000
DTEND;TZID=Europe/Ljubljana:20250120T140000
DTSTAMP:20260423T201419Z
UID:fs-AFLABS-URNIK:srecanje:7054-2025-01-20 11:00:00+01:00
DESCRIPTION:Predmet: Numerical methods (NMMR)\, Lectures (P)\nLetniki: RRP
 -2 (RRP-2)\nIzvajalci: Janko Slavič\nProstor: Lecture hall V/2
END:VEVENT
BEGIN:VEVENT
SUMMARY:Sestanek
DTSTART;TZID=Europe/Ljubljana:20241004T090000
DTEND;TZID=Europe/Ljubljana:20241004T110000
DTSTAMP:20260423T201419Z
UID:fs-AFLABS-URNIK:rezervacija:6243
CATEGORIES:Reservation
COLOR:royalblue
DESCRIPTION:Predmeti: \nLetniki: \nIzvajalci: Janko Slavič\nProstori: Con
 ference room
LOCATION:Conference room
ORGANIZER:Janko Slavič
X-WR-TIMEZONE:Europe/Ljubljana
END:VEVENT
BEGIN:VEVENT
SUMMARY:Sestanek Ladisk
DTSTART;TZID=Europe/Ljubljana:20241003T130000
DTEND;TZID=Europe/Ljubljana:20241003T150000
DTSTAMP:20260423T201419Z
UID:fs-AFLABS-URNIK:rezervacija:7918
CATEGORIES:Reservation
COLOR:royalblue
DESCRIPTION:Predmeti: \nLetniki: \nIzvajalci: Janko Slavič\nProstori: Con
 ference room
LOCATION:Conference room
ORGANIZER:Janko Slavič
X-WR-TIMEZONE:Europe/Ljubljana
END:VEVENT
BEGIN:VEVENT
SUMMARY:Ladisk sestanek
DTSTART;TZID=Europe/Ljubljana:20241106T113000
DTEND;TZID=Europe/Ljubljana:20241106T130000
DTSTAMP:20260423T201419Z
UID:fs-AFLABS-URNIK:rezervacija:8385
CATEGORIES:Reservation
COLOR:royalblue
DESCRIPTION:Predmeti: \nLetniki: \nIzvajalci: Domen Gorjup\, Janko Slavič
 \, Klemen Zaletelj\nProstori: Conference room
LOCATION:Conference room
ORGANIZER:Domen Gorjup, Janko Slavič, Klemen Zaletelj
X-WR-TIMEZONE:Europe/Ljubljana
END:VEVENT
BEGIN:VEVENT
SUMMARY:Delovni sestanek
DTSTART;TZID=Europe/Ljubljana:20241118T153000
DTEND;TZID=Europe/Ljubljana:20241118T173000
DTSTAMP:20260423T201419Z
UID:fs-AFLABS-URNIK:rezervacija:8608
CATEGORIES:Reservation
COLOR:royalblue
DESCRIPTION:Predmeti: \nLetniki: \nIzvajalci: Janko Slavič\nProstori: Con
 ference room
LOCATION:Conference room
ORGANIZER:Janko Slavič
X-WR-TIMEZONE:Europe/Ljubljana
END:VEVENT
END:VCALENDAR
