BEGIN:VCALENDAR
VERSION:2.0
PRODID:-//AFLabs urnik izvoz - fs//aflabs.si//SI
NAME:UL FS Urnik
X-WR-CALNAME:UL FS Urnik
DTSTAMP:20260423T135649Z
REFRESH-INTERVAL:PT1H
SOURCE:https://urnik.fs.uni-lj.si/en/teacher/853/?day=2026-01-19&export=1
URL:https://urnik.fs.uni-lj.si/en/teacher/853/?day=2026-01-19&export=1
X-PUBLISHED-TTL:PT1H
X-WR-TIMEZONE:Europe/Ljubljana
BEGIN:VTIMEZONE
TZID:Europe/Ljubljana
BEGIN:DAYLIGHT
DTSTART:20260329T020000
RDATE:20260329T020000
RDATE:20270328T020000
TZNAME:CEST
TZOFFSETFROM:+0100
TZOFFSETTO:+0200
END:DAYLIGHT
BEGIN:STANDARD
DTSTART:20261025T030000
RDATE:20261025T030000
RDATE:20271031T030000
TZNAME:CET
TZOFFSETFROM:+0200
TZOFFSETTO:+0100
END:STANDARD
END:VTIMEZONE
BEGIN:VEVENT
SUMMARY:Numerical methods (NMMR)\, Lectures (P)
DTSTART;TZID=Europe/Ljubljana:20251215T120000
DTEND;TZID=Europe/Ljubljana:20251215T150000
DTSTAMP:20260423T135649Z
UID:fs-AFLABS-URNIK:srecanje:15627-2025-12-15 12:00:00+01:00
DESCRIPTION:Predmet: Numerical methods (NMMR)\, Lectures (P)\nLetniki: RRP
 -2 (RRP-2)\nIzvajalci: Janko Slavič\nProstor: Lecture hall V/2
END:VEVENT
BEGIN:VEVENT
SUMMARY:Numerical methods (NMMR)\, Lectures (P)
DTSTART;TZID=Europe/Ljubljana:20251222T120000
DTEND;TZID=Europe/Ljubljana:20251222T150000
DTSTAMP:20260423T135649Z
UID:fs-AFLABS-URNIK:srecanje:15627-2025-12-22 12:00:00+01:00
DESCRIPTION:Predmet: Numerical methods (NMMR)\, Lectures (P)\nLetniki: RRP
 -2 (RRP-2)\nIzvajalci: Janko Slavič\nProstor: Lecture hall V/2
END:VEVENT
BEGIN:VEVENT
SUMMARY:Numerical methods (NMMR)\, Lectures (P)
DTSTART;TZID=Europe/Ljubljana:20260105T120000
DTEND;TZID=Europe/Ljubljana:20260105T150000
DTSTAMP:20260423T135649Z
UID:fs-AFLABS-URNIK:srecanje:15627-2026-01-05 12:00:00+01:00
DESCRIPTION:Predmet: Numerical methods (NMMR)\, Lectures (P)\nLetniki: RRP
 -2 (RRP-2)\nIzvajalci: Janko Slavič\nProstor: Lecture hall V/2
END:VEVENT
BEGIN:VEVENT
SUMMARY:Numerical methods (NMMR)\, Lectures (P)
DTSTART;TZID=Europe/Ljubljana:20260112T120000
DTEND;TZID=Europe/Ljubljana:20260112T150000
DTSTAMP:20260423T135649Z
UID:fs-AFLABS-URNIK:srecanje:15627-2026-01-12 12:00:00+01:00
DESCRIPTION:Predmet: Numerical methods (NMMR)\, Lectures (P)\nLetniki: RRP
 -2 (RRP-2)\nIzvajalci: Janko Slavič\nProstor: Lecture hall V/2
END:VEVENT
BEGIN:VEVENT
SUMMARY:Advanced dynamics (VSDM)\, Lectures (P)
DTSTART;TZID=Europe/Ljubljana:20251216T120000
DTEND;TZID=Europe/Ljubljana:20251216T140000
DTSTAMP:20260423T135649Z
UID:fs-AFLABS-URNIK:srecanje:12630-2025-12-16 12:00:00+01:00
DESCRIPTION:Predmet: Advanced dynamics (VSDM)\, Lectures (P)\nLetniki: Mec
 hanics (MAG-1)\nIzvajalci: Janko Slavič\nProstor: Lecture hall I/4A
END:VEVENT
BEGIN:VEVENT
SUMMARY:Advanced dynamics (VSDM)\, Lectures (P)
DTSTART;TZID=Europe/Ljubljana:20251223T120000
DTEND;TZID=Europe/Ljubljana:20251223T140000
DTSTAMP:20260423T135649Z
UID:fs-AFLABS-URNIK:srecanje:12630-2025-12-23 12:00:00+01:00
DESCRIPTION:Predmet: Advanced dynamics (VSDM)\, Lectures (P)\nLetniki: Mec
 hanics (MAG-1)\nIzvajalci: Janko Slavič\nProstor: Lecture hall I/4A
END:VEVENT
BEGIN:VEVENT
SUMMARY:Advanced dynamics (VSDM)\, Lectures (P)
DTSTART;TZID=Europe/Ljubljana:20260106T120000
DTEND;TZID=Europe/Ljubljana:20260106T140000
DTSTAMP:20260423T135649Z
UID:fs-AFLABS-URNIK:srecanje:12630-2026-01-06 12:00:00+01:00
DESCRIPTION:Predmet: Advanced dynamics (VSDM)\, Lectures (P)\nLetniki: Mec
 hanics (MAG-1)\nIzvajalci: Janko Slavič\nProstor: Lecture hall I/4A
END:VEVENT
BEGIN:VEVENT
SUMMARY:Advanced dynamics (VSDM)\, Lectures (P)
DTSTART;TZID=Europe/Ljubljana:20260113T120000
DTEND;TZID=Europe/Ljubljana:20260113T140000
DTSTAMP:20260423T135649Z
UID:fs-AFLABS-URNIK:srecanje:12630-2026-01-13 12:00:00+01:00
DESCRIPTION:Predmet: Advanced dynamics (VSDM)\, Lectures (P)\nLetniki: Mec
 hanics (MAG-1)\nIzvajalci: Janko Slavič\nProstor: Lecture hall I/4A
END:VEVENT
BEGIN:VEVENT
SUMMARY:Rigid body dynamics (DTTR)\, Lectures (P)
DTSTART;TZID=Europe/Ljubljana:20251217T080000
DTEND;TZID=Europe/Ljubljana:20251217T110000
DTSTAMP:20260423T135649Z
UID:fs-AFLABS-URNIK:srecanje:6439-2025-12-17 08:00:00+01:00
DESCRIPTION:Predmet: Rigid body dynamics (DTTR)\, Lectures (P)\nLetniki: R
 RP-2 (RRP-2)\nIzvajalci: Janko Slavič\nProstor: Lecture hall V/2
END:VEVENT
BEGIN:VEVENT
SUMMARY:Rigid body dynamics (DTTR)\, Lectures (P)
DTSTART;TZID=Europe/Ljubljana:20251224T080000
DTEND;TZID=Europe/Ljubljana:20251224T110000
DTSTAMP:20260423T135649Z
UID:fs-AFLABS-URNIK:srecanje:6439-2025-12-24 08:00:00+01:00
DESCRIPTION:Predmet: Rigid body dynamics (DTTR)\, Lectures (P)\nLetniki: R
 RP-2 (RRP-2)\nIzvajalci: Janko Slavič\nProstor: Lecture hall V/2
END:VEVENT
BEGIN:VEVENT
SUMMARY:Rigid body dynamics (DTTR)\, Lectures (P)
DTSTART;TZID=Europe/Ljubljana:20260107T080000
DTEND;TZID=Europe/Ljubljana:20260107T110000
DTSTAMP:20260423T135649Z
UID:fs-AFLABS-URNIK:srecanje:6439-2026-01-07 08:00:00+01:00
DESCRIPTION:Predmet: Rigid body dynamics (DTTR)\, Lectures (P)\nLetniki: R
 RP-2 (RRP-2)\nIzvajalci: Janko Slavič\nProstor: Lecture hall V/2
END:VEVENT
BEGIN:VEVENT
SUMMARY:Rigid body dynamics (DTTR)\, Lectures (P)
DTSTART;TZID=Europe/Ljubljana:20260114T080000
DTEND;TZID=Europe/Ljubljana:20260114T110000
DTSTAMP:20260423T135649Z
UID:fs-AFLABS-URNIK:srecanje:6439-2026-01-14 08:00:00+01:00
DESCRIPTION:Predmet: Rigid body dynamics (DTTR)\, Lectures (P)\nLetniki: R
 RP-2 (RRP-2)\nIzvajalci: Janko Slavič\nProstor: Lecture hall V/2
END:VEVENT
BEGIN:VEVENT
SUMMARY:Experimental modal analysis (EMAM)\, Lectures (P)
DTSTART;TZID=Europe/Ljubljana:20251217T120000
DTEND;TZID=Europe/Ljubljana:20251217T140000
DTSTAMP:20260423T135649Z
UID:fs-AFLABS-URNIK:srecanje:15981-2025-12-17 12:00:00+01:00
DESCRIPTION:Predmet: Experimental modal analysis (EMAM)\, Lectures (P)\nLe
 tniki: Mechanics (MAG-2)\nIzvajalci: Gregor Čepon\, Domen Ocepek\, Janko 
 Slavič\nProstor: Lecture hall II/3B
END:VEVENT
BEGIN:VEVENT
SUMMARY:Experimental modal analysis (EMAM)\, Lectures (P)
DTSTART;TZID=Europe/Ljubljana:20251224T120000
DTEND;TZID=Europe/Ljubljana:20251224T140000
DTSTAMP:20260423T135649Z
UID:fs-AFLABS-URNIK:srecanje:15981-2025-12-24 12:00:00+01:00
DESCRIPTION:Predmet: Experimental modal analysis (EMAM)\, Lectures (P)\nLe
 tniki: Mechanics (MAG-2)\nIzvajalci: Gregor Čepon\, Domen Ocepek\, Janko 
 Slavič\nProstor: Lecture hall II/3B
END:VEVENT
BEGIN:VEVENT
SUMMARY:Experimental modal analysis (EMAM)\, Lectures (P)
DTSTART;TZID=Europe/Ljubljana:20260107T120000
DTEND;TZID=Europe/Ljubljana:20260107T140000
DTSTAMP:20260423T135649Z
UID:fs-AFLABS-URNIK:srecanje:15981-2026-01-07 12:00:00+01:00
DESCRIPTION:Predmet: Experimental modal analysis (EMAM)\, Lectures (P)\nLe
 tniki: Mechanics (MAG-2)\nIzvajalci: Gregor Čepon\, Domen Ocepek\, Janko 
 Slavič\nProstor: Lecture hall II/3B
END:VEVENT
BEGIN:VEVENT
SUMMARY:Experimental modal analysis (EMAM)\, Lectures (P)
DTSTART;TZID=Europe/Ljubljana:20260114T120000
DTEND;TZID=Europe/Ljubljana:20260114T140000
DTSTAMP:20260423T135649Z
UID:fs-AFLABS-URNIK:srecanje:15981-2026-01-14 12:00:00+01:00
DESCRIPTION:Predmet: Experimental modal analysis (EMAM)\, Lectures (P)\nLe
 tniki: Mechanics (MAG-2)\nIzvajalci: Gregor Čepon\, Domen Ocepek\, Janko 
 Slavič\nProstor: Lecture hall II/3B
END:VEVENT
BEGIN:VEVENT
SUMMARY:Dynamics of machines and structures (DSKM)\, Lectures (P)
DTSTART;TZID=Europe/Ljubljana:20260216T080000
DTEND;TZID=Europe/Ljubljana:20260216T100000
DTSTAMP:20260423T135649Z
UID:fs-AFLABS-URNIK:srecanje:14601-2026-02-16 08:00:00+01:00
DESCRIPTION:Predmet: Dynamics of machines and structures (DSKM)\, Lectures
  (P)\nLetniki: Mechanics (MAG-1)\nIzvajalci: Miha Boltežar\, Gregor Čepo
 n\, Janko Slavič\nProstor: Lecture hall III/2
END:VEVENT
BEGIN:VEVENT
SUMMARY:Dynamics of machines and structures (DSKM)\, Lectures (P)
DTSTART;TZID=Europe/Ljubljana:20260223T080000
DTEND;TZID=Europe/Ljubljana:20260223T100000
DTSTAMP:20260423T135649Z
UID:fs-AFLABS-URNIK:srecanje:14601-2026-02-23 08:00:00+01:00
DESCRIPTION:Predmet: Dynamics of machines and structures (DSKM)\, Lectures
  (P)\nLetniki: Mechanics (MAG-1)\nIzvajalci: Miha Boltežar\, Gregor Čepo
 n\, Janko Slavič\nProstor: Lecture hall III/2
END:VEVENT
BEGIN:VEVENT
SUMMARY:Signal processing (PRSM)\, Lectures (P)
DTSTART;TZID=Europe/Ljubljana:20260217T120000
DTEND;TZID=Europe/Ljubljana:20260217T140000
DTSTAMP:20260423T135649Z
UID:fs-AFLABS-URNIK:srecanje:14523-2026-02-17 12:00:00+01:00
DESCRIPTION:Predmet: Signal processing (PRSM)\, Lectures (P)\nLetniki: Mec
 hanics (MAG-1)\nIzvajalci: Janko Slavič\nProstor: Computer lecture room L
 ADISK  I/4B
END:VEVENT
BEGIN:VEVENT
SUMMARY:Advanced Dynamics (ADDE)\, Lectures (P)
DTSTART;TZID=Europe/Ljubljana:20260218T140000
DTEND;TZID=Europe/Ljubljana:20260218T160000
DTSTAMP:20260423T135649Z
UID:fs-AFLABS-URNIK:srecanje:14545-2026-02-18 14:00:00+01:00
DESCRIPTION:Predmet: Advanced Dynamics (ADDE)\, Lectures (P)\nLetniki: Era
 smus (Erasmus)\nIzvajalci: Gregor Čepon\, Janko Slavič\nProstor: Lecture
  hall I/4A
END:VEVENT
BEGIN:VEVENT
SUMMARY:Dynamics (DNMP)\, Lectures (P)
DTSTART;TZID=Europe/Ljubljana:20260220T103000
DTEND;TZID=Europe/Ljubljana:20260220T123000
DTSTAMP:20260423T135649Z
UID:fs-AFLABS-URNIK:srecanje:14580-2026-02-20 10:30:00+01:00
DESCRIPTION:Predmet: Dynamics (DNMP)\, Lectures (P)\nLetniki: PAP-1 (PAP-1
 )\nIzvajalci: Gregor Čepon\, Martin Česnik\, Janko Slavič\nProstor: Lec
 ture hall V/8
END:VEVENT
BEGIN:VEVENT
SUMMARY:DTT izpit
DTSTART;TZID=Europe/Ljubljana:20260205T110000
DTEND;TZID=Europe/Ljubljana:20260205T130000
DTSTAMP:20260423T135649Z
UID:fs-AFLABS-URNIK:rezervacija:13680
ATTENDEE:RRP-2 (RRP-2)
CATEGORIES:Reservation
COLOR:royalblue
DESCRIPTION:Predmeti: Rigid body dynamics (DTTR)\nLetniki: RRP-2 (RRP-2)\n
 Izvajalci: Janko Slavič\nProstori: Lecture hall IV/4
LOCATION:Lecture hall IV/4
ORGANIZER:Janko Slavič
X-WR-TIMEZONE:Europe/Ljubljana
END:VEVENT
BEGIN:VEVENT
SUMMARY:Izpit: Višja dinamika
DTSTART;TZID=Europe/Ljubljana:20260120T100000
DTEND;TZID=Europe/Ljubljana:20260120T130000
DTSTAMP:20260423T135649Z
UID:fs-AFLABS-URNIK:rezervacija:11962
ATTENDEE:Mechanics (MAG-1)
CATEGORIES:Reservation
COLOR:royalblue
DESCRIPTION:Predmeti: Advanced dynamics (VSDM)\nLetniki: Mechanics (MAG-1)
 \nIzvajalci: Janko Slavič\nProstori: Lecture hall V/8
LOCATION:Lecture hall V/8
ORGANIZER:Janko Slavič
X-WR-TIMEZONE:Europe/Ljubljana
END:VEVENT
BEGIN:VEVENT
SUMMARY:DTT - Komisijski rok
DTSTART;TZID=Europe/Ljubljana:20260211T083000
DTEND;TZID=Europe/Ljubljana:20260211T100000
DTSTAMP:20260423T135649Z
UID:fs-AFLABS-URNIK:rezervacija:13701
CATEGORIES:Reservation
COLOR:royalblue
DESCRIPTION:Predmeti: \nLetniki: \nIzvajalci: Janko Slavič\nProstori: Con
 ference room
LOCATION:Conference room
ORGANIZER:Janko Slavič
X-WR-TIMEZONE:Europe/Ljubljana
END:VEVENT
BEGIN:VEVENT
SUMMARY:Izpit: Numerične metode
DTSTART;TZID=Europe/Ljubljana:20260123T160000
DTEND;TZID=Europe/Ljubljana:20260123T190000
DTSTAMP:20260423T135649Z
UID:fs-AFLABS-URNIK:rezervacija:12086
ATTENDEE:RRP-2 (RRP-2)
CATEGORIES:Reservation
COLOR:royalblue
DESCRIPTION:Predmeti: Numerical methods (NMMR)\nLetniki: RRP-2 (RRP-2)\nIz
 vajalci: Janko Slavič\nProstori: Lecture hall V/8
LOCATION:Lecture hall V/8
ORGANIZER:Janko Slavič
X-WR-TIMEZONE:Europe/Ljubljana
END:VEVENT
BEGIN:VEVENT
SUMMARY:Kolokvij VD
DTSTART;TZID=Europe/Ljubljana:20260115T180000
DTEND;TZID=Europe/Ljubljana:20260115T200000
DTSTAMP:20260423T135649Z
UID:fs-AFLABS-URNIK:rezervacija:10907
ATTENDEE:Mechanics (MAG-1)
CATEGORIES:Reservation
COLOR:royalblue
DESCRIPTION:Predmeti: Advanced dynamics (VSDM)\nLetniki: Mechanics (MAG-1)
 \nIzvajalci: Janko Slavič\, Klemen Zaletelj\nProstori: Lecture hall III/2
LOCATION:Lecture hall III/2
ORGANIZER:Janko Slavič, Klemen Zaletelj
X-WR-TIMEZONE:Europe/Ljubljana
END:VEVENT
BEGIN:VEVENT
SUMMARY:Izpit: Dinamika togih teles
DTSTART;TZID=Europe/Ljubljana:20260122T110000
DTEND;TZID=Europe/Ljubljana:20260122T140000
DTSTAMP:20260423T135649Z
UID:fs-AFLABS-URNIK:rezervacija:12055
ATTENDEE:RRP-2 (RRP-2)
CATEGORIES:Reservation
COLOR:royalblue
DESCRIPTION:Predmeti: Rigid body dynamics (DTTR)\nLetniki: RRP-2 (RRP-2)\n
 Izvajalci: Janko Slavič\nProstori: Lecture hall IV/4\, Lecture hall V/2\,
  Lecture hall V/8
LOCATION:Lecture hall IV/4\, Lecture hall V/2\, Lecture hall V/8
ORGANIZER:Janko Slavič
X-WR-TIMEZONE:Europe/Ljubljana
END:VEVENT
BEGIN:VEVENT
SUMMARY:Izpit: Dinamika togih teles
DTSTART;TZID=Europe/Ljubljana:20260205T080000
DTEND;TZID=Europe/Ljubljana:20260205T110000
DTSTAMP:20260423T135649Z
UID:fs-AFLABS-URNIK:rezervacija:12555
ATTENDEE:RRP-2 (RRP-2)
CATEGORIES:Reservation
COLOR:royalblue
DESCRIPTION:Predmeti: Rigid body dynamics (DTTR)\nLetniki: RRP-2 (RRP-2)\n
 Izvajalci: Janko Slavič\nProstori: Lecture hall IV/4
LOCATION:Lecture hall IV/4
ORGANIZER:Janko Slavič
X-WR-TIMEZONE:Europe/Ljubljana
END:VEVENT
BEGIN:VEVENT
SUMMARY:NM - Komisijski izpit
DTSTART;TZID=Europe/Ljubljana:20260212T080000
DTEND;TZID=Europe/Ljubljana:20260212T090000
DTSTAMP:20260423T135649Z
UID:fs-AFLABS-URNIK:rezervacija:13694
CATEGORIES:Reservation
COLOR:royalblue
DESCRIPTION:Predmeti: \nLetniki: \nIzvajalci: Janko Slavič\nProstori: Con
 ference room
LOCATION:Conference room
ORGANIZER:Janko Slavič
X-WR-TIMEZONE:Europe/Ljubljana
END:VEVENT
BEGIN:VEVENT
SUMMARY:Izpit: Numerične metode
DTSTART;TZID=Europe/Ljubljana:20260123T160000
DTEND;TZID=Europe/Ljubljana:20260123T190000
DTSTAMP:20260423T135649Z
UID:fs-AFLABS-URNIK:rezervacija:12653
ATTENDEE:RRP-2 (RRP-2)
CATEGORIES:Reservation
COLOR:royalblue
DESCRIPTION:Predmeti: Numerical methods (NMMR)\nLetniki: RRP-2 (RRP-2)\nIz
 vajalci: Janko Slavič\nProstori: Lecture hall V/8
LOCATION:Lecture hall V/8
ORGANIZER:Janko Slavič
X-WR-TIMEZONE:Europe/Ljubljana
END:VEVENT
BEGIN:VEVENT
SUMMARY:Izpit: Dinamika togih teles
DTSTART;TZID=Europe/Ljubljana:20260205T080000
DTEND;TZID=Europe/Ljubljana:20260205T110000
DTSTAMP:20260423T135649Z
UID:fs-AFLABS-URNIK:rezervacija:12648
ATTENDEE:RRP-2 (RRP-2)
CATEGORIES:Reservation
COLOR:royalblue
DESCRIPTION:Predmeti: Rigid body dynamics (DTTR)\nLetniki: RRP-2 (RRP-2)\n
 Izvajalci: Janko Slavič\nProstori: Lecture hall IV/4
LOCATION:Lecture hall IV/4
ORGANIZER:Janko Slavič
X-WR-TIMEZONE:Europe/Ljubljana
END:VEVENT
BEGIN:VEVENT
SUMMARY:Izpit: Numerične metode
DTSTART;TZID=Europe/Ljubljana:20260206T120000
DTEND;TZID=Europe/Ljubljana:20260206T150000
DTSTAMP:20260423T135649Z
UID:fs-AFLABS-URNIK:rezervacija:12585
ATTENDEE:RRP-2 (RRP-2)
CATEGORIES:Reservation
COLOR:royalblue
DESCRIPTION:Predmeti: Numerical methods (NMMR)\nLetniki: RRP-2 (RRP-2)\nIz
 vajalci: Janko Slavič\nProstori: Lecture hall V/2
LOCATION:Lecture hall V/2
ORGANIZER:Janko Slavič
X-WR-TIMEZONE:Europe/Ljubljana
END:VEVENT
BEGIN:VEVENT
SUMMARY:Izpit: Višja dinamika
DTSTART;TZID=Europe/Ljubljana:20260120T100000
DTEND;TZID=Europe/Ljubljana:20260120T130000
DTSTAMP:20260423T135649Z
UID:fs-AFLABS-URNIK:rezervacija:11961
ATTENDEE:Mechanics (MAG-1)
CATEGORIES:Reservation
COLOR:royalblue
DESCRIPTION:Predmeti: Advanced dynamics (VSDM)\nLetniki: Mechanics (MAG-1)
 \nIzvajalci: Janko Slavič\nProstori: Lecture hall V/8
LOCATION:Lecture hall V/8
ORGANIZER:Janko Slavič
X-WR-TIMEZONE:Europe/Ljubljana
END:VEVENT
BEGIN:VEVENT
SUMMARY:Kolokvij DTT
DTSTART;TZID=Europe/Ljubljana:20260115T180000
DTEND;TZID=Europe/Ljubljana:20260115T200000
DTSTAMP:20260423T135649Z
UID:fs-AFLABS-URNIK:rezervacija:10904
ATTENDEE:RRP-2 (RRP-2)
CATEGORIES:Reservation
COLOR:royalblue
DESCRIPTION:Predmeti: Rigid body dynamics (DTTR)\nLetniki: RRP-2 (RRP-2)\n
 Izvajalci: Janko Slavič\, Klemen Zaletelj\nProstori: Lecture hall IV/2\, 
 Lecture hall IV/4\, Lecture hall V/2\, Lecture hall V/8
LOCATION:Lecture hall IV/2\, Lecture hall IV/4\, Lecture hall V/2\, Lectur
 e hall V/8
ORGANIZER:Janko Slavič, Klemen Zaletelj
X-WR-TIMEZONE:Europe/Ljubljana
END:VEVENT
BEGIN:VEVENT
SUMMARY:Izpit: Višja dinamika
DTSTART;TZID=Europe/Ljubljana:20260203T100000
DTEND;TZID=Europe/Ljubljana:20260203T130000
DTSTAMP:20260423T135649Z
UID:fs-AFLABS-URNIK:rezervacija:12463
ATTENDEE:Mechanics (MAG-1)
CATEGORIES:Reservation
COLOR:royalblue
DESCRIPTION:Predmeti: Advanced dynamics (VSDM)\nLetniki: Mechanics (MAG-1)
 \nIzvajalci: Janko Slavič\nProstori: Lecture hall III/4
LOCATION:Lecture hall III/4
ORGANIZER:Janko Slavič
X-WR-TIMEZONE:Europe/Ljubljana
END:VEVENT
BEGIN:VEVENT
SUMMARY:DTT izpit
DTSTART;TZID=Europe/Ljubljana:20260205T080000
DTEND;TZID=Europe/Ljubljana:20260205T100000
DTSTAMP:20260423T135649Z
UID:fs-AFLABS-URNIK:rezervacija:13679
ATTENDEE:RRP-2 (RRP-2)
CATEGORIES:Reservation
COLOR:royalblue
DESCRIPTION:Predmeti: Rigid body dynamics (DTTR)\nLetniki: RRP-2 (RRP-2)\n
 Izvajalci: Janko Slavič\nProstori: Lecture hall V/2
LOCATION:Lecture hall V/2
ORGANIZER:Janko Slavič
X-WR-TIMEZONE:Europe/Ljubljana
END:VEVENT
BEGIN:VEVENT
SUMMARY:Sestanek PS
DTSTART;TZID=Europe/Ljubljana:20260126T150000
DTEND;TZID=Europe/Ljubljana:20260126T153000
DTSTAMP:20260423T135649Z
UID:fs-AFLABS-URNIK:rezervacija:13593
CATEGORIES:Reservation
COLOR:royalblue
DESCRIPTION:Predmeti: \nLetniki: \nIzvajalci: Janko Slavič\nProstori: Con
 ference room
LOCATION:Conference room
ORGANIZER:Janko Slavič
X-WR-TIMEZONE:Europe/Ljubljana
END:VEVENT
BEGIN:VEVENT
SUMMARY:Izpit: Višja dinamika
DTSTART;TZID=Europe/Ljubljana:20260203T100000
DTEND;TZID=Europe/Ljubljana:20260203T130000
DTSTAMP:20260423T135649Z
UID:fs-AFLABS-URNIK:rezervacija:12462
ATTENDEE:Mechanics (MAG-1)
CATEGORIES:Reservation
COLOR:royalblue
DESCRIPTION:Predmeti: Advanced dynamics (VSDM)\nLetniki: Mechanics (MAG-1)
 \nIzvajalci: Janko Slavič\nProstori: Lecture hall III/4
LOCATION:Lecture hall III/4
ORGANIZER:Janko Slavič
X-WR-TIMEZONE:Europe/Ljubljana
END:VEVENT
BEGIN:VEVENT
SUMMARY:Izpit: Dinamika togih teles
DTSTART;TZID=Europe/Ljubljana:20260122T110000
DTEND;TZID=Europe/Ljubljana:20260122T140000
DTSTAMP:20260423T135649Z
UID:fs-AFLABS-URNIK:rezervacija:12646
ATTENDEE:RRP-2 (RRP-2)
CATEGORIES:Reservation
COLOR:royalblue
DESCRIPTION:Predmeti: Rigid body dynamics (DTTR)\nLetniki: RRP-2 (RRP-2)\n
 Izvajalci: Janko Slavič\nProstori: Lecture hall IV/4\, Lecture hall V/2\,
  Lecture hall V/8
LOCATION:Lecture hall IV/4\, Lecture hall V/2\, Lecture hall V/8
ORGANIZER:Janko Slavič
X-WR-TIMEZONE:Europe/Ljubljana
END:VEVENT
BEGIN:VEVENT
SUMMARY:Izpit: Numerične metode
DTSTART;TZID=Europe/Ljubljana:20260206T120000
DTEND;TZID=Europe/Ljubljana:20260206T150000
DTSTAMP:20260423T135649Z
UID:fs-AFLABS-URNIK:rezervacija:12654
ATTENDEE:RRP-2 (RRP-2)
CATEGORIES:Reservation
COLOR:royalblue
DESCRIPTION:Predmeti: Numerical methods (NMMR)\nLetniki: RRP-2 (RRP-2)\nIz
 vajalci: Janko Slavič\nProstori: Lecture hall V/2
LOCATION:Lecture hall V/2
ORGANIZER:Janko Slavič
X-WR-TIMEZONE:Europe/Ljubljana
END:VEVENT
END:VCALENDAR
