BEGIN:VCALENDAR
VERSION:2.0
PRODID:-//AFLabs urnik izvoz - fs//aflabs.si//SI
NAME:UL FS Urnik
X-WR-CALNAME:UL FS Urnik
DTSTAMP:20260423T233715Z
REFRESH-INTERVAL:PT1H
SOURCE:https://urnik.fs.uni-lj.si/en/teacher/853/?day=2026-02-02&export=1
URL:https://urnik.fs.uni-lj.si/en/teacher/853/?day=2026-02-02&export=1
X-PUBLISHED-TTL:PT1H
X-WR-TIMEZONE:Europe/Ljubljana
BEGIN:VTIMEZONE
TZID:Europe/Ljubljana
BEGIN:DAYLIGHT
DTSTART:20260329T020000
RDATE:20260329T020000
RDATE:20270328T020000
TZNAME:CEST
TZOFFSETFROM:+0100
TZOFFSETTO:+0200
END:DAYLIGHT
BEGIN:STANDARD
DTSTART:20261025T030000
RDATE:20261025T030000
RDATE:20271031T030000
TZNAME:CET
TZOFFSETFROM:+0200
TZOFFSETTO:+0100
END:STANDARD
END:VTIMEZONE
BEGIN:VEVENT
SUMMARY:Dynamics of machines and structures (DSKM)\, Lectures (P)
DTSTART;TZID=Europe/Ljubljana:20260216T080000
DTEND;TZID=Europe/Ljubljana:20260216T100000
DTSTAMP:20260423T233715Z
UID:fs-AFLABS-URNIK:srecanje:14601-2026-02-16 08:00:00+01:00
DESCRIPTION:Predmet: Dynamics of machines and structures (DSKM)\, Lectures
  (P)\nLetniki: Mechanics (MAG-1)\nIzvajalci: Miha Boltežar\, Gregor Čepo
 n\, Janko Slavič\nProstor: Lecture hall III/2
END:VEVENT
BEGIN:VEVENT
SUMMARY:Dynamics of machines and structures (DSKM)\, Lectures (P)
DTSTART;TZID=Europe/Ljubljana:20260223T080000
DTEND;TZID=Europe/Ljubljana:20260223T100000
DTSTAMP:20260423T233715Z
UID:fs-AFLABS-URNIK:srecanje:14601-2026-02-23 08:00:00+01:00
DESCRIPTION:Predmet: Dynamics of machines and structures (DSKM)\, Lectures
  (P)\nLetniki: Mechanics (MAG-1)\nIzvajalci: Miha Boltežar\, Gregor Čepo
 n\, Janko Slavič\nProstor: Lecture hall III/2
END:VEVENT
BEGIN:VEVENT
SUMMARY:Dynamics of machines and structures (DSKM)\, Lectures (P)
DTSTART;TZID=Europe/Ljubljana:20260302T080000
DTEND;TZID=Europe/Ljubljana:20260302T100000
DTSTAMP:20260423T233715Z
UID:fs-AFLABS-URNIK:srecanje:14601-2026-03-02 08:00:00+01:00
DESCRIPTION:Predmet: Dynamics of machines and structures (DSKM)\, Lectures
  (P)\nLetniki: Mechanics (MAG-1)\nIzvajalci: Miha Boltežar\, Gregor Čepo
 n\, Janko Slavič\nProstor: Lecture hall III/2
END:VEVENT
BEGIN:VEVENT
SUMMARY:Dynamics of machines and structures (DSKM)\, Lectures (P)
DTSTART;TZID=Europe/Ljubljana:20260309T080000
DTEND;TZID=Europe/Ljubljana:20260309T100000
DTSTAMP:20260423T233715Z
UID:fs-AFLABS-URNIK:srecanje:14601-2026-03-09 08:00:00+01:00
DESCRIPTION:Predmet: Dynamics of machines and structures (DSKM)\, Lectures
  (P)\nLetniki: Mechanics (MAG-1)\nIzvajalci: Miha Boltežar\, Gregor Čepo
 n\, Janko Slavič\nProstor: Lecture hall III/2
END:VEVENT
BEGIN:VEVENT
SUMMARY:Signal processing (PRSM)\, Lectures (P)
DTSTART;TZID=Europe/Ljubljana:20260217T120000
DTEND;TZID=Europe/Ljubljana:20260217T140000
DTSTAMP:20260423T233715Z
UID:fs-AFLABS-URNIK:srecanje:14523-2026-02-17 12:00:00+01:00
DESCRIPTION:Predmet: Signal processing (PRSM)\, Lectures (P)\nLetniki: Mec
 hanics (MAG-1)\nIzvajalci: Janko Slavič\nProstor: Computer lecture room L
 ADISK  I/4B
END:VEVENT
BEGIN:VEVENT
SUMMARY:Signal processing (PRSM)\, Lectures (P)
DTSTART;TZID=Europe/Ljubljana:20260224T120000
DTEND;TZID=Europe/Ljubljana:20260224T140000
DTSTAMP:20260423T233715Z
UID:fs-AFLABS-URNIK:srecanje:14523-2026-02-24 12:00:00+01:00
DESCRIPTION:Predmet: Signal processing (PRSM)\, Lectures (P)\nLetniki: Mec
 hanics (MAG-1)\nIzvajalci: Janko Slavič\nProstor: Computer lecture room L
 ADISK  I/4B
END:VEVENT
BEGIN:VEVENT
SUMMARY:Advanced Dynamics (ADDE)\, Lectures (P)
DTSTART;TZID=Europe/Ljubljana:20260218T140000
DTEND;TZID=Europe/Ljubljana:20260218T160000
DTSTAMP:20260423T233715Z
UID:fs-AFLABS-URNIK:srecanje:14545-2026-02-18 14:00:00+01:00
DESCRIPTION:Predmet: Advanced Dynamics (ADDE)\, Lectures (P)\nLetniki: Era
 smus (Erasmus)\nIzvajalci: Gregor Čepon\, Janko Slavič\nProstor: Lecture
  hall I/4A
END:VEVENT
BEGIN:VEVENT
SUMMARY:Advanced Dynamics (ADDE)\, Lectures (P)
DTSTART;TZID=Europe/Ljubljana:20260225T140000
DTEND;TZID=Europe/Ljubljana:20260225T160000
DTSTAMP:20260423T233715Z
UID:fs-AFLABS-URNIK:srecanje:14545-2026-02-25 14:00:00+01:00
DESCRIPTION:Predmet: Advanced Dynamics (ADDE)\, Lectures (P)\nLetniki: Era
 smus (Erasmus)\nIzvajalci: Gregor Čepon\, Janko Slavič\nProstor: Lecture
  hall I/4A
END:VEVENT
BEGIN:VEVENT
SUMMARY:Advanced Dynamics (ADDE)\, Lectures (P)
DTSTART;TZID=Europe/Ljubljana:20260304T140000
DTEND;TZID=Europe/Ljubljana:20260304T160000
DTSTAMP:20260423T233715Z
UID:fs-AFLABS-URNIK:srecanje:14545-2026-03-04 14:00:00+01:00
DESCRIPTION:Predmet: Advanced Dynamics (ADDE)\, Lectures (P)\nLetniki: Era
 smus (Erasmus)\nIzvajalci: Gregor Čepon\, Janko Slavič\nProstor: Lecture
  hall I/4A
END:VEVENT
BEGIN:VEVENT
SUMMARY:Dynamics (DNMP)\, Lectures (P)
DTSTART;TZID=Europe/Ljubljana:20260220T103000
DTEND;TZID=Europe/Ljubljana:20260220T123000
DTSTAMP:20260423T233715Z
UID:fs-AFLABS-URNIK:srecanje:14580-2026-02-20 10:30:00+01:00
DESCRIPTION:Predmet: Dynamics (DNMP)\, Lectures (P)\nLetniki: PAP-1 (PAP-1
 )\nIzvajalci: Gregor Čepon\, Martin Česnik\, Janko Slavič\nProstor: Lec
 ture hall V/8
END:VEVENT
BEGIN:VEVENT
SUMMARY:Dynamics (DNMP)\, Lectures (P)
DTSTART;TZID=Europe/Ljubljana:20260227T103000
DTEND;TZID=Europe/Ljubljana:20260227T123000
DTSTAMP:20260423T233715Z
UID:fs-AFLABS-URNIK:srecanje:14580-2026-02-27 10:30:00+01:00
DESCRIPTION:Predmet: Dynamics (DNMP)\, Lectures (P)\nLetniki: PAP-1 (PAP-1
 )\nIzvajalci: Gregor Čepon\, Martin Česnik\, Janko Slavič\nProstor: Lec
 ture hall V/8
END:VEVENT
BEGIN:VEVENT
SUMMARY:Dynamics (DNMP)\, Lectures (P)
DTSTART;TZID=Europe/Ljubljana:20260306T103000
DTEND;TZID=Europe/Ljubljana:20260306T123000
DTSTAMP:20260423T233715Z
UID:fs-AFLABS-URNIK:srecanje:14580-2026-03-06 10:30:00+01:00
DESCRIPTION:Predmet: Dynamics (DNMP)\, Lectures (P)\nLetniki: PAP-1 (PAP-1
 )\nIzvajalci: Gregor Čepon\, Martin Česnik\, Janko Slavič\nProstor: Lec
 ture hall V/8
END:VEVENT
BEGIN:VEVENT
SUMMARY:Signal processing (PRSM)\, Lectures (P)
DTSTART;TZID=Europe/Ljubljana:20260303T120000
DTEND;TZID=Europe/Ljubljana:20260303T140000
DTSTAMP:20260423T233715Z
UID:fs-AFLABS-URNIK:srecanje:19781-2026-03-03 12:00:00+01:00
DESCRIPTION:Predmet: Signal processing (PRSM)\, Lectures (P)\nLetniki: Mec
 hanics (MAG-1)\nIzvajalci: Janko Slavič\nProstor: Lecture hall V/2
END:VEVENT
BEGIN:VEVENT
SUMMARY:Izpit: Višja dinamika
DTSTART;TZID=Europe/Ljubljana:20260120T100000
DTEND;TZID=Europe/Ljubljana:20260120T130000
DTSTAMP:20260423T233715Z
UID:fs-AFLABS-URNIK:rezervacija:11961
ATTENDEE:Mechanics (MAG-1)
CATEGORIES:Reservation
COLOR:royalblue
DESCRIPTION:Predmeti: Advanced dynamics (VSDM)\nLetniki: Mechanics (MAG-1)
 \nIzvajalci: Janko Slavič\nProstori: Lecture hall V/8
LOCATION:Lecture hall V/8
ORGANIZER:Janko Slavič
X-WR-TIMEZONE:Europe/Ljubljana
END:VEVENT
BEGIN:VEVENT
SUMMARY:Izpit: Višja dinamika
DTSTART;TZID=Europe/Ljubljana:20260120T100000
DTEND;TZID=Europe/Ljubljana:20260120T130000
DTSTAMP:20260423T233715Z
UID:fs-AFLABS-URNIK:rezervacija:11962
ATTENDEE:Mechanics (MAG-1)
CATEGORIES:Reservation
COLOR:royalblue
DESCRIPTION:Predmeti: Advanced dynamics (VSDM)\nLetniki: Mechanics (MAG-1)
 \nIzvajalci: Janko Slavič\nProstori: Lecture hall V/8
LOCATION:Lecture hall V/8
ORGANIZER:Janko Slavič
X-WR-TIMEZONE:Europe/Ljubljana
END:VEVENT
BEGIN:VEVENT
SUMMARY:Izpit: Dinamika togih teles
DTSTART;TZID=Europe/Ljubljana:20260122T110000
DTEND;TZID=Europe/Ljubljana:20260122T140000
DTSTAMP:20260423T233715Z
UID:fs-AFLABS-URNIK:rezervacija:12055
ATTENDEE:RRP-2 (RRP-2)
CATEGORIES:Reservation
COLOR:royalblue
DESCRIPTION:Predmeti: Rigid body dynamics (DTTR)\nLetniki: RRP-2 (RRP-2)\n
 Izvajalci: Janko Slavič\nProstori: Lecture hall IV/4\, Lecture hall V/2\,
  Lecture hall V/8
LOCATION:Lecture hall IV/4\, Lecture hall V/2\, Lecture hall V/8
ORGANIZER:Janko Slavič
X-WR-TIMEZONE:Europe/Ljubljana
END:VEVENT
BEGIN:VEVENT
SUMMARY:Izpit: Numerične metode
DTSTART;TZID=Europe/Ljubljana:20260123T160000
DTEND;TZID=Europe/Ljubljana:20260123T190000
DTSTAMP:20260423T233715Z
UID:fs-AFLABS-URNIK:rezervacija:12086
ATTENDEE:RRP-2 (RRP-2)
CATEGORIES:Reservation
COLOR:royalblue
DESCRIPTION:Predmeti: Numerical methods (NMMR)\nLetniki: RRP-2 (RRP-2)\nIz
 vajalci: Janko Slavič\nProstori: Lecture hall V/8
LOCATION:Lecture hall V/8
ORGANIZER:Janko Slavič
X-WR-TIMEZONE:Europe/Ljubljana
END:VEVENT
BEGIN:VEVENT
SUMMARY:Izpit: Višja dinamika
DTSTART;TZID=Europe/Ljubljana:20260203T100000
DTEND;TZID=Europe/Ljubljana:20260203T130000
DTSTAMP:20260423T233715Z
UID:fs-AFLABS-URNIK:rezervacija:12462
ATTENDEE:Mechanics (MAG-1)
CATEGORIES:Reservation
COLOR:royalblue
DESCRIPTION:Predmeti: Advanced dynamics (VSDM)\nLetniki: Mechanics (MAG-1)
 \nIzvajalci: Janko Slavič\nProstori: Lecture hall III/4
LOCATION:Lecture hall III/4
ORGANIZER:Janko Slavič
X-WR-TIMEZONE:Europe/Ljubljana
END:VEVENT
BEGIN:VEVENT
SUMMARY:Izpit: Višja dinamika
DTSTART;TZID=Europe/Ljubljana:20260203T100000
DTEND;TZID=Europe/Ljubljana:20260203T130000
DTSTAMP:20260423T233715Z
UID:fs-AFLABS-URNIK:rezervacija:12463
ATTENDEE:Mechanics (MAG-1)
CATEGORIES:Reservation
COLOR:royalblue
DESCRIPTION:Predmeti: Advanced dynamics (VSDM)\nLetniki: Mechanics (MAG-1)
 \nIzvajalci: Janko Slavič\nProstori: Lecture hall III/4
LOCATION:Lecture hall III/4
ORGANIZER:Janko Slavič
X-WR-TIMEZONE:Europe/Ljubljana
END:VEVENT
BEGIN:VEVENT
SUMMARY:Izpit: Dinamika togih teles
DTSTART;TZID=Europe/Ljubljana:20260205T080000
DTEND;TZID=Europe/Ljubljana:20260205T110000
DTSTAMP:20260423T233715Z
UID:fs-AFLABS-URNIK:rezervacija:12555
ATTENDEE:RRP-2 (RRP-2)
CATEGORIES:Reservation
COLOR:royalblue
DESCRIPTION:Predmeti: Rigid body dynamics (DTTR)\nLetniki: RRP-2 (RRP-2)\n
 Izvajalci: Janko Slavič\nProstori: Lecture hall IV/4
LOCATION:Lecture hall IV/4
ORGANIZER:Janko Slavič
X-WR-TIMEZONE:Europe/Ljubljana
END:VEVENT
BEGIN:VEVENT
SUMMARY:Izpit: Numerične metode
DTSTART;TZID=Europe/Ljubljana:20260206T120000
DTEND;TZID=Europe/Ljubljana:20260206T150000
DTSTAMP:20260423T233715Z
UID:fs-AFLABS-URNIK:rezervacija:12585
ATTENDEE:RRP-2 (RRP-2)
CATEGORIES:Reservation
COLOR:royalblue
DESCRIPTION:Predmeti: Numerical methods (NMMR)\nLetniki: RRP-2 (RRP-2)\nIz
 vajalci: Janko Slavič\nProstori: Lecture hall V/2
LOCATION:Lecture hall V/2
ORGANIZER:Janko Slavič
X-WR-TIMEZONE:Europe/Ljubljana
END:VEVENT
BEGIN:VEVENT
SUMMARY:Izpit: Dinamika togih teles
DTSTART;TZID=Europe/Ljubljana:20260122T110000
DTEND;TZID=Europe/Ljubljana:20260122T140000
DTSTAMP:20260423T233715Z
UID:fs-AFLABS-URNIK:rezervacija:12646
ATTENDEE:RRP-2 (RRP-2)
CATEGORIES:Reservation
COLOR:royalblue
DESCRIPTION:Predmeti: Rigid body dynamics (DTTR)\nLetniki: RRP-2 (RRP-2)\n
 Izvajalci: Janko Slavič\nProstori: Lecture hall IV/4\, Lecture hall V/2\,
  Lecture hall V/8
LOCATION:Lecture hall IV/4\, Lecture hall V/2\, Lecture hall V/8
ORGANIZER:Janko Slavič
X-WR-TIMEZONE:Europe/Ljubljana
END:VEVENT
BEGIN:VEVENT
SUMMARY:Izpit: Dinamika togih teles
DTSTART;TZID=Europe/Ljubljana:20260205T080000
DTEND;TZID=Europe/Ljubljana:20260205T110000
DTSTAMP:20260423T233715Z
UID:fs-AFLABS-URNIK:rezervacija:12648
ATTENDEE:RRP-2 (RRP-2)
CATEGORIES:Reservation
COLOR:royalblue
DESCRIPTION:Predmeti: Rigid body dynamics (DTTR)\nLetniki: RRP-2 (RRP-2)\n
 Izvajalci: Janko Slavič\nProstori: Lecture hall IV/4
LOCATION:Lecture hall IV/4
ORGANIZER:Janko Slavič
X-WR-TIMEZONE:Europe/Ljubljana
END:VEVENT
BEGIN:VEVENT
SUMMARY:Izpit: Numerične metode
DTSTART;TZID=Europe/Ljubljana:20260123T160000
DTEND;TZID=Europe/Ljubljana:20260123T190000
DTSTAMP:20260423T233715Z
UID:fs-AFLABS-URNIK:rezervacija:12653
ATTENDEE:RRP-2 (RRP-2)
CATEGORIES:Reservation
COLOR:royalblue
DESCRIPTION:Predmeti: Numerical methods (NMMR)\nLetniki: RRP-2 (RRP-2)\nIz
 vajalci: Janko Slavič\nProstori: Lecture hall V/8
LOCATION:Lecture hall V/8
ORGANIZER:Janko Slavič
X-WR-TIMEZONE:Europe/Ljubljana
END:VEVENT
BEGIN:VEVENT
SUMMARY:Izpit: Numerične metode
DTSTART;TZID=Europe/Ljubljana:20260206T120000
DTEND;TZID=Europe/Ljubljana:20260206T150000
DTSTAMP:20260423T233715Z
UID:fs-AFLABS-URNIK:rezervacija:12654
ATTENDEE:RRP-2 (RRP-2)
CATEGORIES:Reservation
COLOR:royalblue
DESCRIPTION:Predmeti: Numerical methods (NMMR)\nLetniki: RRP-2 (RRP-2)\nIz
 vajalci: Janko Slavič\nProstori: Lecture hall V/2
LOCATION:Lecture hall V/2
ORGANIZER:Janko Slavič
X-WR-TIMEZONE:Europe/Ljubljana
END:VEVENT
BEGIN:VEVENT
SUMMARY:Izredni izpitni rok Numerične metode (2024)
DTSTART;TZID=Europe/Ljubljana:20260303T080000
DTEND;TZID=Europe/Ljubljana:20260303T100000
DTSTAMP:20260423T233715Z
UID:fs-AFLABS-URNIK:rezervacija:13575
CATEGORIES:Reservation
COLOR:royalblue
DESCRIPTION:Predmeti: \nLetniki: \nIzvajalci: Valentina Hajdinjak\, Janko 
 Slavič\nProstori: Lecture hall IV/3B
LOCATION:Lecture hall IV/3B
ORGANIZER:Valentina Hajdinjak, Janko Slavič
X-WR-TIMEZONE:Europe/Ljubljana
END:VEVENT
BEGIN:VEVENT
SUMMARY:Sestanek PS
DTSTART;TZID=Europe/Ljubljana:20260126T150000
DTEND;TZID=Europe/Ljubljana:20260126T153000
DTSTAMP:20260423T233715Z
UID:fs-AFLABS-URNIK:rezervacija:13593
CATEGORIES:Reservation
COLOR:royalblue
DESCRIPTION:Predmeti: \nLetniki: \nIzvajalci: Janko Slavič\nProstori: Con
 ference room
LOCATION:Conference room
ORGANIZER:Janko Slavič
X-WR-TIMEZONE:Europe/Ljubljana
END:VEVENT
BEGIN:VEVENT
SUMMARY:Sestanek LADISK
DTSTART;TZID=Europe/Ljubljana:20260303T090000
DTEND;TZID=Europe/Ljubljana:20260303T110000
DTSTAMP:20260423T233715Z
UID:fs-AFLABS-URNIK:rezervacija:13674
CATEGORIES:Reservation
COLOR:royalblue
DESCRIPTION:Predmeti: \nLetniki: \nIzvajalci: Janko Slavič\, Klemen Zalet
 elj\nProstori: Conference room
LOCATION:Conference room
ORGANIZER:Janko Slavič, Klemen Zaletelj
X-WR-TIMEZONE:Europe/Ljubljana
END:VEVENT
BEGIN:VEVENT
SUMMARY:DTT izpit
DTSTART;TZID=Europe/Ljubljana:20260205T080000
DTEND;TZID=Europe/Ljubljana:20260205T100000
DTSTAMP:20260423T233715Z
UID:fs-AFLABS-URNIK:rezervacija:13679
ATTENDEE:RRP-2 (RRP-2)
CATEGORIES:Reservation
COLOR:royalblue
DESCRIPTION:Predmeti: Rigid body dynamics (DTTR)\nLetniki: RRP-2 (RRP-2)\n
 Izvajalci: Janko Slavič\nProstori: Lecture hall V/2
LOCATION:Lecture hall V/2
ORGANIZER:Janko Slavič
X-WR-TIMEZONE:Europe/Ljubljana
END:VEVENT
BEGIN:VEVENT
SUMMARY:DTT izpit
DTSTART;TZID=Europe/Ljubljana:20260205T110000
DTEND;TZID=Europe/Ljubljana:20260205T130000
DTSTAMP:20260423T233715Z
UID:fs-AFLABS-URNIK:rezervacija:13680
ATTENDEE:RRP-2 (RRP-2)
CATEGORIES:Reservation
COLOR:royalblue
DESCRIPTION:Predmeti: Rigid body dynamics (DTTR)\nLetniki: RRP-2 (RRP-2)\n
 Izvajalci: Janko Slavič\nProstori: Lecture hall IV/4
LOCATION:Lecture hall IV/4
ORGANIZER:Janko Slavič
X-WR-TIMEZONE:Europe/Ljubljana
END:VEVENT
BEGIN:VEVENT
SUMMARY:NM - Komisijski izpit
DTSTART;TZID=Europe/Ljubljana:20260212T080000
DTEND;TZID=Europe/Ljubljana:20260212T090000
DTSTAMP:20260423T233715Z
UID:fs-AFLABS-URNIK:rezervacija:13694
CATEGORIES:Reservation
COLOR:royalblue
DESCRIPTION:Predmeti: \nLetniki: \nIzvajalci: Janko Slavič\nProstori: Con
 ference room
LOCATION:Conference room
ORGANIZER:Janko Slavič
X-WR-TIMEZONE:Europe/Ljubljana
END:VEVENT
BEGIN:VEVENT
SUMMARY:DTT - Komisijski rok
DTSTART;TZID=Europe/Ljubljana:20260211T083000
DTEND;TZID=Europe/Ljubljana:20260211T100000
DTSTAMP:20260423T233715Z
UID:fs-AFLABS-URNIK:rezervacija:13701
CATEGORIES:Reservation
COLOR:royalblue
DESCRIPTION:Predmeti: \nLetniki: \nIzvajalci: Janko Slavič\nProstori: Con
 ference room
LOCATION:Conference room
ORGANIZER:Janko Slavič
X-WR-TIMEZONE:Europe/Ljubljana
END:VEVENT
END:VCALENDAR
