BEGIN:VCALENDAR
VERSION:2.0
PRODID:-//AFLabs urnik izvoz - fs//aflabs.si//SI
NAME:UL FS Urnik
X-WR-CALNAME:UL FS Urnik
DTSTAMP:20260419T143005Z
REFRESH-INTERVAL:PT1H
SOURCE:https://urnik.fs.uni-lj.si/en/teacher/856/?day=2024-09-23&export=1
URL:https://urnik.fs.uni-lj.si/en/teacher/856/?day=2024-09-23&export=1
X-PUBLISHED-TTL:PT1H
X-WR-TIMEZONE:Europe/Ljubljana
BEGIN:VTIMEZONE
TZID:Europe/Ljubljana
BEGIN:DAYLIGHT
DTSTART:20260329T020000
RDATE:20260329T020000
RDATE:20270328T020000
TZNAME:CEST
TZOFFSETFROM:+0100
TZOFFSETTO:+0200
END:DAYLIGHT
BEGIN:STANDARD
DTSTART:20261025T030000
RDATE:20261025T030000
RDATE:20271031T030000
TZNAME:CET
TZOFFSETFROM:+0200
TZOFFSETTO:+0100
END:STANDARD
END:VTIMEZONE
BEGIN:VEVENT
SUMMARY:Numerical modelling methods (MNMR)\, Lecture exercises (VP)
DTSTART;TZID=Europe/Ljubljana:20240930T170000
DTEND;TZID=Europe/Ljubljana:20240930T190000
DTSTAMP:20260419T143005Z
UID:fs-AFLABS-URNIK:srecanje:6941-2024-09-30 17:00:00+02:00
DESCRIPTION:Predmet: Numerical modelling methods (MNMR)\, Lecture exercise
 s (VP)\nLetniki: RRP-3 (RRP-3)\nIzvajalci: Dejan Kovšca\, Andraž Maček\
 , Štefan Obid\, Primož Rus\, Bojan Starman\, Janez Urevc\nProstor: Lectu
 re hall III/4
END:VEVENT
BEGIN:VEVENT
SUMMARY:Numerical modelling methods (MNMR)\, Lecture exercises (VP)
DTSTART;TZID=Europe/Ljubljana:20241007T170000
DTEND;TZID=Europe/Ljubljana:20241007T190000
DTSTAMP:20260419T143005Z
UID:fs-AFLABS-URNIK:srecanje:6941-2024-10-07 17:00:00+02:00
DESCRIPTION:Predmet: Numerical modelling methods (MNMR)\, Lecture exercise
 s (VP)\nLetniki: RRP-3 (RRP-3)\nIzvajalci: Dejan Kovšca\, Andraž Maček\
 , Štefan Obid\, Primož Rus\, Bojan Starman\, Janez Urevc\nProstor: Lectu
 re hall III/4
END:VEVENT
BEGIN:VEVENT
SUMMARY:Statics and strength of materials (STTP)\, Lecture exercises (VP)\
 , [S1]
DTSTART;TZID=Europe/Ljubljana:20240930T153000
DTEND;TZID=Europe/Ljubljana:20240930T183000
DTSTAMP:20260419T143005Z
UID:fs-AFLABS-URNIK:srecanje:7430-2024-09-30 15:30:00+02:00
DESCRIPTION:Predmet: Statics and strength of materials (STTP)\, Lecture ex
 ercises (VP)\, [S1]\nLetniki: PAP-1 (PAP-1)\nIzvajalci: Bojan Starman\nPro
 stor: Lecture hall IV/2
END:VEVENT
BEGIN:VEVENT
SUMMARY:Statics and strength of materials (STTP)\, Lecture exercises (VP)\
 , [S1]
DTSTART;TZID=Europe/Ljubljana:20241007T153000
DTEND;TZID=Europe/Ljubljana:20241007T183000
DTSTAMP:20260419T143005Z
UID:fs-AFLABS-URNIK:srecanje:7430-2024-10-07 15:30:00+02:00
DESCRIPTION:Predmet: Statics and strength of materials (STTP)\, Lecture ex
 ercises (VP)\, [S1]\nLetniki: PAP-1 (PAP-1)\nIzvajalci: Bojan Starman\nPro
 stor: Lecture hall IV/2
END:VEVENT
BEGIN:VEVENT
SUMMARY:Statics and strength of materials (STTP)\, Lecture exercises (VP)\
 , [S1]
DTSTART;TZID=Europe/Ljubljana:20241014T153000
DTEND;TZID=Europe/Ljubljana:20241014T183000
DTSTAMP:20260419T143005Z
UID:fs-AFLABS-URNIK:srecanje:7430-2024-10-14 15:30:00+02:00
DESCRIPTION:Predmet: Statics and strength of materials (STTP)\, Lecture ex
 ercises (VP)\, [S1]\nLetniki: PAP-1 (PAP-1)\nIzvajalci: Bojan Starman\nPro
 stor: Lecture hall IV/2
END:VEVENT
BEGIN:VEVENT
SUMMARY:Statics and strength of materials (STTP)\, Lecture exercises (VP)\
 , [S1]
DTSTART;TZID=Europe/Ljubljana:20241021T153000
DTEND;TZID=Europe/Ljubljana:20241021T183000
DTSTAMP:20260419T143005Z
UID:fs-AFLABS-URNIK:srecanje:7430-2024-10-21 15:30:00+02:00
DESCRIPTION:Predmet: Statics and strength of materials (STTP)\, Lecture ex
 ercises (VP)\, [S1]\nLetniki: PAP-1 (PAP-1)\nIzvajalci: Bojan Starman\nPro
 stor: Lecture hall IV/2
END:VEVENT
BEGIN:VEVENT
SUMMARY:Programming basics (OSPP)\, Lectures (P)
DTSTART;TZID=Europe/Ljubljana:20241001T123000
DTEND;TZID=Europe/Ljubljana:20241001T143000
DTSTAMP:20260419T143005Z
UID:fs-AFLABS-URNIK:srecanje:7094-2024-10-01 12:30:00+02:00
DESCRIPTION:Predmet: Programming basics (OSPP)\, Lectures (P)\nLetniki: Ai
 rcraft design and maintenance (PAP-2)\, Airline transport pilot (PAP-2)\, 
 Design of machines and devices (PAP-2)\, Energy engineering (PAP-2)\, Mech
 atronics (PAP-2)\, Process engineering (PAP-2)\, Production engineering (P
 AP-2)\, Production technologies (PAP-2)\, Konstruiranje strojev in naprav 
 (PAP-2)\nIzvajalci: Miroslav Halilovič\, Nikolaj Mole\, Bojan Starman\nPr
 ostor: Lecture hall V/2
END:VEVENT
BEGIN:VEVENT
SUMMARY:Programming basics (OSPP)\, Lectures (P)
DTSTART;TZID=Europe/Ljubljana:20241008T123000
DTEND;TZID=Europe/Ljubljana:20241008T143000
DTSTAMP:20260419T143005Z
UID:fs-AFLABS-URNIK:srecanje:7094-2024-10-08 12:30:00+02:00
DESCRIPTION:Predmet: Programming basics (OSPP)\, Lectures (P)\nLetniki: Ai
 rcraft design and maintenance (PAP-2)\, Airline transport pilot (PAP-2)\, 
 Design of machines and devices (PAP-2)\, Energy engineering (PAP-2)\, Mech
 atronics (PAP-2)\, Process engineering (PAP-2)\, Production engineering (P
 AP-2)\, Production technologies (PAP-2)\, Konstruiranje strojev in naprav 
 (PAP-2)\nIzvajalci: Miroslav Halilovič\, Nikolaj Mole\, Bojan Starman\nPr
 ostor: Lecture hall V/2
END:VEVENT
BEGIN:VEVENT
SUMMARY:Programming basics (OSPP)\, Lectures (P)
DTSTART;TZID=Europe/Ljubljana:20241015T123000
DTEND;TZID=Europe/Ljubljana:20241015T143000
DTSTAMP:20260419T143005Z
UID:fs-AFLABS-URNIK:srecanje:7094-2024-10-15 12:30:00+02:00
DESCRIPTION:Predmet: Programming basics (OSPP)\, Lectures (P)\nLetniki: Ai
 rcraft design and maintenance (PAP-2)\, Airline transport pilot (PAP-2)\, 
 Design of machines and devices (PAP-2)\, Energy engineering (PAP-2)\, Mech
 atronics (PAP-2)\, Process engineering (PAP-2)\, Production engineering (P
 AP-2)\, Production technologies (PAP-2)\, Konstruiranje strojev in naprav 
 (PAP-2)\nIzvajalci: Miroslav Halilovič\, Nikolaj Mole\, Bojan Starman\nPr
 ostor: Lecture hall V/2
END:VEVENT
BEGIN:VEVENT
SUMMARY:Programming basics (OSPP)\, Lectures (P)
DTSTART;TZID=Europe/Ljubljana:20241022T123000
DTEND;TZID=Europe/Ljubljana:20241022T143000
DTSTAMP:20260419T143005Z
UID:fs-AFLABS-URNIK:srecanje:7094-2024-10-22 12:30:00+02:00
DESCRIPTION:Predmet: Programming basics (OSPP)\, Lectures (P)\nLetniki: Ai
 rcraft design and maintenance (PAP-2)\, Airline transport pilot (PAP-2)\, 
 Design of machines and devices (PAP-2)\, Energy engineering (PAP-2)\, Mech
 atronics (PAP-2)\, Process engineering (PAP-2)\, Production engineering (P
 AP-2)\, Production technologies (PAP-2)\, Konstruiranje strojev in naprav 
 (PAP-2)\nIzvajalci: Miroslav Halilovič\, Nikolaj Mole\, Bojan Starman\nPr
 ostor: Lecture hall V/2
END:VEVENT
BEGIN:VEVENT
SUMMARY:Statics and strength of materials (STTP)\, Lecture exercises (VP)\
 , [S3]
DTSTART;TZID=Europe/Ljubljana:20241003T153000
DTEND;TZID=Europe/Ljubljana:20241003T183000
DTSTAMP:20260419T143005Z
UID:fs-AFLABS-URNIK:srecanje:7432-2024-10-03 15:30:00+02:00
DESCRIPTION:Predmet: Statics and strength of materials (STTP)\, Lecture ex
 ercises (VP)\, [S3]\nLetniki: PAP-1 (PAP-1)\nIzvajalci: Bojan Starman\nPro
 stor: Lecture hall V/2
END:VEVENT
BEGIN:VEVENT
SUMMARY:Statics and strength of materials (STTP)\, Lecture exercises (VP)\
 , [S3]
DTSTART;TZID=Europe/Ljubljana:20241010T153000
DTEND;TZID=Europe/Ljubljana:20241010T183000
DTSTAMP:20260419T143005Z
UID:fs-AFLABS-URNIK:srecanje:7432-2024-10-10 15:30:00+02:00
DESCRIPTION:Predmet: Statics and strength of materials (STTP)\, Lecture ex
 ercises (VP)\, [S3]\nLetniki: PAP-1 (PAP-1)\nIzvajalci: Bojan Starman\nPro
 stor: Lecture hall V/2
END:VEVENT
BEGIN:VEVENT
SUMMARY:Statics and strength of materials (STTP)\, Lecture exercises (VP)\
 , [S3]
DTSTART;TZID=Europe/Ljubljana:20241017T153000
DTEND;TZID=Europe/Ljubljana:20241017T183000
DTSTAMP:20260419T143005Z
UID:fs-AFLABS-URNIK:srecanje:7432-2024-10-17 15:30:00+02:00
DESCRIPTION:Predmet: Statics and strength of materials (STTP)\, Lecture ex
 ercises (VP)\, [S3]\nLetniki: PAP-1 (PAP-1)\nIzvajalci: Bojan Starman\nPro
 stor: Lecture hall V/2
END:VEVENT
BEGIN:VEVENT
SUMMARY:Statics and strength of materials (STTP)\, Lecture exercises (VP)\
 , [S3]
DTSTART;TZID=Europe/Ljubljana:20241024T153000
DTEND;TZID=Europe/Ljubljana:20241024T183000
DTSTAMP:20260419T143005Z
UID:fs-AFLABS-URNIK:srecanje:7432-2024-10-24 15:30:00+02:00
DESCRIPTION:Predmet: Statics and strength of materials (STTP)\, Lecture ex
 ercises (VP)\, [S3]\nLetniki: PAP-1 (PAP-1)\nIzvajalci: Bojan Starman\nPro
 stor: Lecture hall V/2
END:VEVENT
BEGIN:VEVENT
SUMMARY:Mechanics of structural elements (MKEM)\, Laboratory excercises (V
 L)\, [S2]
DTSTART;TZID=Europe/Ljubljana:20241015T080000
DTEND;TZID=Europe/Ljubljana:20241015T100000
DTSTAMP:20260419T143005Z
UID:fs-AFLABS-URNIK:srecanje:6875-2024-10-15 08:00:00+02:00
DESCRIPTION:Predmet: Mechanics of structural elements (MKEM)\, Laboratory 
 excercises (VL)\, [S2]\nLetniki: Mechanics (MAG-1)\nIzvajalci: Dejan Kovš
 ca\, Andraž Maček\, Nikolaj Mole\, Štefan Obid\, Primož Rus\, Bojan St
 arman\, Janez Urevc\nProstor: Computer lecture room LADISK  I/4B
END:VEVENT
BEGIN:VEVENT
SUMMARY:Mechanics of structural elements (MKEM)\, Laboratory excercises (V
 L)\, [S2]
DTSTART;TZID=Europe/Ljubljana:20241022T080000
DTEND;TZID=Europe/Ljubljana:20241022T100000
DTSTAMP:20260419T143005Z
UID:fs-AFLABS-URNIK:srecanje:6875-2024-10-22 08:00:00+02:00
DESCRIPTION:Predmet: Mechanics of structural elements (MKEM)\, Laboratory 
 excercises (VL)\, [S2]\nLetniki: Mechanics (MAG-1)\nIzvajalci: Dejan Kovš
 ca\, Andraž Maček\, Nikolaj Mole\, Štefan Obid\, Primož Rus\, Bojan St
 arman\, Janez Urevc\nProstor: Computer lecture room LADISK  I/4B
END:VEVENT
BEGIN:VEVENT
SUMMARY:Mechanics of structural elements (MKEM)\, Laboratory excercises (V
 L)\, [S3]
DTSTART;TZID=Europe/Ljubljana:20241015T100000
DTEND;TZID=Europe/Ljubljana:20241015T120000
DTSTAMP:20260419T143005Z
UID:fs-AFLABS-URNIK:srecanje:6876-2024-10-15 10:00:00+02:00
DESCRIPTION:Predmet: Mechanics of structural elements (MKEM)\, Laboratory 
 excercises (VL)\, [S3]\nLetniki: Mechanics (MAG-1)\nIzvajalci: Dejan Kovš
 ca\, Andraž Maček\, Štefan Obid\, Primož Rus\, Bojan Starman\, Janez U
 revc\nProstor: Computer lecture room LADISK  I/4B
END:VEVENT
BEGIN:VEVENT
SUMMARY:Mechanics of structural elements (MKEM)\, Laboratory excercises (V
 L)\, [S3]
DTSTART;TZID=Europe/Ljubljana:20241022T100000
DTEND;TZID=Europe/Ljubljana:20241022T120000
DTSTAMP:20260419T143005Z
UID:fs-AFLABS-URNIK:srecanje:6876-2024-10-22 10:00:00+02:00
DESCRIPTION:Predmet: Mechanics of structural elements (MKEM)\, Laboratory 
 excercises (VL)\, [S3]\nLetniki: Mechanics (MAG-1)\nIzvajalci: Dejan Kovš
 ca\, Andraž Maček\, Štefan Obid\, Primož Rus\, Bojan Starman\, Janez U
 revc\nProstor: Computer lecture room LADISK  I/4B
END:VEVENT
BEGIN:VEVENT
SUMMARY:Numerical modelling of technological processes (NMTM)\, Laboratory
  excercises (VL)\, [S2]
DTSTART;TZID=Europe/Ljubljana:20241015T080000
DTEND;TZID=Europe/Ljubljana:20241015T100000
DTSTAMP:20260419T143005Z
UID:fs-AFLABS-URNIK:srecanje:7069-2024-10-15 08:00:00+02:00
DESCRIPTION:Predmet: Numerical modelling of technological processes (NMTM)
 \, Laboratory excercises (VL)\, [S2]\nLetniki: Mechanics (MAG-2)\nIzvajalc
 i: Dejan Kovšca\, Andraž Maček\, Primož Rus\, Bojan Starman\, Janez Ur
 evc\nProstor: Computer lecture room LNMS II/1
END:VEVENT
BEGIN:VEVENT
SUMMARY:Numerical modelling of technological processes (NMTM)\, Laboratory
  excercises (VL)\, [S2]
DTSTART;TZID=Europe/Ljubljana:20241022T080000
DTEND;TZID=Europe/Ljubljana:20241022T100000
DTSTAMP:20260419T143005Z
UID:fs-AFLABS-URNIK:srecanje:7069-2024-10-22 08:00:00+02:00
DESCRIPTION:Predmet: Numerical modelling of technological processes (NMTM)
 \, Laboratory excercises (VL)\, [S2]\nLetniki: Mechanics (MAG-2)\nIzvajalc
 i: Dejan Kovšca\, Andraž Maček\, Primož Rus\, Bojan Starman\, Janez Ur
 evc\nProstor: Computer lecture room LNMS II/1
END:VEVENT
BEGIN:VEVENT
SUMMARY:Numerical modelling of technological processes (NMTM)\, Laboratory
  excercises (VL)\, [S3]
DTSTART;TZID=Europe/Ljubljana:20241015T100000
DTEND;TZID=Europe/Ljubljana:20241015T120000
DTSTAMP:20260419T143005Z
UID:fs-AFLABS-URNIK:srecanje:7070-2024-10-15 10:00:00+02:00
DESCRIPTION:Predmet: Numerical modelling of technological processes (NMTM)
 \, Laboratory excercises (VL)\, [S3]\nLetniki: Mechanics (MAG-2)\nIzvajalc
 i: Dejan Kovšca\, Andraž Maček\, Primož Rus\, Bojan Starman\, Janez Ur
 evc\nProstor: Computer lecture room LNMS II/1
END:VEVENT
BEGIN:VEVENT
SUMMARY:Numerical modelling of technological processes (NMTM)\, Laboratory
  excercises (VL)\, [S3]
DTSTART;TZID=Europe/Ljubljana:20241022T100000
DTEND;TZID=Europe/Ljubljana:20241022T120000
DTSTAMP:20260419T143005Z
UID:fs-AFLABS-URNIK:srecanje:7070-2024-10-22 10:00:00+02:00
DESCRIPTION:Predmet: Numerical modelling of technological processes (NMTM)
 \, Laboratory excercises (VL)\, [S3]\nLetniki: Mechanics (MAG-2)\nIzvajalc
 i: Dejan Kovšca\, Andraž Maček\, Primož Rus\, Bojan Starman\, Janez Ur
 evc\nProstor: Computer lecture room LNMS II/1
END:VEVENT
BEGIN:VEVENT
SUMMARY:Numerical modelling methods (MNMR)\, Laboratory excercises (VL)\, 
 [S3]
DTSTART;TZID=Europe/Ljubljana:20241016T160000
DTEND;TZID=Europe/Ljubljana:20241016T180000
DTSTAMP:20260419T143005Z
UID:fs-AFLABS-URNIK:srecanje:6934-2024-10-16 16:00:00+02:00
DESCRIPTION:Predmet: Numerical modelling methods (MNMR)\, Laboratory excer
 cises (VL)\, [S3]\nLetniki: RRP-3 (RRP-3)\nIzvajalci: Dejan Kovšca\, Andr
 až Maček\, Štefan Obid\, Primož Rus\, Bojan Starman\, Janez Urevc\nPro
 stor: Computer lecture room LADISK  I/4B
END:VEVENT
BEGIN:VEVENT
SUMMARY:Numerical modelling methods (MNMR)\, Laboratory excercises (VL)\, 
 [S3]
DTSTART;TZID=Europe/Ljubljana:20241023T160000
DTEND;TZID=Europe/Ljubljana:20241023T180000
DTSTAMP:20260419T143005Z
UID:fs-AFLABS-URNIK:srecanje:6934-2024-10-23 16:00:00+02:00
DESCRIPTION:Predmet: Numerical modelling methods (MNMR)\, Laboratory excer
 cises (VL)\, [S3]\nLetniki: RRP-3 (RRP-3)\nIzvajalci: Dejan Kovšca\, Andr
 až Maček\, Štefan Obid\, Primož Rus\, Bojan Starman\, Janez Urevc\nPro
 stor: Computer lecture room LADISK  I/4B
END:VEVENT
BEGIN:VEVENT
SUMMARY:Numerical modelling methods (MNMR)\, Laboratory excercises (VL)\, 
 [S5]
DTSTART;TZID=Europe/Ljubljana:20241016T180000
DTEND;TZID=Europe/Ljubljana:20241016T200000
DTSTAMP:20260419T143005Z
UID:fs-AFLABS-URNIK:srecanje:6937-2024-10-16 18:00:00+02:00
DESCRIPTION:Predmet: Numerical modelling methods (MNMR)\, Laboratory excer
 cises (VL)\, [S5]\nLetniki: RRP-3 (RRP-3)\nIzvajalci: Dejan Kovšca\, Andr
 až Maček\, Štefan Obid\, Primož Rus\, Bojan Starman\, Janez Urevc\nPro
 stor: Computer lecture room LADISK  I/4B
END:VEVENT
BEGIN:VEVENT
SUMMARY:Numerical modelling methods (MNMR)\, Laboratory excercises (VL)\, 
 [S5]
DTSTART;TZID=Europe/Ljubljana:20241023T180000
DTEND;TZID=Europe/Ljubljana:20241023T200000
DTSTAMP:20260419T143005Z
UID:fs-AFLABS-URNIK:srecanje:6937-2024-10-23 18:00:00+02:00
DESCRIPTION:Predmet: Numerical modelling methods (MNMR)\, Laboratory excer
 cises (VL)\, [S5]\nLetniki: RRP-3 (RRP-3)\nIzvajalci: Dejan Kovšca\, Andr
 až Maček\, Štefan Obid\, Primož Rus\, Bojan Starman\, Janez Urevc\nPro
 stor: Computer lecture room LADISK  I/4B
END:VEVENT
BEGIN:VEVENT
SUMMARY:Mechanics of structural elements (MKEM)\, Laboratory excercises (V
 L)\, [S1]
DTSTART;TZID=Europe/Ljubljana:20241017T100000
DTEND;TZID=Europe/Ljubljana:20241017T120000
DTSTAMP:20260419T143005Z
UID:fs-AFLABS-URNIK:srecanje:11060-2024-10-17 10:00:00+02:00
DESCRIPTION:Predmet: Mechanics of structural elements (MKEM)\, Laboratory 
 excercises (VL)\, [S1]\nLetniki: Mechanics (MAG-1)\nIzvajalci: Dejan Kovš
 ca\, Andraž Maček\, Štefan Obid\, Primož Rus\, Bojan Starman\, Janez U
 revc\nProstor: Computer lecture room LNMS II/1
END:VEVENT
BEGIN:VEVENT
SUMMARY:Mechanics of structural elements (MKEM)\, Laboratory excercises (V
 L)\, [S1]
DTSTART;TZID=Europe/Ljubljana:20241024T100000
DTEND;TZID=Europe/Ljubljana:20241024T120000
DTSTAMP:20260419T143005Z
UID:fs-AFLABS-URNIK:srecanje:11060-2024-10-24 10:00:00+02:00
DESCRIPTION:Predmet: Mechanics of structural elements (MKEM)\, Laboratory 
 excercises (VL)\, [S1]\nLetniki: Mechanics (MAG-1)\nIzvajalci: Dejan Kovš
 ca\, Andraž Maček\, Štefan Obid\, Primož Rus\, Bojan Starman\, Janez U
 revc\nProstor: Computer lecture room LNMS II/1
END:VEVENT
BEGIN:VEVENT
SUMMARY:Numerical modelling methods (MNMR)\, Laboratory excercises (VL)\, 
 [S4]
DTSTART;TZID=Europe/Ljubljana:20241018T150000
DTEND;TZID=Europe/Ljubljana:20241018T163000
DTSTAMP:20260419T143005Z
UID:fs-AFLABS-URNIK:srecanje:6936-2024-10-18 15:00:00+02:00
DESCRIPTION:Predmet: Numerical modelling methods (MNMR)\, Laboratory excer
 cises (VL)\, [S4]\nLetniki: RRP-3 (RRP-3)\nIzvajalci: Dejan Kovšca\, Andr
 až Maček\, Štefan Obid\, Primož Rus\, Bojan Starman\, Janez Urevc\nPro
 stor: Computer lecture room LNMS II/1
END:VEVENT
BEGIN:VEVENT
SUMMARY:Numerical modelling methods (MNMR)\, Laboratory excercises (VL)\, 
 [S4]
DTSTART;TZID=Europe/Ljubljana:20241025T150000
DTEND;TZID=Europe/Ljubljana:20241025T163000
DTSTAMP:20260419T143005Z
UID:fs-AFLABS-URNIK:srecanje:6936-2024-10-25 15:00:00+02:00
DESCRIPTION:Predmet: Numerical modelling methods (MNMR)\, Laboratory excer
 cises (VL)\, [S4]\nLetniki: RRP-3 (RRP-3)\nIzvajalci: Dejan Kovšca\, Andr
 až Maček\, Štefan Obid\, Primož Rus\, Bojan Starman\, Janez Urevc\nPro
 stor: Computer lecture room LNMS II/1
END:VEVENT
BEGIN:VEVENT
SUMMARY:Numerical modelling methods (MNMR)\, Laboratory excercises (VL)\, 
 [S6]
DTSTART;TZID=Europe/Ljubljana:20241018T163000
DTEND;TZID=Europe/Ljubljana:20241018T180000
DTSTAMP:20260419T143005Z
UID:fs-AFLABS-URNIK:srecanje:6938-2024-10-18 16:30:00+02:00
DESCRIPTION:Predmet: Numerical modelling methods (MNMR)\, Laboratory excer
 cises (VL)\, [S6]\nLetniki: RRP-3 (RRP-3)\nIzvajalci: Dejan Kovšca\, Andr
 až Maček\, Štefan Obid\, Primož Rus\, Bojan Starman\, Janez Urevc\nPro
 stor: Computer lecture room LADISK  I/4B
END:VEVENT
BEGIN:VEVENT
SUMMARY:Numerical modelling methods (MNMR)\, Laboratory excercises (VL)\, 
 [S6]
DTSTART;TZID=Europe/Ljubljana:20241025T163000
DTEND;TZID=Europe/Ljubljana:20241025T180000
DTSTAMP:20260419T143005Z
UID:fs-AFLABS-URNIK:srecanje:6938-2024-10-25 16:30:00+02:00
DESCRIPTION:Predmet: Numerical modelling methods (MNMR)\, Laboratory excer
 cises (VL)\, [S6]\nLetniki: RRP-3 (RRP-3)\nIzvajalci: Dejan Kovšca\, Andr
 až Maček\, Štefan Obid\, Primož Rus\, Bojan Starman\, Janez Urevc\nPro
 stor: Computer lecture room LADISK  I/4B
END:VEVENT
BEGIN:VEVENT
SUMMARY:Numerical modelling methods (MNMR)\, Laboratory excercises (VL)\, 
 [S8]
DTSTART;TZID=Europe/Ljubljana:20241018T163000
DTEND;TZID=Europe/Ljubljana:20241018T180000
DTSTAMP:20260419T143005Z
UID:fs-AFLABS-URNIK:srecanje:6940-2024-10-18 16:30:00+02:00
DESCRIPTION:Predmet: Numerical modelling methods (MNMR)\, Laboratory excer
 cises (VL)\, [S8]\nLetniki: RRP-3 (RRP-3)\nIzvajalci: Dejan Kovšca\, Andr
 až Maček\, Štefan Obid\, Primož Rus\, Bojan Starman\, Janez Urevc\nPro
 stor: Computer lecture room LNMS II/1
END:VEVENT
BEGIN:VEVENT
SUMMARY:Numerical modelling methods (MNMR)\, Laboratory excercises (VL)\, 
 [S8]
DTSTART;TZID=Europe/Ljubljana:20241025T163000
DTEND;TZID=Europe/Ljubljana:20241025T180000
DTSTAMP:20260419T143005Z
UID:fs-AFLABS-URNIK:srecanje:6940-2024-10-25 16:30:00+02:00
DESCRIPTION:Predmet: Numerical modelling methods (MNMR)\, Laboratory excer
 cises (VL)\, [S8]\nLetniki: RRP-3 (RRP-3)\nIzvajalci: Dejan Kovšca\, Andr
 až Maček\, Štefan Obid\, Primož Rus\, Bojan Starman\, Janez Urevc\nPro
 stor: Computer lecture room LNMS II/1
END:VEVENT
BEGIN:VEVENT
SUMMARY:Numerical modelling of technological processes (NMTM)\, Laboratory
  excercises (VL)\, [S1]
DTSTART;TZID=Europe/Ljubljana:20241018T080000
DTEND;TZID=Europe/Ljubljana:20241018T100000
DTSTAMP:20260419T143005Z
UID:fs-AFLABS-URNIK:srecanje:7068-2024-10-18 08:00:00+02:00
DESCRIPTION:Predmet: Numerical modelling of technological processes (NMTM)
 \, Laboratory excercises (VL)\, [S1]\nLetniki: Mechanics (MAG-2)\nIzvajalc
 i: Dejan Kovšca\, Andraž Maček\, Primož Rus\, Bojan Starman\, Janez Ur
 evc\nProstor: Computer lecture room LNMS II/1
END:VEVENT
BEGIN:VEVENT
SUMMARY:Numerical modelling of technological processes (NMTM)\, Laboratory
  excercises (VL)\, [S1]
DTSTART;TZID=Europe/Ljubljana:20241025T080000
DTEND;TZID=Europe/Ljubljana:20241025T100000
DTSTAMP:20260419T143005Z
UID:fs-AFLABS-URNIK:srecanje:7068-2024-10-25 08:00:00+02:00
DESCRIPTION:Predmet: Numerical modelling of technological processes (NMTM)
 \, Laboratory excercises (VL)\, [S1]\nLetniki: Mechanics (MAG-2)\nIzvajalc
 i: Dejan Kovšca\, Andraž Maček\, Primož Rus\, Bojan Starman\, Janez Ur
 evc\nProstor: Computer lecture room LNMS II/1
END:VEVENT
BEGIN:VEVENT
SUMMARY:Mechanics of structural elements (MKEM)\, Laboratory excercises (V
 L)\, [S1]
DTSTART;TZID=Europe/Ljubljana:20241028T100000
DTEND;TZID=Europe/Ljubljana:20241028T120000
DTSTAMP:20260419T143005Z
UID:fs-AFLABS-URNIK:premaknjeno-srecanje:101829
ATTENDEE:Mechanics (MAG-1)
CATEGORIES:Entry,Special
COLOR:forestgreen
DESCRIPTION:Predmet: Mechanics of structural elements (MKEM)\, Laboratory 
 excercises (VL)\, [S1]\nLetniki: Mechanics (MAG-1)\nIzvajalci: Dejan Kovš
 ca\, Andraž Maček\, Štefan Obid\, Primož Rus\, Bojan Starman\, Janez U
 revc\nProstor: Computer lecture room LNMS II/1
LOCATION:Computer lecture room LNMS II/1
ORGANIZER:Dejan Kovšca, Andraž Maček, Štefan Obid, Primož Rus, Bojan 
 Starman, Janez Urevc
RELATED-TO:fs-AFLABS-URNIK:srecanje:14042
X-WR-TIMEZONE:Europe/Ljubljana
END:VEVENT
BEGIN:VEVENT
SUMMARY:Statics and strength of materials (STTP)\, Lecture exercises (VP)\
 , [S3]
DTSTART;TZID=Europe/Ljubljana:20241028T153000
DTEND;TZID=Europe/Ljubljana:20241028T183000
DTSTAMP:20260419T143005Z
UID:fs-AFLABS-URNIK:premaknjeno-srecanje:101880
ATTENDEE:PAP-1 (PAP-1)
CATEGORIES:Entry,Special
COLOR:forestgreen
DESCRIPTION:Predmet: Statics and strength of materials (STTP)\, Lecture ex
 ercises (VP)\, [S3]\nLetniki: PAP-1 (PAP-1)\nIzvajalci: Bojan Starman\nPro
 stor: Lecture hall V/2
LOCATION:Lecture hall V/2
ORGANIZER:Bojan Starman
RELATED-TO:fs-AFLABS-URNIK:srecanje:14093
X-WR-TIMEZONE:Europe/Ljubljana
END:VEVENT
END:VCALENDAR
