BEGIN:VCALENDAR
VERSION:2.0
PRODID:-//AFLabs urnik izvoz - fs//aflabs.si//SI
NAME:UL FS Urnik
X-WR-CALNAME:UL FS Urnik
DTSTAMP:20260425T200414Z
REFRESH-INTERVAL:PT1H
SOURCE:https://urnik.fs.uni-lj.si/en/teacher/858/?day=2026-01-19&export=1
URL:https://urnik.fs.uni-lj.si/en/teacher/858/?day=2026-01-19&export=1
X-PUBLISHED-TTL:PT1H
X-WR-TIMEZONE:Europe/Ljubljana
BEGIN:VTIMEZONE
TZID:Europe/Ljubljana
BEGIN:DAYLIGHT
DTSTART:20260329T020000
RDATE:20260329T020000
RDATE:20270328T020000
TZNAME:CEST
TZOFFSETFROM:+0100
TZOFFSETTO:+0200
END:DAYLIGHT
BEGIN:STANDARD
DTSTART:20261025T030000
RDATE:20261025T030000
RDATE:20271031T030000
TZNAME:CET
TZOFFSETFROM:+0200
TZOFFSETTO:+0100
END:STANDARD
END:VTIMEZONE
BEGIN:VEVENT
SUMMARY:Surface and contact engineering (IPKM)\, Laboratory excercises (VL
 )\, [S1]
DTSTART;TZID=Europe/Ljubljana:20251216T080000
DTEND;TZID=Europe/Ljubljana:20251216T100000
DTSTAMP:20260425T200414Z
UID:fs-AFLABS-URNIK:srecanje:16654-2025-12-16 08:00:00+01:00
DESCRIPTION:Predmet: Surface and contact engineering (IPKM)\, Laboratory e
 xcercises (VL)\, [S1]\nLetniki: Engineering design (MAG-1)\nIzvajalci: Luc
 ija Čoga\, Petra Jan\, Urban Klanjšček\, Franc Kopač\, Mark Kuzman\, N
 ejc Osolnik\, Marko Polajnar\, Tomaž Požar\, Anastasia Samodurova\, Jož
 ica Sterle\, Jakob Živalič\nProstor: Laboratory TINT TiNT 3
END:VEVENT
BEGIN:VEVENT
SUMMARY:Surface and contact engineering (IPKM)\, Laboratory excercises (VL
 )\, [S1]
DTSTART;TZID=Europe/Ljubljana:20251223T080000
DTEND;TZID=Europe/Ljubljana:20251223T100000
DTSTAMP:20260425T200414Z
UID:fs-AFLABS-URNIK:srecanje:16654-2025-12-23 08:00:00+01:00
DESCRIPTION:Predmet: Surface and contact engineering (IPKM)\, Laboratory e
 xcercises (VL)\, [S1]\nLetniki: Engineering design (MAG-1)\nIzvajalci: Luc
 ija Čoga\, Petra Jan\, Urban Klanjšček\, Franc Kopač\, Mark Kuzman\, N
 ejc Osolnik\, Marko Polajnar\, Tomaž Požar\, Anastasia Samodurova\, Jož
 ica Sterle\, Jakob Živalič\nProstor: Laboratory TINT TiNT 3
END:VEVENT
BEGIN:VEVENT
SUMMARY:Surface and contact engineering (IPKM)\, Laboratory excercises (VL
 )\, [S2]
DTSTART;TZID=Europe/Ljubljana:20251216T120000
DTEND;TZID=Europe/Ljubljana:20251216T140000
DTSTAMP:20260425T200414Z
UID:fs-AFLABS-URNIK:srecanje:16655-2025-12-16 12:00:00+01:00
DESCRIPTION:Predmet: Surface and contact engineering (IPKM)\, Laboratory e
 xcercises (VL)\, [S2]\nLetniki: Engineering design (MAG-1)\nIzvajalci: Luc
 ija Čoga\, Petra Jan\, Urban Klanjšček\, Franc Kopač\, Mark Kuzman\, N
 ejc Osolnik\, Marko Polajnar\, Tomaž Požar\, Anastasia Samodurova\, Jož
 ica Sterle\, Jakob Živalič\nProstor: Laboratory TINT TiNT 3
END:VEVENT
BEGIN:VEVENT
SUMMARY:Surface and contact engineering (IPKM)\, Laboratory excercises (VL
 )\, [S2]
DTSTART;TZID=Europe/Ljubljana:20251223T120000
DTEND;TZID=Europe/Ljubljana:20251223T140000
DTSTAMP:20260425T200414Z
UID:fs-AFLABS-URNIK:srecanje:16655-2025-12-23 12:00:00+01:00
DESCRIPTION:Predmet: Surface and contact engineering (IPKM)\, Laboratory e
 xcercises (VL)\, [S2]\nLetniki: Engineering design (MAG-1)\nIzvajalci: Luc
 ija Čoga\, Petra Jan\, Urban Klanjšček\, Franc Kopač\, Mark Kuzman\, N
 ejc Osolnik\, Marko Polajnar\, Tomaž Požar\, Anastasia Samodurova\, Jož
 ica Sterle\, Jakob Živalič\nProstor: Laboratory TINT TiNT 3
END:VEVENT
BEGIN:VEVENT
SUMMARY:Surface and contact engineering (IPKM)\, Laboratory excercises (VL
 )\, [S3]
DTSTART;TZID=Europe/Ljubljana:20251217T100000
DTEND;TZID=Europe/Ljubljana:20251217T120000
DTSTAMP:20260425T200414Z
UID:fs-AFLABS-URNIK:srecanje:16657-2025-12-17 10:00:00+01:00
DESCRIPTION:Predmet: Surface and contact engineering (IPKM)\, Laboratory e
 xcercises (VL)\, [S3]\nLetniki: Engineering design (MAG-1)\nIzvajalci: Luc
 ija Čoga\, Petra Jan\, Urban Klanjšček\, Franc Kopač\, Mark Kuzman\, N
 ejc Osolnik\, Marko Polajnar\, Tomaž Požar\, Anastasia Samodurova\, Jož
 ica Sterle\, Jakob Živalič\nProstor: Laboratory TINT TiNT 3
END:VEVENT
BEGIN:VEVENT
SUMMARY:Surface and contact engineering (IPKM)\, Laboratory excercises (VL
 )\, [S3]
DTSTART;TZID=Europe/Ljubljana:20251224T100000
DTEND;TZID=Europe/Ljubljana:20251224T120000
DTSTAMP:20260425T200414Z
UID:fs-AFLABS-URNIK:srecanje:16657-2025-12-24 10:00:00+01:00
DESCRIPTION:Predmet: Surface and contact engineering (IPKM)\, Laboratory e
 xcercises (VL)\, [S3]\nLetniki: Engineering design (MAG-1)\nIzvajalci: Luc
 ija Čoga\, Petra Jan\, Urban Klanjšček\, Franc Kopač\, Mark Kuzman\, N
 ejc Osolnik\, Marko Polajnar\, Tomaž Požar\, Anastasia Samodurova\, Jož
 ica Sterle\, Jakob Živalič\nProstor: Laboratory TINT TiNT 3
END:VEVENT
BEGIN:VEVENT
SUMMARY:Surface and contact engineering (IPKM)\, Laboratory excercises (VL
 )\, [S4]
DTSTART;TZID=Europe/Ljubljana:20251217T120000
DTEND;TZID=Europe/Ljubljana:20251217T140000
DTSTAMP:20260425T200414Z
UID:fs-AFLABS-URNIK:srecanje:16658-2025-12-17 12:00:00+01:00
DESCRIPTION:Predmet: Surface and contact engineering (IPKM)\, Laboratory e
 xcercises (VL)\, [S4]\nLetniki: Engineering design (MAG-1)\nIzvajalci: Luc
 ija Čoga\, Petra Jan\, Urban Klanjšček\, Franc Kopač\, Mark Kuzman\, N
 ejc Osolnik\, Marko Polajnar\, Tomaž Požar\, Anastasia Samodurova\, Jož
 ica Sterle\, Jakob Živalič\nProstor: Laboratory TINT TiNT 3
END:VEVENT
BEGIN:VEVENT
SUMMARY:Surface and contact engineering (IPKM)\, Laboratory excercises (VL
 )\, [S4]
DTSTART;TZID=Europe/Ljubljana:20251224T120000
DTEND;TZID=Europe/Ljubljana:20251224T140000
DTSTAMP:20260425T200414Z
UID:fs-AFLABS-URNIK:srecanje:16658-2025-12-24 12:00:00+01:00
DESCRIPTION:Predmet: Surface and contact engineering (IPKM)\, Laboratory e
 xcercises (VL)\, [S4]\nLetniki: Engineering design (MAG-1)\nIzvajalci: Luc
 ija Čoga\, Petra Jan\, Urban Klanjšček\, Franc Kopač\, Mark Kuzman\, N
 ejc Osolnik\, Marko Polajnar\, Tomaž Požar\, Anastasia Samodurova\, Jož
 ica Sterle\, Jakob Živalič\nProstor: Laboratory TINT TiNT 3
END:VEVENT
BEGIN:VEVENT
SUMMARY:Surface and contact engineering (IPKM)\, Laboratory excercises (VL
 )\, [S5]
DTSTART;TZID=Europe/Ljubljana:20251218T080000
DTEND;TZID=Europe/Ljubljana:20251218T100000
DTSTAMP:20260425T200414Z
UID:fs-AFLABS-URNIK:srecanje:16660-2025-12-18 08:00:00+01:00
DESCRIPTION:Predmet: Surface and contact engineering (IPKM)\, Laboratory e
 xcercises (VL)\, [S5]\nLetniki: Engineering design (MAG-1)\nIzvajalci: Luc
 ija Čoga\, Petra Jan\, Urban Klanjšček\, Franc Kopač\, Mark Kuzman\, N
 ejc Osolnik\, Marko Polajnar\, Tomaž Požar\, Anastasia Samodurova\, Jož
 ica Sterle\, Jakob Živalič\nProstor: Laboratory TINT TiNT 3
END:VEVENT
BEGIN:VEVENT
SUMMARY:Surface and contact engineering (IPKM)\, Laboratory excercises (VL
 )\, [S5]
DTSTART;TZID=Europe/Ljubljana:20251225T080000
DTEND;TZID=Europe/Ljubljana:20251225T100000
DTSTAMP:20260425T200414Z
UID:fs-AFLABS-URNIK:srecanje:16660-2025-12-25 08:00:00+01:00
DESCRIPTION:Predmet: Surface and contact engineering (IPKM)\, Laboratory e
 xcercises (VL)\, [S5]\nLetniki: Engineering design (MAG-1)\nIzvajalci: Luc
 ija Čoga\, Petra Jan\, Urban Klanjšček\, Franc Kopač\, Mark Kuzman\, N
 ejc Osolnik\, Marko Polajnar\, Tomaž Požar\, Anastasia Samodurova\, Jož
 ica Sterle\, Jakob Živalič\nProstor: Laboratory TINT TiNT 3
END:VEVENT
BEGIN:VEVENT
SUMMARY:Machine and surface damages (PSPP)\, Laboratory excercises (VL)\, 
 [S1]
DTSTART;TZID=Europe/Ljubljana:20251219T100000
DTEND;TZID=Europe/Ljubljana:20251219T113000
DTSTAMP:20260425T200414Z
UID:fs-AFLABS-URNIK:srecanje:16638-2025-12-19 10:00:00+01:00
DESCRIPTION:Predmet: Machine and surface damages (PSPP)\, Laboratory excer
 cises (VL)\, [S1]\nLetniki: Design of industrial systems (PAP-3)\nIzvajalc
 i: Lucija Čoga\, Petra Jan\, Urban Klanjšček\, Mark Kuzman\, Nejc Osoln
 ik\, Marko Polajnar\, Tomaž Požar\, Anastasia Samodurova\, Jožica Sterl
 e\, Jakob Živalič\nProstor: Laboratory TINT TiNT 4
END:VEVENT
BEGIN:VEVENT
SUMMARY:Machine and surface damages (PSPP)\, Laboratory excercises (VL)\, 
 [S1]
DTSTART;TZID=Europe/Ljubljana:20251226T100000
DTEND;TZID=Europe/Ljubljana:20251226T113000
DTSTAMP:20260425T200414Z
UID:fs-AFLABS-URNIK:srecanje:16638-2025-12-26 10:00:00+01:00
DESCRIPTION:Predmet: Machine and surface damages (PSPP)\, Laboratory excer
 cises (VL)\, [S1]\nLetniki: Design of industrial systems (PAP-3)\nIzvajalc
 i: Lucija Čoga\, Petra Jan\, Urban Klanjšček\, Mark Kuzman\, Nejc Osoln
 ik\, Marko Polajnar\, Tomaž Požar\, Anastasia Samodurova\, Jožica Sterl
 e\, Jakob Živalič\nProstor: Laboratory TINT TiNT 4
END:VEVENT
BEGIN:VEVENT
SUMMARY:Machine and surface damages (PSPP)\, Laboratory excercises (VL)\, 
 [S2]
DTSTART;TZID=Europe/Ljubljana:20251219T140000
DTEND;TZID=Europe/Ljubljana:20251219T153000
DTSTAMP:20260425T200414Z
UID:fs-AFLABS-URNIK:srecanje:16640-2025-12-19 14:00:00+01:00
DESCRIPTION:Predmet: Machine and surface damages (PSPP)\, Laboratory excer
 cises (VL)\, [S2]\nLetniki: Design of industrial systems (PAP-3)\nIzvajalc
 i: Lucija Čoga\, Petra Jan\, Urban Klanjšček\, Mark Kuzman\, Nejc Osoln
 ik\, Marko Polajnar\, Tomaž Požar\, Anastasia Samodurova\, Jožica Sterl
 e\, Jakob Živalič\nProstor: Laboratory TINT TiNT 4
END:VEVENT
BEGIN:VEVENT
SUMMARY:Machine and surface damages (PSPP)\, Laboratory excercises (VL)\, 
 [S2]
DTSTART;TZID=Europe/Ljubljana:20251226T140000
DTEND;TZID=Europe/Ljubljana:20251226T153000
DTSTAMP:20260425T200414Z
UID:fs-AFLABS-URNIK:srecanje:16640-2025-12-26 14:00:00+01:00
DESCRIPTION:Predmet: Machine and surface damages (PSPP)\, Laboratory excer
 cises (VL)\, [S2]\nLetniki: Design of industrial systems (PAP-3)\nIzvajalc
 i: Lucija Čoga\, Petra Jan\, Urban Klanjšček\, Mark Kuzman\, Nejc Osoln
 ik\, Marko Polajnar\, Tomaž Požar\, Anastasia Samodurova\, Jožica Sterl
 e\, Jakob Živalič\nProstor: Laboratory TINT TiNT 4
END:VEVENT
BEGIN:VEVENT
SUMMARY:Aircraft maintenance (VZLP)\, Laboratory excercises (VL)\, [S9]
DTSTART;TZID=Europe/Ljubljana:20251222T133000
DTEND;TZID=Europe/Ljubljana:20251222T153000
DTSTAMP:20260425T200414Z
UID:fs-AFLABS-URNIK:srecanje:15815-2025-12-22 13:30:00+01:00
DESCRIPTION:Predmet: Aircraft maintenance (VZLP)\, Laboratory excercises (
 VL)\, [S9]\nLetniki: Aircraft design and maintenance (PAP-2)\, Airline tra
 nsport pilot (PAP-2)\nIzvajalci: Lucija Čoga\, Rok Jelovčan\, Tomaž Po
 žar\, Jan Pustavrh\, Jožica Sterle\nProstor: Laboratory LFT SK-9
END:VEVENT
BEGIN:VEVENT
SUMMARY:Aircraft maintenance (VZLP)\, Laboratory excercises (VL)\, [S9]
DTSTART;TZID=Europe/Ljubljana:20260105T133000
DTEND;TZID=Europe/Ljubljana:20260105T153000
DTSTAMP:20260425T200414Z
UID:fs-AFLABS-URNIK:srecanje:15815-2026-01-05 13:30:00+01:00
DESCRIPTION:Predmet: Aircraft maintenance (VZLP)\, Laboratory excercises (
 VL)\, [S9]\nLetniki: Aircraft design and maintenance (PAP-2)\, Airline tra
 nsport pilot (PAP-2)\nIzvajalci: Lucija Čoga\, Rok Jelovčan\, Tomaž Po
 žar\, Jan Pustavrh\, Jožica Sterle\nProstor: Laboratory LFT SK-9
END:VEVENT
BEGIN:VEVENT
SUMMARY:Aircraft maintenance (VZLP)\, Laboratory excercises (VL)\, [S9]
DTSTART;TZID=Europe/Ljubljana:20260112T133000
DTEND;TZID=Europe/Ljubljana:20260112T153000
DTSTAMP:20260425T200414Z
UID:fs-AFLABS-URNIK:srecanje:15815-2026-01-12 13:30:00+01:00
DESCRIPTION:Predmet: Aircraft maintenance (VZLP)\, Laboratory excercises (
 VL)\, [S9]\nLetniki: Aircraft design and maintenance (PAP-2)\, Airline tra
 nsport pilot (PAP-2)\nIzvajalci: Lucija Čoga\, Rok Jelovčan\, Tomaž Po
 žar\, Jan Pustavrh\, Jožica Sterle\nProstor: Laboratory LFT SK-9
END:VEVENT
BEGIN:VEVENT
SUMMARY:Aircraft maintenance (VZLP)\, Laboratory excercises (VL)\, [S7]
DTSTART;TZID=Europe/Ljubljana:20251223T140000
DTEND;TZID=Europe/Ljubljana:20251223T153000
DTSTAMP:20260425T200414Z
UID:fs-AFLABS-URNIK:srecanje:15816-2025-12-23 14:00:00+01:00
DESCRIPTION:Predmet: Aircraft maintenance (VZLP)\, Laboratory excercises (
 VL)\, [S7]\nLetniki: Aircraft design and maintenance (PAP-2)\, Airline tra
 nsport pilot (PAP-2)\nIzvajalci: Marko Polajnar\, Tomaž Požar\, Jan Pust
 avrh\, Jožica Sterle\nProstor: Laboratory LFT SK-9
END:VEVENT
BEGIN:VEVENT
SUMMARY:Aircraft maintenance (VZLP)\, Laboratory excercises (VL)\, [S7]
DTSTART;TZID=Europe/Ljubljana:20260106T140000
DTEND;TZID=Europe/Ljubljana:20260106T153000
DTSTAMP:20260425T200414Z
UID:fs-AFLABS-URNIK:srecanje:15816-2026-01-06 14:00:00+01:00
DESCRIPTION:Predmet: Aircraft maintenance (VZLP)\, Laboratory excercises (
 VL)\, [S7]\nLetniki: Aircraft design and maintenance (PAP-2)\, Airline tra
 nsport pilot (PAP-2)\nIzvajalci: Marko Polajnar\, Tomaž Požar\, Jan Pust
 avrh\, Jožica Sterle\nProstor: Laboratory LFT SK-9
END:VEVENT
BEGIN:VEVENT
SUMMARY:Aircraft maintenance (VZLP)\, Laboratory excercises (VL)\, [S7]
DTSTART;TZID=Europe/Ljubljana:20260113T140000
DTEND;TZID=Europe/Ljubljana:20260113T153000
DTSTAMP:20260425T200414Z
UID:fs-AFLABS-URNIK:srecanje:15816-2026-01-13 14:00:00+01:00
DESCRIPTION:Predmet: Aircraft maintenance (VZLP)\, Laboratory excercises (
 VL)\, [S7]\nLetniki: Aircraft design and maintenance (PAP-2)\, Airline tra
 nsport pilot (PAP-2)\nIzvajalci: Marko Polajnar\, Tomaž Požar\, Jan Pust
 avrh\, Jožica Sterle\nProstor: Laboratory LFT SK-9
END:VEVENT
BEGIN:VEVENT
SUMMARY:Hydraulic components and systems (HKSM)\, Laboratory excercises (V
 L)\, [S1]
DTSTART;TZID=Europe/Ljubljana:20251225T080000
DTEND;TZID=Europe/Ljubljana:20251225T100000
DTSTAMP:20260425T200414Z
UID:fs-AFLABS-URNIK:srecanje:16815-2025-12-25 08:00:00+01:00
DESCRIPTION:Predmet: Hydraulic components and systems (HKSM)\, Laboratory 
 excercises (VL)\, [S1]\nLetniki: Engineering design (MAG-2)\nIzvajalci: Ro
 k Jelovčan\, Nejc Novak\, Jan Pustavrh\, Jožica Sterle\, Ana Trajkovski\
 nProstor: Laboratory LFT SK-9
END:VEVENT
BEGIN:VEVENT
SUMMARY:Hydraulic components and systems (HKSM)\, Laboratory excercises (V
 L)\, [S1]
DTSTART;TZID=Europe/Ljubljana:20260108T080000
DTEND;TZID=Europe/Ljubljana:20260108T100000
DTSTAMP:20260425T200414Z
UID:fs-AFLABS-URNIK:srecanje:16815-2026-01-08 08:00:00+01:00
DESCRIPTION:Predmet: Hydraulic components and systems (HKSM)\, Laboratory 
 excercises (VL)\, [S1]\nLetniki: Engineering design (MAG-2)\nIzvajalci: Ro
 k Jelovčan\, Nejc Novak\, Jan Pustavrh\, Jožica Sterle\, Ana Trajkovski\
 nProstor: Laboratory LFT SK-9
END:VEVENT
BEGIN:VEVENT
SUMMARY:Hydraulic components and systems (HKSM)\, Laboratory excercises (V
 L)\, [S1]
DTSTART;TZID=Europe/Ljubljana:20260115T080000
DTEND;TZID=Europe/Ljubljana:20260115T100000
DTSTAMP:20260425T200414Z
UID:fs-AFLABS-URNIK:srecanje:16815-2026-01-15 08:00:00+01:00
DESCRIPTION:Predmet: Hydraulic components and systems (HKSM)\, Laboratory 
 excercises (VL)\, [S1]\nLetniki: Engineering design (MAG-2)\nIzvajalci: Ro
 k Jelovčan\, Nejc Novak\, Jan Pustavrh\, Jožica Sterle\, Ana Trajkovski\
 nProstor: Laboratory LFT SK-9
END:VEVENT
BEGIN:VEVENT
SUMMARY:Hydraulic components and systems (HKSM)\, Laboratory excercises (V
 L)\, [S2]
DTSTART;TZID=Europe/Ljubljana:20251225T100000
DTEND;TZID=Europe/Ljubljana:20251225T120000
DTSTAMP:20260425T200414Z
UID:fs-AFLABS-URNIK:srecanje:16817-2025-12-25 10:00:00+01:00
DESCRIPTION:Predmet: Hydraulic components and systems (HKSM)\, Laboratory 
 excercises (VL)\, [S2]\nLetniki: Engineering design (MAG-2)\nIzvajalci: Ro
 k Jelovčan\, Nejc Novak\, Jan Pustavrh\, Jožica Sterle\, Ana Trajkovski\
 nProstor: Laboratory LFT SK-9
END:VEVENT
BEGIN:VEVENT
SUMMARY:Hydraulic components and systems (HKSM)\, Laboratory excercises (V
 L)\, [S2]
DTSTART;TZID=Europe/Ljubljana:20260108T100000
DTEND;TZID=Europe/Ljubljana:20260108T120000
DTSTAMP:20260425T200414Z
UID:fs-AFLABS-URNIK:srecanje:16817-2026-01-08 10:00:00+01:00
DESCRIPTION:Predmet: Hydraulic components and systems (HKSM)\, Laboratory 
 excercises (VL)\, [S2]\nLetniki: Engineering design (MAG-2)\nIzvajalci: Ro
 k Jelovčan\, Nejc Novak\, Jan Pustavrh\, Jožica Sterle\, Ana Trajkovski\
 nProstor: Laboratory LFT SK-9
END:VEVENT
BEGIN:VEVENT
SUMMARY:Hydraulic components and systems (HKSM)\, Laboratory excercises (V
 L)\, [S2]
DTSTART;TZID=Europe/Ljubljana:20260115T100000
DTEND;TZID=Europe/Ljubljana:20260115T120000
DTSTAMP:20260425T200414Z
UID:fs-AFLABS-URNIK:srecanje:16817-2026-01-15 10:00:00+01:00
DESCRIPTION:Predmet: Hydraulic components and systems (HKSM)\, Laboratory 
 excercises (VL)\, [S2]\nLetniki: Engineering design (MAG-2)\nIzvajalci: Ro
 k Jelovčan\, Nejc Novak\, Jan Pustavrh\, Jožica Sterle\, Ana Trajkovski\
 nProstor: Laboratory LFT SK-9
END:VEVENT
BEGIN:VEVENT
SUMMARY:Aircraft maintenance (VZLP)\, Laboratory excercises (VL)\, [S8]
DTSTART;TZID=Europe/Ljubljana:20251226T120000
DTEND;TZID=Europe/Ljubljana:20251226T133000
DTSTAMP:20260425T200414Z
UID:fs-AFLABS-URNIK:srecanje:15817-2025-12-26 12:00:00+01:00
DESCRIPTION:Predmet: Aircraft maintenance (VZLP)\, Laboratory excercises (
 VL)\, [S8]\nLetniki: Aircraft design and maintenance (PAP-2)\, Airline tra
 nsport pilot (PAP-2)\nIzvajalci: Lucija Čoga\, Rok Jelovčan\, Jožica St
 erle\nProstor: Laboratory LFT SK-9
END:VEVENT
BEGIN:VEVENT
SUMMARY:Aircraft maintenance (VZLP)\, Laboratory excercises (VL)\, [S8]
DTSTART;TZID=Europe/Ljubljana:20260109T120000
DTEND;TZID=Europe/Ljubljana:20260109T133000
DTSTAMP:20260425T200414Z
UID:fs-AFLABS-URNIK:srecanje:15817-2026-01-09 12:00:00+01:00
DESCRIPTION:Predmet: Aircraft maintenance (VZLP)\, Laboratory excercises (
 VL)\, [S8]\nLetniki: Aircraft design and maintenance (PAP-2)\, Airline tra
 nsport pilot (PAP-2)\nIzvajalci: Lucija Čoga\, Rok Jelovčan\, Jožica St
 erle\nProstor: Laboratory LFT SK-9
END:VEVENT
BEGIN:VEVENT
SUMMARY:Aircraft maintenance (VZLP)\, Laboratory excercises (VL)\, [S8]
DTSTART;TZID=Europe/Ljubljana:20260116T120000
DTEND;TZID=Europe/Ljubljana:20260116T133000
DTSTAMP:20260425T200414Z
UID:fs-AFLABS-URNIK:srecanje:15817-2026-01-16 12:00:00+01:00
DESCRIPTION:Predmet: Aircraft maintenance (VZLP)\, Laboratory excercises (
 VL)\, [S8]\nLetniki: Aircraft design and maintenance (PAP-2)\, Airline tra
 nsport pilot (PAP-2)\nIzvajalci: Lucija Čoga\, Rok Jelovčan\, Jožica St
 erle\nProstor: Laboratory LFT SK-9
END:VEVENT
BEGIN:VEVENT
SUMMARY:Aircraft maintenance (VZLP)\, Laboratory excercises (VL)\, [S10]
DTSTART;TZID=Europe/Ljubljana:20251226T133000
DTEND;TZID=Europe/Ljubljana:20251226T150000
DTSTAMP:20260425T200414Z
UID:fs-AFLABS-URNIK:srecanje:15818-2025-12-26 13:30:00+01:00
DESCRIPTION:Predmet: Aircraft maintenance (VZLP)\, Laboratory excercises (
 VL)\, [S10]\nLetniki: Aircraft design and maintenance (PAP-2)\, Airline tr
 ansport pilot (PAP-2)\nIzvajalci: Lucija Čoga\, Rok Jelovčan\, Urban Kla
 njšček\, Marko Polajnar\, Tomaž Požar\, Jan Pustavrh\, Anastasia Samod
 urova\, Jožica Sterle\nProstor: Laboratory LFT SK-9
END:VEVENT
BEGIN:VEVENT
SUMMARY:Aircraft maintenance (VZLP)\, Laboratory excercises (VL)\, [S10]
DTSTART;TZID=Europe/Ljubljana:20260109T133000
DTEND;TZID=Europe/Ljubljana:20260109T150000
DTSTAMP:20260425T200414Z
UID:fs-AFLABS-URNIK:srecanje:15818-2026-01-09 13:30:00+01:00
DESCRIPTION:Predmet: Aircraft maintenance (VZLP)\, Laboratory excercises (
 VL)\, [S10]\nLetniki: Aircraft design and maintenance (PAP-2)\, Airline tr
 ansport pilot (PAP-2)\nIzvajalci: Lucija Čoga\, Rok Jelovčan\, Urban Kla
 njšček\, Marko Polajnar\, Tomaž Požar\, Jan Pustavrh\, Anastasia Samod
 urova\, Jožica Sterle\nProstor: Laboratory LFT SK-9
END:VEVENT
BEGIN:VEVENT
SUMMARY:Aircraft maintenance (VZLP)\, Laboratory excercises (VL)\, [S10]
DTSTART;TZID=Europe/Ljubljana:20260116T133000
DTEND;TZID=Europe/Ljubljana:20260116T150000
DTSTAMP:20260425T200414Z
UID:fs-AFLABS-URNIK:srecanje:15818-2026-01-16 13:30:00+01:00
DESCRIPTION:Predmet: Aircraft maintenance (VZLP)\, Laboratory excercises (
 VL)\, [S10]\nLetniki: Aircraft design and maintenance (PAP-2)\, Airline tr
 ansport pilot (PAP-2)\nIzvajalci: Lucija Čoga\, Rok Jelovčan\, Urban Kla
 njšček\, Marko Polajnar\, Tomaž Požar\, Jan Pustavrh\, Anastasia Samod
 urova\, Jožica Sterle\nProstor: Laboratory LFT SK-9
END:VEVENT
BEGIN:VEVENT
SUMMARY:Hydraulic components and systems (HKSM)\, Laboratory excercises (V
 L)\, [S3]
DTSTART;TZID=Europe/Ljubljana:20251226T080000
DTEND;TZID=Europe/Ljubljana:20251226T100000
DTSTAMP:20260425T200414Z
UID:fs-AFLABS-URNIK:srecanje:16819-2025-12-26 08:00:00+01:00
DESCRIPTION:Predmet: Hydraulic components and systems (HKSM)\, Laboratory 
 excercises (VL)\, [S3]\nLetniki: Engineering design (MAG-2)\nIzvajalci: Ro
 k Jelovčan\, Nejc Novak\, Jan Pustavrh\, Jožica Sterle\, Ana Trajkovski\
 nProstor: Laboratory LFT SK-9
END:VEVENT
BEGIN:VEVENT
SUMMARY:Hydraulic components and systems (HKSM)\, Laboratory excercises (V
 L)\, [S3]
DTSTART;TZID=Europe/Ljubljana:20260109T080000
DTEND;TZID=Europe/Ljubljana:20260109T100000
DTSTAMP:20260425T200414Z
UID:fs-AFLABS-URNIK:srecanje:16819-2026-01-09 08:00:00+01:00
DESCRIPTION:Predmet: Hydraulic components and systems (HKSM)\, Laboratory 
 excercises (VL)\, [S3]\nLetniki: Engineering design (MAG-2)\nIzvajalci: Ro
 k Jelovčan\, Nejc Novak\, Jan Pustavrh\, Jožica Sterle\, Ana Trajkovski\
 nProstor: Laboratory LFT SK-9
END:VEVENT
BEGIN:VEVENT
SUMMARY:Hydraulic components and systems (HKSM)\, Laboratory excercises (V
 L)\, [S3]
DTSTART;TZID=Europe/Ljubljana:20260116T080000
DTEND;TZID=Europe/Ljubljana:20260116T100000
DTSTAMP:20260425T200414Z
UID:fs-AFLABS-URNIK:srecanje:16819-2026-01-16 08:00:00+01:00
DESCRIPTION:Predmet: Hydraulic components and systems (HKSM)\, Laboratory 
 excercises (VL)\, [S3]\nLetniki: Engineering design (MAG-2)\nIzvajalci: Ro
 k Jelovčan\, Nejc Novak\, Jan Pustavrh\, Jožica Sterle\, Ana Trajkovski\
 nProstor: Laboratory LFT SK-9
END:VEVENT
BEGIN:VEVENT
SUMMARY:Hydraulic components and systems (HKSM)\, Laboratory excercises (V
 L)\, [S4]
DTSTART;TZID=Europe/Ljubljana:20251226T100000
DTEND;TZID=Europe/Ljubljana:20251226T120000
DTSTAMP:20260425T200414Z
UID:fs-AFLABS-URNIK:srecanje:16821-2025-12-26 10:00:00+01:00
DESCRIPTION:Predmet: Hydraulic components and systems (HKSM)\, Laboratory 
 excercises (VL)\, [S4]\nLetniki: Engineering design (MAG-2)\nIzvajalci: Ro
 k Jelovčan\, Nejc Novak\, Jan Pustavrh\, Jožica Sterle\, Ana Trajkovski\
 nProstor: Laboratory LFT SK-9
END:VEVENT
BEGIN:VEVENT
SUMMARY:Hydraulic components and systems (HKSM)\, Laboratory excercises (V
 L)\, [S4]
DTSTART;TZID=Europe/Ljubljana:20260109T100000
DTEND;TZID=Europe/Ljubljana:20260109T120000
DTSTAMP:20260425T200414Z
UID:fs-AFLABS-URNIK:srecanje:16821-2026-01-09 10:00:00+01:00
DESCRIPTION:Predmet: Hydraulic components and systems (HKSM)\, Laboratory 
 excercises (VL)\, [S4]\nLetniki: Engineering design (MAG-2)\nIzvajalci: Ro
 k Jelovčan\, Nejc Novak\, Jan Pustavrh\, Jožica Sterle\, Ana Trajkovski\
 nProstor: Laboratory LFT SK-9
END:VEVENT
BEGIN:VEVENT
SUMMARY:Hydraulic components and systems (HKSM)\, Laboratory excercises (V
 L)\, [S4]
DTSTART;TZID=Europe/Ljubljana:20260116T100000
DTEND;TZID=Europe/Ljubljana:20260116T120000
DTSTAMP:20260425T200414Z
UID:fs-AFLABS-URNIK:srecanje:16821-2026-01-16 10:00:00+01:00
DESCRIPTION:Predmet: Hydraulic components and systems (HKSM)\, Laboratory 
 excercises (VL)\, [S4]\nLetniki: Engineering design (MAG-2)\nIzvajalci: Ro
 k Jelovčan\, Nejc Novak\, Jan Pustavrh\, Jožica Sterle\, Ana Trajkovski\
 nProstor: Laboratory LFT SK-9
END:VEVENT
BEGIN:VEVENT
SUMMARY:Lubricants and lubrication (MZMP)\, Lecture exercises (VP)\, [S1]
DTSTART;TZID=Europe/Ljubljana:20260216T113000
DTEND;TZID=Europe/Ljubljana:20260216T133000
DTSTAMP:20260425T200414Z
UID:fs-AFLABS-URNIK:srecanje:16421-2026-02-16 11:30:00+01:00
DESCRIPTION:Predmet: Lubricants and lubrication (MZMP)\, Lecture exercises
  (VP)\, [S1]\nLetniki: Konstruiranje strojev in naprav (PAP-2)\nIzvajalci:
  Lucija Čoga\, Petra Jan\, Urban Klanjšček\, Mark Kuzman\, Marko Polajn
 ar\, Tomaž Požar\, Jožica Sterle\nProstor: Lecture hall III/3A
END:VEVENT
BEGIN:VEVENT
SUMMARY:Lubricants and lubrication (MZMP)\, Lecture exercises (VP)\, [S1]
DTSTART;TZID=Europe/Ljubljana:20260223T113000
DTEND;TZID=Europe/Ljubljana:20260223T133000
DTSTAMP:20260425T200414Z
UID:fs-AFLABS-URNIK:srecanje:16421-2026-02-23 11:30:00+01:00
DESCRIPTION:Predmet: Lubricants and lubrication (MZMP)\, Lecture exercises
  (VP)\, [S1]\nLetniki: Konstruiranje strojev in naprav (PAP-2)\nIzvajalci:
  Lucija Čoga\, Petra Jan\, Urban Klanjšček\, Mark Kuzman\, Marko Polajn
 ar\, Tomaž Požar\, Jožica Sterle\nProstor: Lecture hall III/3A
END:VEVENT
END:VCALENDAR
