BEGIN:VCALENDAR
VERSION:2.0
PRODID:-//AFLabs urnik izvoz - fs//aflabs.si//SI
NAME:UL FS Urnik
X-WR-CALNAME:UL FS Urnik
DTSTAMP:20260426T032401Z
REFRESH-INTERVAL:PT1H
SOURCE:https://urnik.fs.uni-lj.si/en/teacher/859/?day=2026-07-06&export=1
URL:https://urnik.fs.uni-lj.si/en/teacher/859/?day=2026-07-06&export=1
X-PUBLISHED-TTL:PT1H
X-WR-TIMEZONE:Europe/Ljubljana
BEGIN:VTIMEZONE
TZID:Europe/Ljubljana
BEGIN:DAYLIGHT
DTSTART:20260329T020000
RDATE:20260329T020000
RDATE:20270328T020000
TZNAME:CEST
TZOFFSETFROM:+0100
TZOFFSETTO:+0200
END:DAYLIGHT
BEGIN:STANDARD
DTSTART:20261025T030000
RDATE:20261025T030000
RDATE:20271031T030000
TZNAME:CET
TZOFFSETFROM:+0200
TZOFFSETTO:+0100
END:STANDARD
END:VTIMEZONE
BEGIN:VEVENT
SUMMARY:Technologies in production 1 (TP1P)\, Lecture exercises (VP)\, [S3
 \, S4]
DTSTART;TZID=Europe/Ljubljana:20260601T130000
DTEND;TZID=Europe/Ljubljana:20260601T160000
DTSTAMP:20260426T032401Z
UID:fs-AFLABS-URNIK:srecanje:16146-2026-06-01 13:00:00+02:00
DESCRIPTION:Predmet: Technologies in production 1 (TP1P)\, Lecture exercis
 es (VP)\, [S3\, S4]\nLetniki: PAP-1 (PAP-1)\nIzvajalci: Jaka Dugar\, Damir
  Grguraš\, Luka Kastelic\, Matjaž Kern\, Izidor Sabotin\, Luka Sterle\nP
 rostor: Lecture hall II/5
END:VEVENT
BEGIN:VEVENT
SUMMARY:Quality Engineering (QLEE)\, Laboratory excercises (VL)\, [S1]
DTSTART;TZID=Europe/Ljubljana:20260601T180000
DTEND;TZID=Europe/Ljubljana:20260601T200000
DTSTAMP:20260426T032401Z
UID:fs-AFLABS-URNIK:srecanje:17673-2026-06-01 18:00:00+02:00
DESCRIPTION:Predmet: Quality Engineering (QLEE)\, Laboratory excercises (V
 L)\, [S1]\nLetniki: Erasmus (Erasmus)\nIzvajalci: Damir Grguraš\, Deepa K
 areepadath Santhosh\, Luka Sterle\nProstor: Laboratory LABOD SP-DL-1
END:VEVENT
END:VCALENDAR
