BEGIN:VCALENDAR
VERSION:2.0
PRODID:-//AFLabs urnik izvoz - fs//aflabs.si//SI
NAME:UL FS Urnik
X-WR-CALNAME:UL FS Urnik
DTSTAMP:20260421T171750Z
REFRESH-INTERVAL:PT1H
SOURCE:https://urnik.fs.uni-lj.si/en/teacher/861/?day=2024-01-01&export=1
URL:https://urnik.fs.uni-lj.si/en/teacher/861/?day=2024-01-01&export=1
X-PUBLISHED-TTL:PT1H
X-WR-TIMEZONE:Europe/Ljubljana
BEGIN:VTIMEZONE
TZID:Europe/Ljubljana
BEGIN:DAYLIGHT
DTSTART:20260329T020000
RDATE:20260329T020000
RDATE:20270328T020000
TZNAME:CEST
TZOFFSETFROM:+0100
TZOFFSETTO:+0200
END:DAYLIGHT
BEGIN:STANDARD
DTSTART:20261025T030000
RDATE:20261025T030000
RDATE:20271031T030000
TZNAME:CET
TZOFFSETFROM:+0200
TZOFFSETTO:+0100
END:STANDARD
END:VTIMEZONE
BEGIN:VEVENT
SUMMARY:Heating\, refrigeration\, ventilation\, air-conditioning - PAP (OP
 KP)\, Lectures (P)
DTSTART;TZID=Europe/Ljubljana:20231002T073000
DTEND;TZID=Europe/Ljubljana:20231002T093000
DTSTAMP:20260421T171750Z
UID:fs-AFLABS-URNIK:srecanje:4005-2023-10-02 07:30:00+02:00
DESCRIPTION:Predmet: Heating\, refrigeration\, ventilation\, air-condition
 ing - PAP (OPKP)\, Lectures (P)\nLetniki: Process engineering (PAP-3)\nIzv
 ajalci: Uroš Stritih\nProstor: Lecture hall III/3B
END:VEVENT
BEGIN:VEVENT
SUMMARY:Heating\, refrigeration\, ventilation\, air-conditioning - PAP (OP
 KP)\, Lectures (P)
DTSTART;TZID=Europe/Ljubljana:20231009T073000
DTEND;TZID=Europe/Ljubljana:20231009T093000
DTSTAMP:20260421T171750Z
UID:fs-AFLABS-URNIK:srecanje:4005-2023-10-09 07:30:00+02:00
DESCRIPTION:Predmet: Heating\, refrigeration\, ventilation\, air-condition
 ing - PAP (OPKP)\, Lectures (P)\nLetniki: Process engineering (PAP-3)\nIzv
 ajalci: Uroš Stritih\nProstor: Lecture hall III/3B
END:VEVENT
BEGIN:VEVENT
SUMMARY:Heating\, refrigeration\, ventilation\, air-conditioning - PAP (OP
 KP)\, Lectures (P)
DTSTART;TZID=Europe/Ljubljana:20231016T073000
DTEND;TZID=Europe/Ljubljana:20231016T093000
DTSTAMP:20260421T171750Z
UID:fs-AFLABS-URNIK:srecanje:4005-2023-10-16 07:30:00+02:00
DESCRIPTION:Predmet: Heating\, refrigeration\, ventilation\, air-condition
 ing - PAP (OPKP)\, Lectures (P)\nLetniki: Process engineering (PAP-3)\nIzv
 ajalci: Uroš Stritih\nProstor: Lecture hall III/3B
END:VEVENT
BEGIN:VEVENT
SUMMARY:Heating\, refrigeration\, ventilation\, air-conditioning - PAP (OP
 KP)\, Lectures (P)
DTSTART;TZID=Europe/Ljubljana:20231023T073000
DTEND;TZID=Europe/Ljubljana:20231023T093000
DTSTAMP:20260421T171750Z
UID:fs-AFLABS-URNIK:srecanje:4005-2023-10-23 07:30:00+02:00
DESCRIPTION:Predmet: Heating\, refrigeration\, ventilation\, air-condition
 ing - PAP (OPKP)\, Lectures (P)\nLetniki: Process engineering (PAP-3)\nIzv
 ajalci: Uroš Stritih\nProstor: Lecture hall III/3B
END:VEVENT
BEGIN:VEVENT
SUMMARY:Heating\, refrigeration\, ventilation\, air-conditioning - PAP (OP
 KP)\, Lectures (P)
DTSTART;TZID=Europe/Ljubljana:20231106T073000
DTEND;TZID=Europe/Ljubljana:20231106T093000
DTSTAMP:20260421T171750Z
UID:fs-AFLABS-URNIK:srecanje:4005-2023-11-06 07:30:00+01:00
DESCRIPTION:Predmet: Heating\, refrigeration\, ventilation\, air-condition
 ing - PAP (OPKP)\, Lectures (P)\nLetniki: Process engineering (PAP-3)\nIzv
 ajalci: Uroš Stritih\nProstor: Lecture hall III/3B
END:VEVENT
BEGIN:VEVENT
SUMMARY:Heating\, refrigeration\, ventilation\, air-conditioning - PAP (OP
 KP)\, Lectures (P)
DTSTART;TZID=Europe/Ljubljana:20231113T073000
DTEND;TZID=Europe/Ljubljana:20231113T093000
DTSTAMP:20260421T171750Z
UID:fs-AFLABS-URNIK:srecanje:4005-2023-11-13 07:30:00+01:00
DESCRIPTION:Predmet: Heating\, refrigeration\, ventilation\, air-condition
 ing - PAP (OPKP)\, Lectures (P)\nLetniki: Process engineering (PAP-3)\nIzv
 ajalci: Uroš Stritih\nProstor: Lecture hall III/3B
END:VEVENT
BEGIN:VEVENT
SUMMARY:Heating\, refrigeration\, ventilation\, air-conditioning - PAP (OP
 KP)\, Lectures (P)
DTSTART;TZID=Europe/Ljubljana:20231120T073000
DTEND;TZID=Europe/Ljubljana:20231120T093000
DTSTAMP:20260421T171750Z
UID:fs-AFLABS-URNIK:srecanje:4005-2023-11-20 07:30:00+01:00
DESCRIPTION:Predmet: Heating\, refrigeration\, ventilation\, air-condition
 ing - PAP (OPKP)\, Lectures (P)\nLetniki: Process engineering (PAP-3)\nIzv
 ajalci: Uroš Stritih\nProstor: Lecture hall III/3B
END:VEVENT
BEGIN:VEVENT
SUMMARY:Heating\, refrigeration\, ventilation\, air-conditioning - PAP (OP
 KP)\, Lectures (P)
DTSTART;TZID=Europe/Ljubljana:20231127T073000
DTEND;TZID=Europe/Ljubljana:20231127T093000
DTSTAMP:20260421T171750Z
UID:fs-AFLABS-URNIK:srecanje:4005-2023-11-27 07:30:00+01:00
DESCRIPTION:Predmet: Heating\, refrigeration\, ventilation\, air-condition
 ing - PAP (OPKP)\, Lectures (P)\nLetniki: Process engineering (PAP-3)\nIzv
 ajalci: Uroš Stritih\nProstor: Lecture hall III/3B
END:VEVENT
BEGIN:VEVENT
SUMMARY:Heating\, refrigeration\, ventilation\, air-conditioning - PAP (OP
 KP)\, Lectures (P)
DTSTART;TZID=Europe/Ljubljana:20231204T073000
DTEND;TZID=Europe/Ljubljana:20231204T093000
DTSTAMP:20260421T171750Z
UID:fs-AFLABS-URNIK:srecanje:4005-2023-12-04 07:30:00+01:00
DESCRIPTION:Predmet: Heating\, refrigeration\, ventilation\, air-condition
 ing - PAP (OPKP)\, Lectures (P)\nLetniki: Process engineering (PAP-3)\nIzv
 ajalci: Uroš Stritih\nProstor: Lecture hall III/3B
END:VEVENT
BEGIN:VEVENT
SUMMARY:Heating\, refrigeration\, ventilation\, air-conditioning - PAP (OP
 KP)\, Lectures (P)
DTSTART;TZID=Europe/Ljubljana:20231211T073000
DTEND;TZID=Europe/Ljubljana:20231211T093000
DTSTAMP:20260421T171750Z
UID:fs-AFLABS-URNIK:srecanje:4005-2023-12-11 07:30:00+01:00
DESCRIPTION:Predmet: Heating\, refrigeration\, ventilation\, air-condition
 ing - PAP (OPKP)\, Lectures (P)\nLetniki: Process engineering (PAP-3)\nIzv
 ajalci: Uroš Stritih\nProstor: Lecture hall III/3B
END:VEVENT
BEGIN:VEVENT
SUMMARY:Heating\, refrigeration\, ventilation\, air-conditioning - PAP (OP
 KP)\, Lectures (P)
DTSTART;TZID=Europe/Ljubljana:20231218T073000
DTEND;TZID=Europe/Ljubljana:20231218T093000
DTSTAMP:20260421T171750Z
UID:fs-AFLABS-URNIK:srecanje:4005-2023-12-18 07:30:00+01:00
DESCRIPTION:Predmet: Heating\, refrigeration\, ventilation\, air-condition
 ing - PAP (OPKP)\, Lectures (P)\nLetniki: Process engineering (PAP-3)\nIzv
 ajalci: Uroš Stritih\nProstor: Lecture hall III/3B
END:VEVENT
BEGIN:VEVENT
SUMMARY:Heating\, refrigeration\, ventilation\, air-conditioning - PAP (OP
 KP)\, Lectures (P)
DTSTART;TZID=Europe/Ljubljana:20240101T073000
DTEND;TZID=Europe/Ljubljana:20240101T093000
DTSTAMP:20260421T171750Z
UID:fs-AFLABS-URNIK:srecanje:4005-2024-01-01 07:30:00+01:00
DESCRIPTION:Predmet: Heating\, refrigeration\, ventilation\, air-condition
 ing - PAP (OPKP)\, Lectures (P)\nLetniki: Process engineering (PAP-3)\nIzv
 ajalci: Uroš Stritih\nProstor: Lecture hall III/3B
END:VEVENT
BEGIN:VEVENT
SUMMARY:Heating\, refrigeration\, ventilation\, air-conditioning - PAP (OP
 KP)\, Lectures (P)
DTSTART;TZID=Europe/Ljubljana:20240108T073000
DTEND;TZID=Europe/Ljubljana:20240108T093000
DTSTAMP:20260421T171750Z
UID:fs-AFLABS-URNIK:srecanje:4005-2024-01-08 07:30:00+01:00
DESCRIPTION:Predmet: Heating\, refrigeration\, ventilation\, air-condition
 ing - PAP (OPKP)\, Lectures (P)\nLetniki: Process engineering (PAP-3)\nIzv
 ajalci: Uroš Stritih\nProstor: Lecture hall III/3B
END:VEVENT
BEGIN:VEVENT
SUMMARY:Heating\, refrigeration\, ventilation\, air-conditioning - PAP (OP
 KP)\, Lectures (P)
DTSTART;TZID=Europe/Ljubljana:20240115T073000
DTEND;TZID=Europe/Ljubljana:20240115T093000
DTSTAMP:20260421T171750Z
UID:fs-AFLABS-URNIK:srecanje:4005-2024-01-15 07:30:00+01:00
DESCRIPTION:Predmet: Heating\, refrigeration\, ventilation\, air-condition
 ing - PAP (OPKP)\, Lectures (P)\nLetniki: Process engineering (PAP-3)\nIzv
 ajalci: Uroš Stritih\nProstor: Lecture hall III/3B
END:VEVENT
BEGIN:VEVENT
SUMMARY:Preventivna konzervacija II. (PK2A)\, Lectures (P)
DTSTART;TZID=Europe/Ljubljana:20231004T140000
DTEND;TZID=Europe/Ljubljana:20231004T170000
DTSTAMP:20260421T171750Z
UID:fs-AFLABS-URNIK:srecanje:2469-2023-10-04 14:00:00+02:00
DESCRIPTION:Predmet: Preventivna konzervacija II. (PK2A)\, Lectures (P)\nL
 etniki: \nIzvajalci: Uroš Stritih\nProstor: Lecture hall I/4A
END:VEVENT
BEGIN:VEVENT
SUMMARY:Preventivna konzervacija II. (PK2A)\, Lectures (P)
DTSTART;TZID=Europe/Ljubljana:20231011T140000
DTEND;TZID=Europe/Ljubljana:20231011T170000
DTSTAMP:20260421T171750Z
UID:fs-AFLABS-URNIK:srecanje:2469-2023-10-11 14:00:00+02:00
DESCRIPTION:Predmet: Preventivna konzervacija II. (PK2A)\, Lectures (P)\nL
 etniki: \nIzvajalci: Uroš Stritih\nProstor: Lecture hall I/4A
END:VEVENT
BEGIN:VEVENT
SUMMARY:Preventivna konzervacija II. (PK2A)\, Lectures (P)
DTSTART;TZID=Europe/Ljubljana:20231018T140000
DTEND;TZID=Europe/Ljubljana:20231018T170000
DTSTAMP:20260421T171750Z
UID:fs-AFLABS-URNIK:srecanje:2469-2023-10-18 14:00:00+02:00
DESCRIPTION:Predmet: Preventivna konzervacija II. (PK2A)\, Lectures (P)\nL
 etniki: \nIzvajalci: Uroš Stritih\nProstor: Lecture hall I/4A
END:VEVENT
BEGIN:VEVENT
SUMMARY:Preventivna konzervacija II. (PK2A)\, Lectures (P)
DTSTART;TZID=Europe/Ljubljana:20231025T140000
DTEND;TZID=Europe/Ljubljana:20231025T170000
DTSTAMP:20260421T171750Z
UID:fs-AFLABS-URNIK:srecanje:2469-2023-10-25 14:00:00+02:00
DESCRIPTION:Predmet: Preventivna konzervacija II. (PK2A)\, Lectures (P)\nL
 etniki: \nIzvajalci: Uroš Stritih\nProstor: Lecture hall I/4A
END:VEVENT
BEGIN:VEVENT
SUMMARY:Preventivna konzervacija II. (PK2A)\, Lectures (P)
DTSTART;TZID=Europe/Ljubljana:20231101T140000
DTEND;TZID=Europe/Ljubljana:20231101T170000
DTSTAMP:20260421T171750Z
UID:fs-AFLABS-URNIK:srecanje:2469-2023-11-01 14:00:00+01:00
DESCRIPTION:Predmet: Preventivna konzervacija II. (PK2A)\, Lectures (P)\nL
 etniki: \nIzvajalci: Uroš Stritih\nProstor: Lecture hall I/4A
END:VEVENT
BEGIN:VEVENT
SUMMARY:Preventivna konzervacija II. (PK2A)\, Lectures (P)
DTSTART;TZID=Europe/Ljubljana:20231108T140000
DTEND;TZID=Europe/Ljubljana:20231108T170000
DTSTAMP:20260421T171750Z
UID:fs-AFLABS-URNIK:srecanje:2469-2023-11-08 14:00:00+01:00
DESCRIPTION:Predmet: Preventivna konzervacija II. (PK2A)\, Lectures (P)\nL
 etniki: \nIzvajalci: Uroš Stritih\nProstor: Lecture hall I/4A
END:VEVENT
BEGIN:VEVENT
SUMMARY:Preventivna konzervacija II. (PK2A)\, Lectures (P)
DTSTART;TZID=Europe/Ljubljana:20231115T140000
DTEND;TZID=Europe/Ljubljana:20231115T170000
DTSTAMP:20260421T171750Z
UID:fs-AFLABS-URNIK:srecanje:2469-2023-11-15 14:00:00+01:00
DESCRIPTION:Predmet: Preventivna konzervacija II. (PK2A)\, Lectures (P)\nL
 etniki: \nIzvajalci: Uroš Stritih\nProstor: Lecture hall I/4A
END:VEVENT
BEGIN:VEVENT
SUMMARY:Preventivna konzervacija II. (PK2A)\, Lectures (P)
DTSTART;TZID=Europe/Ljubljana:20231122T140000
DTEND;TZID=Europe/Ljubljana:20231122T170000
DTSTAMP:20260421T171750Z
UID:fs-AFLABS-URNIK:srecanje:2469-2023-11-22 14:00:00+01:00
DESCRIPTION:Predmet: Preventivna konzervacija II. (PK2A)\, Lectures (P)\nL
 etniki: \nIzvajalci: Uroš Stritih\nProstor: Lecture hall I/4A
END:VEVENT
BEGIN:VEVENT
SUMMARY:Preventivna konzervacija II. (PK2A)\, Lectures (P)
DTSTART;TZID=Europe/Ljubljana:20231129T140000
DTEND;TZID=Europe/Ljubljana:20231129T170000
DTSTAMP:20260421T171750Z
UID:fs-AFLABS-URNIK:srecanje:2469-2023-11-29 14:00:00+01:00
DESCRIPTION:Predmet: Preventivna konzervacija II. (PK2A)\, Lectures (P)\nL
 etniki: \nIzvajalci: Uroš Stritih\nProstor: Lecture hall I/4A
END:VEVENT
BEGIN:VEVENT
SUMMARY:Preventivna konzervacija II. (PK2A)\, Lectures (P)
DTSTART;TZID=Europe/Ljubljana:20231206T140000
DTEND;TZID=Europe/Ljubljana:20231206T170000
DTSTAMP:20260421T171750Z
UID:fs-AFLABS-URNIK:srecanje:2469-2023-12-06 14:00:00+01:00
DESCRIPTION:Predmet: Preventivna konzervacija II. (PK2A)\, Lectures (P)\nL
 etniki: \nIzvajalci: Uroš Stritih\nProstor: Lecture hall I/4A
END:VEVENT
BEGIN:VEVENT
SUMMARY:Preventivna konzervacija II. (PK2A)\, Lectures (P)
DTSTART;TZID=Europe/Ljubljana:20231213T140000
DTEND;TZID=Europe/Ljubljana:20231213T170000
DTSTAMP:20260421T171750Z
UID:fs-AFLABS-URNIK:srecanje:2469-2023-12-13 14:00:00+01:00
DESCRIPTION:Predmet: Preventivna konzervacija II. (PK2A)\, Lectures (P)\nL
 etniki: \nIzvajalci: Uroš Stritih\nProstor: Lecture hall I/4A
END:VEVENT
BEGIN:VEVENT
SUMMARY:Preventivna konzervacija II. (PK2A)\, Lectures (P)
DTSTART;TZID=Europe/Ljubljana:20231220T140000
DTEND;TZID=Europe/Ljubljana:20231220T170000
DTSTAMP:20260421T171750Z
UID:fs-AFLABS-URNIK:srecanje:2469-2023-12-20 14:00:00+01:00
DESCRIPTION:Predmet: Preventivna konzervacija II. (PK2A)\, Lectures (P)\nL
 etniki: \nIzvajalci: Uroš Stritih\nProstor: Lecture hall I/4A
END:VEVENT
BEGIN:VEVENT
SUMMARY:Preventivna konzervacija II. (PK2A)\, Lectures (P)
DTSTART;TZID=Europe/Ljubljana:20240103T140000
DTEND;TZID=Europe/Ljubljana:20240103T170000
DTSTAMP:20260421T171750Z
UID:fs-AFLABS-URNIK:srecanje:2469-2024-01-03 14:00:00+01:00
DESCRIPTION:Predmet: Preventivna konzervacija II. (PK2A)\, Lectures (P)\nL
 etniki: \nIzvajalci: Uroš Stritih\nProstor: Lecture hall I/4A
END:VEVENT
BEGIN:VEVENT
SUMMARY:Preventivna konzervacija II. (PK2A)\, Lectures (P)
DTSTART;TZID=Europe/Ljubljana:20240117T140000
DTEND;TZID=Europe/Ljubljana:20240117T170000
DTSTAMP:20260421T171750Z
UID:fs-AFLABS-URNIK:srecanje:2469-2024-01-17 14:00:00+01:00
DESCRIPTION:Predmet: Preventivna konzervacija II. (PK2A)\, Lectures (P)\nL
 etniki: \nIzvajalci: Uroš Stritih\nProstor: Lecture hall I/4A
END:VEVENT
BEGIN:VEVENT
SUMMARY:Water environmental process engineering (VOPP)\, Lectures (P)
DTSTART;TZID=Europe/Ljubljana:20231005T093000
DTEND;TZID=Europe/Ljubljana:20231005T113000
DTSTAMP:20260421T171750Z
UID:fs-AFLABS-URNIK:srecanje:4049-2023-10-05 09:30:00+02:00
DESCRIPTION:Predmet: Water environmental process engineering (VOPP)\, Lect
 ures (P)\nLetniki: Process engineering (PAP-3)\nIzvajalci: Iztok Golobič\
 , Uroš Stritih\nProstor: Lecture hall III/3B
END:VEVENT
BEGIN:VEVENT
SUMMARY:Water environmental process engineering (VOPP)\, Lectures (P)
DTSTART;TZID=Europe/Ljubljana:20231012T093000
DTEND;TZID=Europe/Ljubljana:20231012T113000
DTSTAMP:20260421T171750Z
UID:fs-AFLABS-URNIK:srecanje:4049-2023-10-12 09:30:00+02:00
DESCRIPTION:Predmet: Water environmental process engineering (VOPP)\, Lect
 ures (P)\nLetniki: Process engineering (PAP-3)\nIzvajalci: Iztok Golobič\
 , Uroš Stritih\nProstor: Lecture hall III/3B
END:VEVENT
BEGIN:VEVENT
SUMMARY:Water environmental process engineering (VOPP)\, Lectures (P)
DTSTART;TZID=Europe/Ljubljana:20231019T093000
DTEND;TZID=Europe/Ljubljana:20231019T113000
DTSTAMP:20260421T171750Z
UID:fs-AFLABS-URNIK:srecanje:4049-2023-10-19 09:30:00+02:00
DESCRIPTION:Predmet: Water environmental process engineering (VOPP)\, Lect
 ures (P)\nLetniki: Process engineering (PAP-3)\nIzvajalci: Iztok Golobič\
 , Uroš Stritih\nProstor: Lecture hall III/3B
END:VEVENT
BEGIN:VEVENT
SUMMARY:Water environmental process engineering (VOPP)\, Lectures (P)
DTSTART;TZID=Europe/Ljubljana:20231026T093000
DTEND;TZID=Europe/Ljubljana:20231026T113000
DTSTAMP:20260421T171750Z
UID:fs-AFLABS-URNIK:srecanje:4049-2023-10-26 09:30:00+02:00
DESCRIPTION:Predmet: Water environmental process engineering (VOPP)\, Lect
 ures (P)\nLetniki: Process engineering (PAP-3)\nIzvajalci: Iztok Golobič\
 , Uroš Stritih\nProstor: Lecture hall III/3B
END:VEVENT
BEGIN:VEVENT
SUMMARY:Water environmental process engineering (VOPP)\, Lectures (P)
DTSTART;TZID=Europe/Ljubljana:20231109T093000
DTEND;TZID=Europe/Ljubljana:20231109T113000
DTSTAMP:20260421T171750Z
UID:fs-AFLABS-URNIK:srecanje:4049-2023-11-09 09:30:00+01:00
DESCRIPTION:Predmet: Water environmental process engineering (VOPP)\, Lect
 ures (P)\nLetniki: Process engineering (PAP-3)\nIzvajalci: Iztok Golobič\
 , Uroš Stritih\nProstor: Lecture hall III/3B
END:VEVENT
BEGIN:VEVENT
SUMMARY:Water environmental process engineering (VOPP)\, Lectures (P)
DTSTART;TZID=Europe/Ljubljana:20231116T093000
DTEND;TZID=Europe/Ljubljana:20231116T113000
DTSTAMP:20260421T171750Z
UID:fs-AFLABS-URNIK:srecanje:4049-2023-11-16 09:30:00+01:00
DESCRIPTION:Predmet: Water environmental process engineering (VOPP)\, Lect
 ures (P)\nLetniki: Process engineering (PAP-3)\nIzvajalci: Iztok Golobič\
 , Uroš Stritih\nProstor: Lecture hall III/3B
END:VEVENT
BEGIN:VEVENT
SUMMARY:Water environmental process engineering (VOPP)\, Lectures (P)
DTSTART;TZID=Europe/Ljubljana:20231123T093000
DTEND;TZID=Europe/Ljubljana:20231123T113000
DTSTAMP:20260421T171750Z
UID:fs-AFLABS-URNIK:srecanje:4049-2023-11-23 09:30:00+01:00
DESCRIPTION:Predmet: Water environmental process engineering (VOPP)\, Lect
 ures (P)\nLetniki: Process engineering (PAP-3)\nIzvajalci: Iztok Golobič\
 , Uroš Stritih\nProstor: Lecture hall III/3B
END:VEVENT
BEGIN:VEVENT
SUMMARY:Water environmental process engineering (VOPP)\, Lectures (P)
DTSTART;TZID=Europe/Ljubljana:20231130T093000
DTEND;TZID=Europe/Ljubljana:20231130T113000
DTSTAMP:20260421T171750Z
UID:fs-AFLABS-URNIK:srecanje:4049-2023-11-30 09:30:00+01:00
DESCRIPTION:Predmet: Water environmental process engineering (VOPP)\, Lect
 ures (P)\nLetniki: Process engineering (PAP-3)\nIzvajalci: Iztok Golobič\
 , Uroš Stritih\nProstor: Lecture hall III/3B
END:VEVENT
BEGIN:VEVENT
SUMMARY:Water environmental process engineering (VOPP)\, Lectures (P)
DTSTART;TZID=Europe/Ljubljana:20231207T093000
DTEND;TZID=Europe/Ljubljana:20231207T113000
DTSTAMP:20260421T171750Z
UID:fs-AFLABS-URNIK:srecanje:4049-2023-12-07 09:30:00+01:00
DESCRIPTION:Predmet: Water environmental process engineering (VOPP)\, Lect
 ures (P)\nLetniki: Process engineering (PAP-3)\nIzvajalci: Iztok Golobič\
 , Uroš Stritih\nProstor: Lecture hall III/3B
END:VEVENT
BEGIN:VEVENT
SUMMARY:Water environmental process engineering (VOPP)\, Lectures (P)
DTSTART;TZID=Europe/Ljubljana:20231214T093000
DTEND;TZID=Europe/Ljubljana:20231214T113000
DTSTAMP:20260421T171750Z
UID:fs-AFLABS-URNIK:srecanje:4049-2023-12-14 09:30:00+01:00
DESCRIPTION:Predmet: Water environmental process engineering (VOPP)\, Lect
 ures (P)\nLetniki: Process engineering (PAP-3)\nIzvajalci: Iztok Golobič\
 , Uroš Stritih\nProstor: Lecture hall III/3B
END:VEVENT
BEGIN:VEVENT
SUMMARY:Water environmental process engineering (VOPP)\, Lectures (P)
DTSTART;TZID=Europe/Ljubljana:20231221T093000
DTEND;TZID=Europe/Ljubljana:20231221T113000
DTSTAMP:20260421T171750Z
UID:fs-AFLABS-URNIK:srecanje:4049-2023-12-21 09:30:00+01:00
DESCRIPTION:Predmet: Water environmental process engineering (VOPP)\, Lect
 ures (P)\nLetniki: Process engineering (PAP-3)\nIzvajalci: Iztok Golobič\
 , Uroš Stritih\nProstor: Lecture hall III/3B
END:VEVENT
BEGIN:VEVENT
SUMMARY:Water environmental process engineering (VOPP)\, Lectures (P)
DTSTART;TZID=Europe/Ljubljana:20240104T093000
DTEND;TZID=Europe/Ljubljana:20240104T113000
DTSTAMP:20260421T171750Z
UID:fs-AFLABS-URNIK:srecanje:4049-2024-01-04 09:30:00+01:00
DESCRIPTION:Predmet: Water environmental process engineering (VOPP)\, Lect
 ures (P)\nLetniki: Process engineering (PAP-3)\nIzvajalci: Iztok Golobič\
 , Uroš Stritih\nProstor: Lecture hall III/3B
END:VEVENT
BEGIN:VEVENT
SUMMARY:Water environmental process engineering (VOPP)\, Lectures (P)
DTSTART;TZID=Europe/Ljubljana:20240111T093000
DTEND;TZID=Europe/Ljubljana:20240111T113000
DTSTAMP:20260421T171750Z
UID:fs-AFLABS-URNIK:srecanje:4049-2024-01-11 09:30:00+01:00
DESCRIPTION:Predmet: Water environmental process engineering (VOPP)\, Lect
 ures (P)\nLetniki: Process engineering (PAP-3)\nIzvajalci: Iztok Golobič\
 , Uroš Stritih\nProstor: Lecture hall III/3B
END:VEVENT
BEGIN:VEVENT
SUMMARY:Water environmental process engineering (VOPP)\, Lectures (P)
DTSTART;TZID=Europe/Ljubljana:20240118T093000
DTEND;TZID=Europe/Ljubljana:20240118T113000
DTSTAMP:20260421T171750Z
UID:fs-AFLABS-URNIK:srecanje:4049-2024-01-18 09:30:00+01:00
DESCRIPTION:Predmet: Water environmental process engineering (VOPP)\, Lect
 ures (P)\nLetniki: Process engineering (PAP-3)\nIzvajalci: Iztok Golobič\
 , Uroš Stritih\nProstor: Lecture hall III/3B
END:VEVENT
BEGIN:VEVENT
SUMMARY:Heating\, refrigeration\, ventilation\, air-conditioning - PAP (OP
 KP)\, Lectures (P)
DTSTART;TZID=Europe/Ljubljana:20231102T073000
DTEND;TZID=Europe/Ljubljana:20231102T093000
DTSTAMP:20260421T171750Z
UID:fs-AFLABS-URNIK:premaknjeno-srecanje:62136
ATTENDEE:Process engineering (PAP-3)
CATEGORIES:Entry,Special
COLOR:forestgreen
DESCRIPTION:Predmet: Heating\, refrigeration\, ventilation\, air-condition
 ing - PAP (OPKP)\, Lectures (P)\nLetniki: Process engineering (PAP-3)\nIzv
 ajalci: Uroš Stritih\nProstor: Lecture hall III/3B
LOCATION:Lecture hall III/3B
ORGANIZER:Uroš Stritih
RELATED-TO:fs-AFLABS-URNIK:srecanje:7866
X-WR-TIMEZONE:Europe/Ljubljana
END:VEVENT
BEGIN:VEVENT
SUMMARY:Izpit: Klimatski in hladilni sistemi (6271)
DTSTART;TZID=Europe/Ljubljana:20240131T100000
DTEND;TZID=Europe/Ljubljana:20240131T120000
DTSTAMP:20260421T171750Z
UID:fs-AFLABS-URNIK:rezervacija:3738
CATEGORIES:Reservation
COLOR:royalblue
DESCRIPTION:Predmeti: \nLetniki: \nIzvajalci: Uroš Stritih\nProstori: Lec
 ture hall III/3B
LOCATION:Lecture hall III/3B
ORGANIZER:Uroš Stritih
X-WR-TIMEZONE:Europe/Ljubljana
END:VEVENT
BEGIN:VEVENT
SUMMARY:Izpit: Ogrevanje\, ohlajevanje\, prezračevanje\, klimatizacija - 
 PAP
DTSTART;TZID=Europe/Ljubljana:20240130T100000
DTEND;TZID=Europe/Ljubljana:20240130T120000
DTSTAMP:20260421T171750Z
UID:fs-AFLABS-URNIK:rezervacija:3716
ATTENDEE:Process engineering (PAP-3)
CATEGORIES:Reservation
COLOR:royalblue
DESCRIPTION:Predmeti: Heating\, refrigeration\, ventilation\, air-conditio
 ning - PAP (OPKP)\nLetniki: Process engineering (PAP-3)\nIzvajalci: Uroš 
 Stritih\nProstori: Lecture hall III/2
LOCATION:Lecture hall III/2
ORGANIZER:Uroš Stritih
X-WR-TIMEZONE:Europe/Ljubljana
END:VEVENT
BEGIN:VEVENT
SUMMARY:Rezervacija izr. prof. dr. Stritih
DTSTART;TZID=Europe/Ljubljana:20231025T133000
DTEND;TZID=Europe/Ljubljana:20231025T143000
DTSTAMP:20260421T171750Z
UID:fs-AFLABS-URNIK:rezervacija:3187
CATEGORIES:Reservation
COLOR:royalblue
DESCRIPTION:Predmeti: \nLetniki: \nIzvajalci: Uroš Stritih\nProstori: Lec
 ture hall III/3B
LOCATION:Lecture hall III/3B
ORGANIZER:Uroš Stritih
X-WR-TIMEZONE:Europe/Ljubljana
END:VEVENT
BEGIN:VEVENT
SUMMARY:Izpit: Klimatizacija (6023)
DTSTART;TZID=Europe/Ljubljana:20240202T100000
DTEND;TZID=Europe/Ljubljana:20240202T120000
DTSTAMP:20260421T171750Z
UID:fs-AFLABS-URNIK:rezervacija:3790
CATEGORIES:Reservation
COLOR:royalblue
DESCRIPTION:Predmeti: \nLetniki: \nIzvajalci: Uroš Stritih\nProstori: Lec
 ture hall II/3A
LOCATION:Lecture hall II/3A
ORGANIZER:Uroš Stritih
X-WR-TIMEZONE:Europe/Ljubljana
END:VEVENT
BEGIN:VEVENT
SUMMARY:Rezervacija izr. prof. dr. Stritih
DTSTART;TZID=Europe/Ljubljana:20231023T133000
DTEND;TZID=Europe/Ljubljana:20231023T150000
DTSTAMP:20260421T171750Z
UID:fs-AFLABS-URNIK:rezervacija:3185
CATEGORIES:Reservation
COLOR:royalblue
DESCRIPTION:Predmeti: \nLetniki: \nIzvajalci: Uroš Stritih\nProstori: Lec
 ture hall II/3B
LOCATION:Lecture hall II/3B
ORGANIZER:Uroš Stritih
X-WR-TIMEZONE:Europe/Ljubljana
END:VEVENT
BEGIN:VEVENT
SUMMARY:Izpit: Notranje okolje (2052)
DTSTART;TZID=Europe/Ljubljana:20240124T080000
DTEND;TZID=Europe/Ljubljana:20240124T100000
DTSTAMP:20260421T171750Z
UID:fs-AFLABS-URNIK:rezervacija:3607
CATEGORIES:Reservation
COLOR:royalblue
DESCRIPTION:Predmeti: \nLetniki: \nIzvajalci: Uroš Stritih\nProstori: Lec
 ture hall II/2
LOCATION:Lecture hall II/2
ORGANIZER:Uroš Stritih
X-WR-TIMEZONE:Europe/Ljubljana
END:VEVENT
BEGIN:VEVENT
SUMMARY:Sestane MzI
DTSTART;TZID=Europe/Ljubljana:20231102T100000
DTEND;TZID=Europe/Ljubljana:20231102T120000
DTSTAMP:20260421T171750Z
UID:fs-AFLABS-URNIK:rezervacija:3198
CATEGORIES:Reservation
COLOR:royalblue
DESCRIPTION:Predmeti: \nLetniki: \nIzvajalci: Uroš Stritih\nProstori: Con
 ference room
LOCATION:Conference room
ORGANIZER:Uroš Stritih
X-WR-TIMEZONE:Europe/Ljubljana
END:VEVENT
BEGIN:VEVENT
SUMMARY:Izpit: Stavbna tehnika (3053)
DTSTART;TZID=Europe/Ljubljana:20240130T100000
DTEND;TZID=Europe/Ljubljana:20240130T120000
DTSTAMP:20260421T171750Z
UID:fs-AFLABS-URNIK:rezervacija:3718
CATEGORIES:Reservation
COLOR:royalblue
DESCRIPTION:Predmeti: \nLetniki: \nIzvajalci: Uroš Stritih\nProstori: Lec
 ture hall III/2
LOCATION:Lecture hall III/2
ORGANIZER:Uroš Stritih
X-WR-TIMEZONE:Europe/Ljubljana
END:VEVENT
END:VCALENDAR
