BEGIN:VCALENDAR
VERSION:2.0
PRODID:-//AFLabs urnik izvoz - fs//aflabs.si//SI
NAME:UL FS Urnik
X-WR-CALNAME:UL FS Urnik
DTSTAMP:20260423T185641Z
REFRESH-INTERVAL:PT1H
SOURCE:https://urnik.fs.uni-lj.si/en/teacher/861/?day=2024-07-29&export=1
URL:https://urnik.fs.uni-lj.si/en/teacher/861/?day=2024-07-29&export=1
X-PUBLISHED-TTL:PT1H
X-WR-TIMEZONE:Europe/Ljubljana
BEGIN:VTIMEZONE
TZID:Europe/Ljubljana
BEGIN:DAYLIGHT
DTSTART:20260329T020000
RDATE:20260329T020000
RDATE:20270328T020000
TZNAME:CEST
TZOFFSETFROM:+0100
TZOFFSETTO:+0200
END:DAYLIGHT
BEGIN:STANDARD
DTSTART:20261025T030000
RDATE:20261025T030000
RDATE:20271031T030000
TZNAME:CET
TZOFFSETFROM:+0200
TZOFFSETTO:+0100
END:STANDARD
END:VTIMEZONE
BEGIN:VEVENT
SUMMARY:Izpit: Sanitarna in požarna tehnika (3128)
DTSTART;TZID=Europe/Ljubljana:20240624T080000
DTEND;TZID=Europe/Ljubljana:20240624T100000
DTSTAMP:20260423T185641Z
UID:fs-AFLABS-URNIK:rezervacija:5285
CATEGORIES:Reservation
COLOR:royalblue
DESCRIPTION:Predmeti: \nLetniki: \nIzvajalci: Uroš Stritih\nProstori: Lec
 ture hall II/5
LOCATION:Lecture hall II/5
ORGANIZER:Uroš Stritih
X-WR-TIMEZONE:Europe/Ljubljana
END:VEVENT
BEGIN:VEVENT
SUMMARY:Izpit: Air-conditioning\, Heating\, Refrigeration\, Ventilation (6
 017-M)
DTSTART;TZID=Europe/Ljubljana:20240628T100000
DTEND;TZID=Europe/Ljubljana:20240628T120000
DTSTAMP:20260423T185641Z
UID:fs-AFLABS-URNIK:rezervacija:5371
CATEGORIES:Reservation
COLOR:royalblue
DESCRIPTION:Predmeti: \nLetniki: \nIzvajalci: Uroš Stritih\nProstori: Lec
 ture hall IV/4
LOCATION:Lecture hall IV/4
ORGANIZER:Uroš Stritih
X-WR-TIMEZONE:Europe/Ljubljana
END:VEVENT
BEGIN:VEVENT
SUMMARY:Izpit: Klimatizacija (6023)
DTSTART;TZID=Europe/Ljubljana:20240628T100000
DTEND;TZID=Europe/Ljubljana:20240628T120000
DTSTAMP:20260423T185641Z
UID:fs-AFLABS-URNIK:rezervacija:5372
CATEGORIES:Reservation
COLOR:royalblue
DESCRIPTION:Predmeti: \nLetniki: \nIzvajalci: Uroš Stritih\nProstori: Lec
 ture hall IV/4
LOCATION:Lecture hall IV/4
ORGANIZER:Uroš Stritih
X-WR-TIMEZONE:Europe/Ljubljana
END:VEVENT
BEGIN:VEVENT
SUMMARY:Izpit: Klimatizacija\, ogrevanje\, ohlajevanje\, prezračevanje
DTSTART;TZID=Europe/Ljubljana:20240628T100000
DTEND;TZID=Europe/Ljubljana:20240628T120000
DTSTAMP:20260423T185641Z
UID:fs-AFLABS-URNIK:rezervacija:5373
ATTENDEE:Process engineering (MAG-1)
CATEGORIES:Reservation
COLOR:royalblue
DESCRIPTION:Predmeti: Air-conditioning\, heating\, refrigeration\, ventila
 tion (KOOM)\nLetniki: Process engineering (MAG-1)\nIzvajalci: Uroš Striti
 h\nProstori: Lecture hall IV/4
LOCATION:Lecture hall IV/4
ORGANIZER:Uroš Stritih
X-WR-TIMEZONE:Europe/Ljubljana
END:VEVENT
BEGIN:VEVENT
SUMMARY:Izpit: Klimatski in hladilni sistemi (6271)
DTSTART;TZID=Europe/Ljubljana:20240628T100000
DTEND;TZID=Europe/Ljubljana:20240628T120000
DTSTAMP:20260423T185641Z
UID:fs-AFLABS-URNIK:rezervacija:5374
CATEGORIES:Reservation
COLOR:royalblue
DESCRIPTION:Predmeti: \nLetniki: \nIzvajalci: Uroš Stritih\nProstori: Lec
 ture hall IV/4
LOCATION:Lecture hall IV/4
ORGANIZER:Uroš Stritih
X-WR-TIMEZONE:Europe/Ljubljana
END:VEVENT
BEGIN:VEVENT
SUMMARY:Izpit: Raba energije (3050)
DTSTART;TZID=Europe/Ljubljana:20240812T080000
DTEND;TZID=Europe/Ljubljana:20240812T100000
DTSTAMP:20260423T185641Z
UID:fs-AFLABS-URNIK:rezervacija:5406
CATEGORIES:Reservation
COLOR:royalblue
DESCRIPTION:Predmeti: \nLetniki: \nIzvajalci: Uroš Stritih\nProstori: Lec
 ture hall II/2
LOCATION:Lecture hall II/2
ORGANIZER:Uroš Stritih
X-WR-TIMEZONE:Europe/Ljubljana
END:VEVENT
BEGIN:VEVENT
SUMMARY:Izpit: Klimatski in hladilni sistemi (6271)
DTSTART;TZID=Europe/Ljubljana:20240814T100000
DTEND;TZID=Europe/Ljubljana:20240814T120000
DTSTAMP:20260423T185641Z
UID:fs-AFLABS-URNIK:rezervacija:5465
CATEGORIES:Reservation
COLOR:royalblue
DESCRIPTION:Predmeti: \nLetniki: \nIzvajalci: Uroš Stritih\nProstori: Lec
 ture hall III/3B
LOCATION:Lecture hall III/3B
ORGANIZER:Uroš Stritih
X-WR-TIMEZONE:Europe/Ljubljana
END:VEVENT
BEGIN:VEVENT
SUMMARY:Izpit: Klimatizacija (6023)
DTSTART;TZID=Europe/Ljubljana:20240823T130000
DTEND;TZID=Europe/Ljubljana:20240823T150000
DTSTAMP:20260423T185641Z
UID:fs-AFLABS-URNIK:rezervacija:5687
CATEGORIES:Reservation
COLOR:royalblue
DESCRIPTION:Predmeti: \nLetniki: \nIzvajalci: Uroš Stritih\nProstori: Lec
 ture hall II/3A
LOCATION:Lecture hall II/3A
ORGANIZER:Uroš Stritih
X-WR-TIMEZONE:Europe/Ljubljana
END:VEVENT
BEGIN:VEVENT
SUMMARY:Izpit: Sanitarna in požarna tehnika (3128)
DTSTART;TZID=Europe/Ljubljana:20240828T080000
DTEND;TZID=Europe/Ljubljana:20240828T100000
DTSTAMP:20260423T185641Z
UID:fs-AFLABS-URNIK:rezervacija:5782
CATEGORIES:Reservation
COLOR:royalblue
DESCRIPTION:Predmeti: \nLetniki: \nIzvajalci: Uroš Stritih\nProstori: Lec
 ture hall III/3B
LOCATION:Lecture hall III/3B
ORGANIZER:Uroš Stritih
X-WR-TIMEZONE:Europe/Ljubljana
END:VEVENT
BEGIN:VEVENT
SUMMARY:Izpit: Air-conditioning\, Heating\, Refrigeration\, Ventilation (6
 017-M)
DTSTART;TZID=Europe/Ljubljana:20240829T120000
DTEND;TZID=Europe/Ljubljana:20240829T140000
DTSTAMP:20260423T185641Z
UID:fs-AFLABS-URNIK:rezervacija:5806
CATEGORIES:Reservation
COLOR:royalblue
DESCRIPTION:Predmeti: \nLetniki: \nIzvajalci: Uroš Stritih\nProstori: Lec
 ture hall V/2
LOCATION:Lecture hall V/2
ORGANIZER:Uroš Stritih
X-WR-TIMEZONE:Europe/Ljubljana
END:VEVENT
BEGIN:VEVENT
SUMMARY:Izpit: Klimatizacija\, ogrevanje\, ohlajevanje\, prezračevanje
DTSTART;TZID=Europe/Ljubljana:20240829T120000
DTEND;TZID=Europe/Ljubljana:20240829T140000
DTSTAMP:20260423T185641Z
UID:fs-AFLABS-URNIK:rezervacija:5807
ATTENDEE:Process engineering (MAG-1)
CATEGORIES:Reservation
COLOR:royalblue
DESCRIPTION:Predmeti: Air-conditioning\, heating\, refrigeration\, ventila
 tion (KOOM)\nLetniki: Process engineering (MAG-1)\nIzvajalci: Uroš Striti
 h\nProstori: Lecture hall V/2
LOCATION:Lecture hall V/2
ORGANIZER:Uroš Stritih
X-WR-TIMEZONE:Europe/Ljubljana
END:VEVENT
BEGIN:VEVENT
SUMMARY:Izpit: Ogrevanje\, hlajenje in klimatizacija (3056)
DTSTART;TZID=Europe/Ljubljana:20240829T120000
DTEND;TZID=Europe/Ljubljana:20240829T140000
DTSTAMP:20260423T185641Z
UID:fs-AFLABS-URNIK:rezervacija:5808
CATEGORIES:Reservation
COLOR:royalblue
DESCRIPTION:Predmeti: \nLetniki: \nIzvajalci: Uroš Stritih\nProstori: Lec
 ture hall V/2
LOCATION:Lecture hall V/2
ORGANIZER:Uroš Stritih
X-WR-TIMEZONE:Europe/Ljubljana
END:VEVENT
BEGIN:VEVENT
SUMMARY:Izpit: Ogrevanje\, ohlajevanje\, prezračevanje\, klimatizacija - 
 PAP
DTSTART;TZID=Europe/Ljubljana:20240829T120000
DTEND;TZID=Europe/Ljubljana:20240829T140000
DTSTAMP:20260423T185641Z
UID:fs-AFLABS-URNIK:rezervacija:5809
ATTENDEE:Process engineering (PAP-3)
CATEGORIES:Reservation
COLOR:royalblue
DESCRIPTION:Predmeti: Heating\, refrigeration\, ventilation\, air-conditio
 ning - PAP (OPKP)\nLetniki: Process engineering (PAP-3)\nIzvajalci: Uroš 
 Stritih\nProstori: Lecture hall V/2
LOCATION:Lecture hall V/2
ORGANIZER:Uroš Stritih
X-WR-TIMEZONE:Europe/Ljubljana
END:VEVENT
BEGIN:VEVENT
SUMMARY:Izpit: Stavbna tehnika (3053)
DTSTART;TZID=Europe/Ljubljana:20240829T120000
DTEND;TZID=Europe/Ljubljana:20240829T140000
DTSTAMP:20260423T185641Z
UID:fs-AFLABS-URNIK:rezervacija:5810
CATEGORIES:Reservation
COLOR:royalblue
DESCRIPTION:Predmeti: \nLetniki: \nIzvajalci: Uroš Stritih\nProstori: Lec
 ture hall V/2
LOCATION:Lecture hall V/2
ORGANIZER:Uroš Stritih
X-WR-TIMEZONE:Europe/Ljubljana
END:VEVENT
BEGIN:VEVENT
SUMMARY:Izpit: Notranje okolje (2052)
DTSTART;TZID=Europe/Ljubljana:20240830T080000
DTEND;TZID=Europe/Ljubljana:20240830T100000
DTSTAMP:20260423T185641Z
UID:fs-AFLABS-URNIK:rezervacija:5833
CATEGORIES:Reservation
COLOR:royalblue
DESCRIPTION:Predmeti: \nLetniki: \nIzvajalci: Uroš Stritih\nProstori: Lec
 ture hall IV/3B
LOCATION:Lecture hall IV/3B
ORGANIZER:Uroš Stritih
X-WR-TIMEZONE:Europe/Ljubljana
END:VEVENT
END:VCALENDAR
