BEGIN:VCALENDAR
VERSION:2.0
PRODID:-//AFLabs urnik izvoz - fs//aflabs.si//SI
NAME:UL FS Urnik
X-WR-CALNAME:UL FS Urnik
DTSTAMP:20260424T130749Z
REFRESH-INTERVAL:PT1H
SOURCE:https://urnik.fs.uni-lj.si/en/teacher/861/?day=2025-08-04&export=1
URL:https://urnik.fs.uni-lj.si/en/teacher/861/?day=2025-08-04&export=1
X-PUBLISHED-TTL:PT1H
X-WR-TIMEZONE:Europe/Ljubljana
BEGIN:VTIMEZONE
TZID:Europe/Ljubljana
BEGIN:DAYLIGHT
DTSTART:20260329T020000
RDATE:20260329T020000
RDATE:20270328T020000
TZNAME:CEST
TZOFFSETFROM:+0100
TZOFFSETTO:+0200
END:DAYLIGHT
BEGIN:STANDARD
DTSTART:20261025T030000
RDATE:20261025T030000
RDATE:20271031T030000
TZNAME:CET
TZOFFSETFROM:+0200
TZOFFSETTO:+0100
END:STANDARD
END:VTIMEZONE
BEGIN:VEVENT
SUMMARY:Izpit: Air-conditioning\, Heating\, Refrigeration\, Ventilation (6
 017-M)
DTSTART;TZID=Europe/Ljubljana:20250828T120000
DTEND;TZID=Europe/Ljubljana:20250828T140000
DTSTAMP:20260424T130749Z
UID:fs-AFLABS-URNIK:rezervacija:6400
CATEGORIES:Reservation
COLOR:royalblue
DESCRIPTION:Predmeti: \nLetniki: \nIzvajalci: Uroš Stritih\nProstori: Lec
 ture hall V/2
LOCATION:Lecture hall V/2
ORGANIZER:Uroš Stritih
X-WR-TIMEZONE:Europe/Ljubljana
END:VEVENT
BEGIN:VEVENT
SUMMARY:Izpit: Klimatizacija\, ogrevanje\, ohlajevanje\, prezračevanje (6
 017-M)
DTSTART;TZID=Europe/Ljubljana:20250828T120000
DTEND;TZID=Europe/Ljubljana:20250828T140000
DTSTAMP:20260424T130749Z
UID:fs-AFLABS-URNIK:rezervacija:6750
CATEGORIES:Reservation
COLOR:royalblue
DESCRIPTION:Predmeti: \nLetniki: \nIzvajalci: Uroš Stritih\nProstori: Lec
 ture hall V/2
LOCATION:Lecture hall V/2
ORGANIZER:Uroš Stritih
X-WR-TIMEZONE:Europe/Ljubljana
END:VEVENT
BEGIN:VEVENT
SUMMARY:Izpit: Klimatizacija\, ogrevanje\, ohlajevanje\, prezračevanje (6
 017-M) [dve oceni]
DTSTART;TZID=Europe/Ljubljana:20250828T120000
DTEND;TZID=Europe/Ljubljana:20250828T140000
DTSTAMP:20260424T130749Z
UID:fs-AFLABS-URNIK:rezervacija:6753
CATEGORIES:Reservation
COLOR:royalblue
DESCRIPTION:Predmeti: \nLetniki: \nIzvajalci: Uroš Stritih\nProstori: Lec
 ture hall V/2
LOCATION:Lecture hall V/2
ORGANIZER:Uroš Stritih
X-WR-TIMEZONE:Europe/Ljubljana
END:VEVENT
BEGIN:VEVENT
SUMMARY:Izpit: Klimatski in hladilni sistemi (6271)
DTSTART;TZID=Europe/Ljubljana:20250813T100000
DTEND;TZID=Europe/Ljubljana:20250813T120000
DTSTAMP:20260424T130749Z
UID:fs-AFLABS-URNIK:rezervacija:6756
CATEGORIES:Reservation
COLOR:royalblue
DESCRIPTION:Predmeti: \nLetniki: \nIzvajalci: Uroš Stritih\nProstori: Lec
 ture hall III/3B
LOCATION:Lecture hall III/3B
ORGANIZER:Uroš Stritih
X-WR-TIMEZONE:Europe/Ljubljana
END:VEVENT
BEGIN:VEVENT
SUMMARY:Izpit: Notranje okolje (2052)
DTSTART;TZID=Europe/Ljubljana:20250829T080000
DTEND;TZID=Europe/Ljubljana:20250829T100000
DTSTAMP:20260424T130749Z
UID:fs-AFLABS-URNIK:rezervacija:7187
CATEGORIES:Reservation
COLOR:royalblue
DESCRIPTION:Predmeti: \nLetniki: \nIzvajalci: Uroš Stritih\nProstori: Lec
 ture hall IV/3B
LOCATION:Lecture hall IV/3B
ORGANIZER:Uroš Stritih
X-WR-TIMEZONE:Europe/Ljubljana
END:VEVENT
BEGIN:VEVENT
SUMMARY:Izpit: Ogrevanje\, hlajenje in klimatizacija (3056)
DTSTART;TZID=Europe/Ljubljana:20250828T120000
DTEND;TZID=Europe/Ljubljana:20250828T140000
DTSTAMP:20260424T130749Z
UID:fs-AFLABS-URNIK:rezervacija:7227
CATEGORIES:Reservation
COLOR:royalblue
DESCRIPTION:Predmeti: \nLetniki: \nIzvajalci: Uroš Stritih\nProstori: Lec
 ture hall V/2
LOCATION:Lecture hall V/2
ORGANIZER:Uroš Stritih
X-WR-TIMEZONE:Europe/Ljubljana
END:VEVENT
BEGIN:VEVENT
SUMMARY:Izpit: Ogrevanje\, ohlajevanje\, prezračevanje\, klimatizacija - 
 PAP
DTSTART;TZID=Europe/Ljubljana:20250828T120000
DTEND;TZID=Europe/Ljubljana:20250828T140000
DTSTAMP:20260424T130749Z
UID:fs-AFLABS-URNIK:rezervacija:7231
ATTENDEE:Process engineering (PAP-3)
CATEGORIES:Reservation
COLOR:royalblue
DESCRIPTION:Predmeti: Heating\, refrigeration\, ventilation\, air-conditio
 ning - PAP (OPKP)\nLetniki: Process engineering (PAP-3)\nIzvajalci: Uroš 
 Stritih\nProstori: Lecture hall V/2
LOCATION:Lecture hall V/2
ORGANIZER:Uroš Stritih
X-WR-TIMEZONE:Europe/Ljubljana
END:VEVENT
BEGIN:VEVENT
SUMMARY:Izpit: Raba energije (3050)
DTSTART;TZID=Europe/Ljubljana:20250811T080000
DTEND;TZID=Europe/Ljubljana:20250811T100000
DTSTAMP:20260424T130749Z
UID:fs-AFLABS-URNIK:rezervacija:7454
CATEGORIES:Reservation
COLOR:royalblue
DESCRIPTION:Predmeti: \nLetniki: \nIzvajalci: Uroš Stritih\nProstori: Lec
 ture hall II/2
LOCATION:Lecture hall II/2
ORGANIZER:Uroš Stritih
X-WR-TIMEZONE:Europe/Ljubljana
END:VEVENT
BEGIN:VEVENT
SUMMARY:Izpit: Sanitarna in požarna tehnika (3128)
DTSTART;TZID=Europe/Ljubljana:20250827T080000
DTEND;TZID=Europe/Ljubljana:20250827T100000
DTSTAMP:20260424T130749Z
UID:fs-AFLABS-URNIK:rezervacija:7500
CATEGORIES:Reservation
COLOR:royalblue
DESCRIPTION:Predmeti: \nLetniki: \nIzvajalci: Uroš Stritih\nProstori: Lec
 ture hall III/3B
LOCATION:Lecture hall III/3B
ORGANIZER:Uroš Stritih
X-WR-TIMEZONE:Europe/Ljubljana
END:VEVENT
BEGIN:VEVENT
SUMMARY:Izpit: Stavbna tehnika (3053)
DTSTART;TZID=Europe/Ljubljana:20250828T120000
DTEND;TZID=Europe/Ljubljana:20250828T140000
DTSTAMP:20260424T130749Z
UID:fs-AFLABS-URNIK:rezervacija:7565
CATEGORIES:Reservation
COLOR:royalblue
DESCRIPTION:Predmeti: \nLetniki: \nIzvajalci: Uroš Stritih\nProstori: Lec
 ture hall V/2
LOCATION:Lecture hall V/2
ORGANIZER:Uroš Stritih
X-WR-TIMEZONE:Europe/Ljubljana
END:VEVENT
END:VCALENDAR
