BEGIN:VCALENDAR
VERSION:2.0
PRODID:-//AFLabs urnik izvoz - fs//aflabs.si//SI
NAME:UL FS Urnik
X-WR-CALNAME:UL FS Urnik
DTSTAMP:20260426T000759Z
REFRESH-INTERVAL:PT1H
SOURCE:https://urnik.fs.uni-lj.si/en/teacher/861/?day=2026-01-19&export=1
URL:https://urnik.fs.uni-lj.si/en/teacher/861/?day=2026-01-19&export=1
X-PUBLISHED-TTL:PT1H
X-WR-TIMEZONE:Europe/Ljubljana
BEGIN:VTIMEZONE
TZID:Europe/Ljubljana
BEGIN:DAYLIGHT
DTSTART:20260329T020000
RDATE:20260329T020000
RDATE:20270328T020000
TZNAME:CEST
TZOFFSETFROM:+0100
TZOFFSETTO:+0200
END:DAYLIGHT
BEGIN:STANDARD
DTSTART:20261025T030000
RDATE:20261025T030000
RDATE:20271031T030000
TZNAME:CET
TZOFFSETFROM:+0200
TZOFFSETTO:+0100
END:STANDARD
END:VTIMEZONE
BEGIN:VEVENT
SUMMARY:Heating\, refrigeration\, ventilation\, air-conditioning - PAP (OP
 KP)\, Lectures (P)
DTSTART;TZID=Europe/Ljubljana:20251215T073000
DTEND;TZID=Europe/Ljubljana:20251215T093000
DTSTAMP:20260426T000759Z
UID:fs-AFLABS-URNIK:srecanje:7078-2025-12-15 07:30:00+01:00
DESCRIPTION:Predmet: Heating\, refrigeration\, ventilation\, air-condition
 ing - PAP (OPKP)\, Lectures (P)\nLetniki: Process engineering (PAP-3)\nIzv
 ajalci: Uroš Stritih\nProstor: Lecture hall III/3B
END:VEVENT
BEGIN:VEVENT
SUMMARY:Heating\, refrigeration\, ventilation\, air-conditioning - PAP (OP
 KP)\, Lectures (P)
DTSTART;TZID=Europe/Ljubljana:20251222T073000
DTEND;TZID=Europe/Ljubljana:20251222T093000
DTSTAMP:20260426T000759Z
UID:fs-AFLABS-URNIK:srecanje:7078-2025-12-22 07:30:00+01:00
DESCRIPTION:Predmet: Heating\, refrigeration\, ventilation\, air-condition
 ing - PAP (OPKP)\, Lectures (P)\nLetniki: Process engineering (PAP-3)\nIzv
 ajalci: Uroš Stritih\nProstor: Lecture hall III/3B
END:VEVENT
BEGIN:VEVENT
SUMMARY:Heating\, refrigeration\, ventilation\, air-conditioning - PAP (OP
 KP)\, Lectures (P)
DTSTART;TZID=Europe/Ljubljana:20260105T073000
DTEND;TZID=Europe/Ljubljana:20260105T093000
DTSTAMP:20260426T000759Z
UID:fs-AFLABS-URNIK:srecanje:7078-2026-01-05 07:30:00+01:00
DESCRIPTION:Predmet: Heating\, refrigeration\, ventilation\, air-condition
 ing - PAP (OPKP)\, Lectures (P)\nLetniki: Process engineering (PAP-3)\nIzv
 ajalci: Uroš Stritih\nProstor: Lecture hall III/3B
END:VEVENT
BEGIN:VEVENT
SUMMARY:Heating\, refrigeration\, ventilation\, air-conditioning - PAP (OP
 KP)\, Lectures (P)
DTSTART;TZID=Europe/Ljubljana:20260112T073000
DTEND;TZID=Europe/Ljubljana:20260112T093000
DTSTAMP:20260426T000759Z
UID:fs-AFLABS-URNIK:srecanje:7078-2026-01-12 07:30:00+01:00
DESCRIPTION:Predmet: Heating\, refrigeration\, ventilation\, air-condition
 ing - PAP (OPKP)\, Lectures (P)\nLetniki: Process engineering (PAP-3)\nIzv
 ajalci: Uroš Stritih\nProstor: Lecture hall III/3B
END:VEVENT
BEGIN:VEVENT
SUMMARY:Preventivna konzervacija II. (PK2A)\, Lectures (P)
DTSTART;TZID=Europe/Ljubljana:20251217T140000
DTEND;TZID=Europe/Ljubljana:20251217T170000
DTSTAMP:20260426T000759Z
UID:fs-AFLABS-URNIK:srecanje:19686-2025-12-17 14:00:00+01:00
DESCRIPTION:Predmet: Preventivna konzervacija II. (PK2A)\, Lectures (P)\nL
 etniki: \nIzvajalci: Uroš Stritih\nProstor: Lecture hall II/3B
END:VEVENT
BEGIN:VEVENT
SUMMARY:Preventivna konzervacija II. (PK2A)\, Lectures (P)
DTSTART;TZID=Europe/Ljubljana:20251224T140000
DTEND;TZID=Europe/Ljubljana:20251224T170000
DTSTAMP:20260426T000759Z
UID:fs-AFLABS-URNIK:srecanje:19686-2025-12-24 14:00:00+01:00
DESCRIPTION:Predmet: Preventivna konzervacija II. (PK2A)\, Lectures (P)\nL
 etniki: \nIzvajalci: Uroš Stritih\nProstor: Lecture hall II/3B
END:VEVENT
BEGIN:VEVENT
SUMMARY:Water environmental process engineering (VOPP)\, Lectures (P)
DTSTART;TZID=Europe/Ljubljana:20251218T093000
DTEND;TZID=Europe/Ljubljana:20251218T113000
DTSTAMP:20260426T000759Z
UID:fs-AFLABS-URNIK:srecanje:16018-2025-12-18 09:30:00+01:00
DESCRIPTION:Predmet: Water environmental process engineering (VOPP)\, Lect
 ures (P)\nLetniki: Process engineering (PAP-3)\nIzvajalci: Iztok Golobič\
 , Uroš Stritih\, Matevž Zupančič\nProstor: Lecture hall IV/3B
END:VEVENT
BEGIN:VEVENT
SUMMARY:Water environmental process engineering (VOPP)\, Lectures (P)
DTSTART;TZID=Europe/Ljubljana:20251225T093000
DTEND;TZID=Europe/Ljubljana:20251225T113000
DTSTAMP:20260426T000759Z
UID:fs-AFLABS-URNIK:srecanje:16018-2025-12-25 09:30:00+01:00
DESCRIPTION:Predmet: Water environmental process engineering (VOPP)\, Lect
 ures (P)\nLetniki: Process engineering (PAP-3)\nIzvajalci: Iztok Golobič\
 , Uroš Stritih\, Matevž Zupančič\nProstor: Lecture hall IV/3B
END:VEVENT
BEGIN:VEVENT
SUMMARY:Water environmental process engineering (VOPP)\, Lectures (P)
DTSTART;TZID=Europe/Ljubljana:20260108T093000
DTEND;TZID=Europe/Ljubljana:20260108T113000
DTSTAMP:20260426T000759Z
UID:fs-AFLABS-URNIK:srecanje:16018-2026-01-08 09:30:00+01:00
DESCRIPTION:Predmet: Water environmental process engineering (VOPP)\, Lect
 ures (P)\nLetniki: Process engineering (PAP-3)\nIzvajalci: Iztok Golobič\
 , Uroš Stritih\, Matevž Zupančič\nProstor: Lecture hall IV/3B
END:VEVENT
BEGIN:VEVENT
SUMMARY:Water environmental process engineering (VOPP)\, Lectures (P)
DTSTART;TZID=Europe/Ljubljana:20260115T093000
DTEND;TZID=Europe/Ljubljana:20260115T113000
DTSTAMP:20260426T000759Z
UID:fs-AFLABS-URNIK:srecanje:16018-2026-01-15 09:30:00+01:00
DESCRIPTION:Predmet: Water environmental process engineering (VOPP)\, Lect
 ures (P)\nLetniki: Process engineering (PAP-3)\nIzvajalci: Iztok Golobič\
 , Uroš Stritih\, Matevž Zupančič\nProstor: Lecture hall IV/3B
END:VEVENT
BEGIN:VEVENT
SUMMARY:Preventivna konzervacija II. (PK2A)\, Lectures (P)
DTSTART;TZID=Europe/Ljubljana:20260107T140000
DTEND;TZID=Europe/Ljubljana:20260107T170000
DTSTAMP:20260426T000759Z
UID:fs-AFLABS-URNIK:srecanje:19687-2026-01-07 14:00:00+01:00
DESCRIPTION:Predmet: Preventivna konzervacija II. (PK2A)\, Lectures (P)\nL
 etniki: \nIzvajalci: Uroš Stritih\nProstor: Lecture hall IV/4
END:VEVENT
BEGIN:VEVENT
SUMMARY:Preventivna konzervacija II. (PK2A)\, Lectures (P)
DTSTART;TZID=Europe/Ljubljana:20260114T140000
DTEND;TZID=Europe/Ljubljana:20260114T170000
DTSTAMP:20260426T000759Z
UID:fs-AFLABS-URNIK:srecanje:19688-2026-01-14 14:00:00+01:00
DESCRIPTION:Predmet: Preventivna konzervacija II. (PK2A)\, Lectures (P)\nL
 etniki: \nIzvajalci: Uroš Stritih\nProstor: Lecture hall II/3A
END:VEVENT
BEGIN:VEVENT
SUMMARY:Air-conditioning\, heating\, refrigeration\, ventilation (KOOM)\, 
 Lectures (P)
DTSTART;TZID=Europe/Ljubljana:20260216T140000
DTEND;TZID=Europe/Ljubljana:20260216T160000
DTSTAMP:20260426T000759Z
UID:fs-AFLABS-URNIK:srecanje:579-2026-02-16 14:00:00+01:00
DESCRIPTION:Predmet: Air-conditioning\, heating\, refrigeration\, ventilat
 ion (KOOM)\, Lectures (P)\nLetniki: Process engineering (MAG-1)\nIzvajalci
 : Uroš Stritih\nProstor: Lecture hall III/2
END:VEVENT
BEGIN:VEVENT
SUMMARY:Air-conditioning\, heating\, refrigeration\, ventilation (KOOM)\, 
 Lectures (P)
DTSTART;TZID=Europe/Ljubljana:20260223T140000
DTEND;TZID=Europe/Ljubljana:20260223T160000
DTSTAMP:20260426T000759Z
UID:fs-AFLABS-URNIK:srecanje:579-2026-02-23 14:00:00+01:00
DESCRIPTION:Predmet: Air-conditioning\, heating\, refrigeration\, ventilat
 ion (KOOM)\, Lectures (P)\nLetniki: Process engineering (MAG-1)\nIzvajalci
 : Uroš Stritih\nProstor: Lecture hall III/2
END:VEVENT
BEGIN:VEVENT
SUMMARY:Building physics and indoor environment quality (SFNP)\, Lectures 
 (P)
DTSTART;TZID=Europe/Ljubljana:20260219T153000
DTEND;TZID=Europe/Ljubljana:20260219T173000
DTSTAMP:20260426T000759Z
UID:fs-AFLABS-URNIK:srecanje:15238-2026-02-19 15:30:00+01:00
DESCRIPTION:Predmet: Building physics and indoor environment quality (SFNP
 )\, Lectures (P)\nLetniki: Process engineering (PAP-2)\nIzvajalci: Ciril A
 rkar\, Uroš Stritih\nProstor: Lecture hall III/3B
END:VEVENT
BEGIN:VEVENT
SUMMARY:Air-conditioning\, Heating\, Refrigeration\, Ventilation (AHRE)\, 
 Lecture exercises (VP)\, [S1]
DTSTART;TZID=Europe/Ljubljana:20260219T120000
DTEND;TZID=Europe/Ljubljana:20260219T140000
DTSTAMP:20260426T000759Z
UID:fs-AFLABS-URNIK:srecanje:17658-2026-02-19 12:00:00+01:00
DESCRIPTION:Predmet: Air-conditioning\, Heating\, Refrigeration\, Ventilat
 ion (AHRE)\, Lecture exercises (VP)\, [S1]\nLetniki: Erasmus (Erasmus)\nIz
 vajalci: Uroš Stritih\, Tej Žižak\nProstor: Lecture hall I/4A
END:VEVENT
BEGIN:VEVENT
SUMMARY:Air-conditioning\, Heating\, Refrigeration\, Ventilation (AHRE)\, 
 Lectures (P)
DTSTART;TZID=Europe/Ljubljana:20260220T120000
DTEND;TZID=Europe/Ljubljana:20260220T140000
DTSTAMP:20260426T000759Z
UID:fs-AFLABS-URNIK:srecanje:14561-2026-02-20 12:00:00+01:00
DESCRIPTION:Predmet: Air-conditioning\, Heating\, Refrigeration\, Ventilat
 ion (AHRE)\, Lectures (P)\nLetniki: Erasmus (Erasmus)\nIzvajalci: Uroš St
 ritih\nProstor: Lecture hall I/4A
END:VEVENT
BEGIN:VEVENT
SUMMARY:Izpit: Stavbna tehnika
DTSTART;TZID=Europe/Ljubljana:20260127T100000
DTEND;TZID=Europe/Ljubljana:20260127T120000
DTSTAMP:20260426T000759Z
UID:fs-AFLABS-URNIK:rezervacija:12293
CATEGORIES:Reservation
COLOR:royalblue
DESCRIPTION:Predmeti: \nLetniki: \nIzvajalci: Uroš Stritih\nProstori: Lec
 ture hall III/2
LOCATION:Lecture hall III/2
ORGANIZER:Uroš Stritih
X-WR-TIMEZONE:Europe/Ljubljana
END:VEVENT
BEGIN:VEVENT
SUMMARY:Izpit: Raba energije
DTSTART;TZID=Europe/Ljubljana:20260206T080000
DTEND;TZID=Europe/Ljubljana:20260206T100000
DTSTAMP:20260426T000759Z
UID:fs-AFLABS-URNIK:rezervacija:12602
ATTENDEE:Energetsko, procesno in okoljsko inženirstvo - Energetsko strojn
 ištvo (PAP-3)
ATTENDEE:Energetsko, procesno in okoljsko inženirstvo - Procesno inženir
 stvo (PAP-3)
CATEGORIES:Reservation
COLOR:royalblue
DESCRIPTION:Predmeti: Energy consumption (3050)\nLetniki: Energetsko\, pro
 cesno in okoljsko inženirstvo - Procesno inženirstvo (PAP-3)\, Energetsk
 o\, procesno in okoljsko inženirstvo - Energetsko strojništvo (PAP-3)\nI
 zvajalci: Uroš Stritih\nProstori: Lecture hall IV/3A
LOCATION:Lecture hall IV/3A
ORGANIZER:Uroš Stritih
X-WR-TIMEZONE:Europe/Ljubljana
END:VEVENT
BEGIN:VEVENT
SUMMARY:Izpit: Ogrevanje\, ohlajevanje\, prezračevanje\, klimatizacija - 
 PAP
DTSTART;TZID=Europe/Ljubljana:20260210T110000
DTEND;TZID=Europe/Ljubljana:20260210T130000
DTSTAMP:20260426T000759Z
UID:fs-AFLABS-URNIK:rezervacija:11498
ATTENDEE:Process engineering (PAP-3)
CATEGORIES:Reservation
COLOR:royalblue
DESCRIPTION:Predmeti: Heating\, refrigeration\, ventilation\, air-conditio
 ning - PAP (OPKP)\nLetniki: Process engineering (PAP-3)\nIzvajalci: Uroš 
 Stritih\nProstori: Lecture hall III/2
LOCATION:Lecture hall III/2
ORGANIZER:Uroš Stritih
X-WR-TIMEZONE:Europe/Ljubljana
END:VEVENT
BEGIN:VEVENT
SUMMARY:Izpit: Ogrevanje\, hlajenje in klimatizacija
DTSTART;TZID=Europe/Ljubljana:20260210T110000
DTEND;TZID=Europe/Ljubljana:20260210T130000
DTSTAMP:20260426T000759Z
UID:fs-AFLABS-URNIK:rezervacija:11497
ATTENDEE:Energetsko, procesno in okoljsko inženirstvo - Procesno inženir
 stvo (PAP-3)
CATEGORIES:Reservation
COLOR:royalblue
DESCRIPTION:Predmeti: Heating\, Cooling and Air Conditioning (3056)\nLetni
 ki: Energetsko\, procesno in okoljsko inženirstvo - Procesno inženirstvo
  (PAP-3)\nIzvajalci: Uroš Stritih\nProstori: Lecture hall III/2
LOCATION:Lecture hall III/2
ORGANIZER:Uroš Stritih
X-WR-TIMEZONE:Europe/Ljubljana
END:VEVENT
BEGIN:VEVENT
SUMMARY:Izpit: Ogrevanje\, ohlajevanje\, prezračevanje\, klimatizacija - 
 PAP
DTSTART;TZID=Europe/Ljubljana:20260127T100000
DTEND;TZID=Europe/Ljubljana:20260127T120000
DTSTAMP:20260426T000759Z
UID:fs-AFLABS-URNIK:rezervacija:12292
ATTENDEE:Process engineering (PAP-3)
CATEGORIES:Reservation
COLOR:royalblue
DESCRIPTION:Predmeti: Heating\, refrigeration\, ventilation\, air-conditio
 ning - PAP (OPKP)\nLetniki: Process engineering (PAP-3)\nIzvajalci: Uroš 
 Stritih\nProstori: Lecture hall III/2
LOCATION:Lecture hall III/2
ORGANIZER:Uroš Stritih
X-WR-TIMEZONE:Europe/Ljubljana
END:VEVENT
BEGIN:VEVENT
SUMMARY:Izpit: Notranje okolje
DTSTART;TZID=Europe/Ljubljana:20260121T080000
DTEND;TZID=Europe/Ljubljana:20260121T100000
DTSTAMP:20260426T000759Z
UID:fs-AFLABS-URNIK:rezervacija:11992
ATTENDEE:RRP-3 (RRP-3)
CATEGORIES:Reservation
COLOR:royalblue
DESCRIPTION:Predmeti: Internal Environment (2052)\nLetniki: RRP-3 (RRP-3)\
 nIzvajalci: Uroš Stritih\nProstori: Lecture hall II/2
LOCATION:Lecture hall II/2
ORGANIZER:Uroš Stritih
X-WR-TIMEZONE:Europe/Ljubljana
END:VEVENT
BEGIN:VEVENT
SUMMARY:Izpit: Sanitarna in požarna tehnika
DTSTART;TZID=Europe/Ljubljana:20260211T080000
DTEND;TZID=Europe/Ljubljana:20260211T100000
DTSTAMP:20260426T000759Z
UID:fs-AFLABS-URNIK:rezervacija:11551
CATEGORIES:Reservation
COLOR:royalblue
DESCRIPTION:Predmeti: \nLetniki: \nIzvajalci: Uroš Stritih\nProstori: Lec
 ture hall III/3B
LOCATION:Lecture hall III/3B
ORGANIZER:Uroš Stritih
X-WR-TIMEZONE:Europe/Ljubljana
END:VEVENT
END:VCALENDAR
