BEGIN:VCALENDAR
VERSION:2.0
PRODID:-//AFLabs urnik izvoz - fs//aflabs.si//SI
NAME:UL FS Urnik
X-WR-CALNAME:UL FS Urnik
DTSTAMP:20260424T014333Z
REFRESH-INTERVAL:PT1H
SOURCE:https://urnik.fs.uni-lj.si/en/teacher/861/?day=2026-07-06&export=1
URL:https://urnik.fs.uni-lj.si/en/teacher/861/?day=2026-07-06&export=1
X-PUBLISHED-TTL:PT1H
X-WR-TIMEZONE:Europe/Ljubljana
BEGIN:VTIMEZONE
TZID:Europe/Ljubljana
BEGIN:DAYLIGHT
DTSTART:20260329T020000
RDATE:20260329T020000
RDATE:20270328T020000
TZNAME:CEST
TZOFFSETFROM:+0100
TZOFFSETTO:+0200
END:DAYLIGHT
BEGIN:STANDARD
DTSTART:20261025T030000
RDATE:20261025T030000
RDATE:20271031T030000
TZNAME:CET
TZOFFSETFROM:+0200
TZOFFSETTO:+0100
END:STANDARD
END:VTIMEZONE
BEGIN:VEVENT
SUMMARY:Air-conditioning\, heating\, refrigeration\, ventilation (KOOM)\, 
 Lectures (P)
DTSTART;TZID=Europe/Ljubljana:20260601T140000
DTEND;TZID=Europe/Ljubljana:20260601T160000
DTSTAMP:20260424T014333Z
UID:fs-AFLABS-URNIK:srecanje:579-2026-06-01 14:00:00+02:00
DESCRIPTION:Predmet: Air-conditioning\, heating\, refrigeration\, ventilat
 ion (KOOM)\, Lectures (P)\nLetniki: Process engineering (MAG-1)\nIzvajalci
 : Uroš Stritih\nProstor: Lecture hall III/2
END:VEVENT
BEGIN:VEVENT
SUMMARY:Izpit: Raba energije
DTSTART;TZID=Europe/Ljubljana:20260810T080000
DTEND;TZID=Europe/Ljubljana:20260810T100000
DTSTAMP:20260424T014333Z
UID:fs-AFLABS-URNIK:rezervacija:11522
ATTENDEE:Energetsko, procesno in okoljsko inženirstvo - Energetsko strojn
 ištvo (PAP-3)
ATTENDEE:Energetsko, procesno in okoljsko inženirstvo - Procesno inženir
 stvo (PAP-3)
CATEGORIES:Reservation
COLOR:royalblue
DESCRIPTION:Predmeti: Energy consumption (3050)\nLetniki: Energetsko\, pro
 cesno in okoljsko inženirstvo - Procesno inženirstvo (PAP-3)\, Energetsk
 o\, procesno in okoljsko inženirstvo - Energetsko strojništvo (PAP-3)\nI
 zvajalci: Uroš Stritih\nProstori: Lecture hall II/2
LOCATION:Lecture hall II/2
ORGANIZER:Uroš Stritih
X-WR-TIMEZONE:Europe/Ljubljana
END:VEVENT
BEGIN:VEVENT
SUMMARY:Izpit: Air-conditioning\, Heating\, Refrigeration\, Ventilation
DTSTART;TZID=Europe/Ljubljana:20260612T080000
DTEND;TZID=Europe/Ljubljana:20260612T100000
DTSTAMP:20260424T014333Z
UID:fs-AFLABS-URNIK:rezervacija:11647
ATTENDEE:Erasmus (Erasmus)
CATEGORIES:Reservation
COLOR:royalblue
DESCRIPTION:Predmeti: Air-conditioning\, Heating\, Refrigeration\, Ventila
 tion (AHRE)\nLetniki: Erasmus (Erasmus)\nIzvajalci: Uroš Stritih\nProstor
 i: Lecture hall IV/4
LOCATION:Lecture hall IV/4
ORGANIZER:Uroš Stritih
X-WR-TIMEZONE:Europe/Ljubljana
END:VEVENT
BEGIN:VEVENT
SUMMARY:Izpit: Klimatizacija\, ogrevanje\, ohlajevanje\, prezračevanje
DTSTART;TZID=Europe/Ljubljana:20260612T080000
DTEND;TZID=Europe/Ljubljana:20260612T100000
DTSTAMP:20260424T014333Z
UID:fs-AFLABS-URNIK:rezervacija:11648
ATTENDEE:Process engineering (MAG-1)
CATEGORIES:Reservation
COLOR:royalblue
DESCRIPTION:Predmeti: Air-conditioning\, heating\, refrigeration\, ventila
 tion (KOOM)\nLetniki: Process engineering (MAG-1)\nIzvajalci: Uroš Striti
 h\nProstori: Lecture hall IV/4
LOCATION:Lecture hall IV/4
ORGANIZER:Uroš Stritih
X-WR-TIMEZONE:Europe/Ljubljana
END:VEVENT
BEGIN:VEVENT
SUMMARY:Izpit: Klimatizacija\, ogrevanje\, ohlajevanje\, prezračevanje
DTSTART;TZID=Europe/Ljubljana:20260612T080000
DTEND;TZID=Europe/Ljubljana:20260612T100000
DTSTAMP:20260424T014333Z
UID:fs-AFLABS-URNIK:rezervacija:11649
ATTENDEE:Process engineering (MAG-1)
CATEGORIES:Reservation
COLOR:royalblue
DESCRIPTION:Predmeti: Air-conditioning\, heating\, refrigeration\, ventila
 tion (KOOM)\nLetniki: Process engineering (MAG-1)\nIzvajalci: Uroš Striti
 h\nProstori: Lecture hall IV/4
LOCATION:Lecture hall IV/4
ORGANIZER:Uroš Stritih
X-WR-TIMEZONE:Europe/Ljubljana
END:VEVENT
BEGIN:VEVENT
SUMMARY:Izpit: Ogrevanje\, hlajenje in klimatizacija
DTSTART;TZID=Europe/Ljubljana:20260619T140000
DTEND;TZID=Europe/Ljubljana:20260619T160000
DTSTAMP:20260424T014333Z
UID:fs-AFLABS-URNIK:rezervacija:11899
ATTENDEE:Energetsko, procesno in okoljsko inženirstvo - Procesno inženir
 stvo (PAP-3)
CATEGORIES:Reservation
COLOR:royalblue
DESCRIPTION:Predmeti: Heating\, Cooling and Air Conditioning (3056)\nLetni
 ki: Energetsko\, procesno in okoljsko inženirstvo - Procesno inženirstvo
  (PAP-3)\nIzvajalci: Uroš Stritih\nProstori: Lecture hall III/4
LOCATION:Lecture hall III/4
ORGANIZER:Uroš Stritih
X-WR-TIMEZONE:Europe/Ljubljana
END:VEVENT
BEGIN:VEVENT
SUMMARY:Izpit: Ogrevanje\, ohlajevanje\, prezračevanje\, klimatizacija - 
 PAP
DTSTART;TZID=Europe/Ljubljana:20260619T140000
DTEND;TZID=Europe/Ljubljana:20260619T160000
DTSTAMP:20260424T014333Z
UID:fs-AFLABS-URNIK:rezervacija:11900
ATTENDEE:Process engineering (PAP-3)
CATEGORIES:Reservation
COLOR:royalblue
DESCRIPTION:Predmeti: Heating\, refrigeration\, ventilation\, air-conditio
 ning - PAP (OPKP)\nLetniki: Process engineering (PAP-3)\nIzvajalci: Uroš 
 Stritih\nProstori: Lecture hall III/4
LOCATION:Lecture hall III/4
ORGANIZER:Uroš Stritih
X-WR-TIMEZONE:Europe/Ljubljana
END:VEVENT
BEGIN:VEVENT
SUMMARY:Izpit: Stavbna tehnika
DTSTART;TZID=Europe/Ljubljana:20260619T140000
DTEND;TZID=Europe/Ljubljana:20260619T160000
DTSTAMP:20260424T014333Z
UID:fs-AFLABS-URNIK:rezervacija:11901
CATEGORIES:Reservation
COLOR:royalblue
DESCRIPTION:Predmeti: \nLetniki: \nIzvajalci: Uroš Stritih\nProstori: Lec
 ture hall III/4
LOCATION:Lecture hall III/4
ORGANIZER:Uroš Stritih
X-WR-TIMEZONE:Europe/Ljubljana
END:VEVENT
BEGIN:VEVENT
SUMMARY:Izpit: Sanitarna in požarna tehnika
DTSTART;TZID=Europe/Ljubljana:20260622T080000
DTEND;TZID=Europe/Ljubljana:20260622T100000
DTSTAMP:20260424T014333Z
UID:fs-AFLABS-URNIK:rezervacija:12061
CATEGORIES:Reservation
COLOR:royalblue
DESCRIPTION:Predmeti: \nLetniki: \nIzvajalci: Uroš Stritih\nProstori: Lec
 ture hall II/5
LOCATION:Lecture hall II/5
ORGANIZER:Uroš Stritih
X-WR-TIMEZONE:Europe/Ljubljana
END:VEVENT
BEGIN:VEVENT
SUMMARY:Izpit: Air-conditioning\, Heating\, Refrigeration\, Ventilation
DTSTART;TZID=Europe/Ljubljana:20260630T100000
DTEND;TZID=Europe/Ljubljana:20260630T120000
DTSTAMP:20260424T014333Z
UID:fs-AFLABS-URNIK:rezervacija:12256
ATTENDEE:Erasmus (Erasmus)
CATEGORIES:Reservation
COLOR:royalblue
DESCRIPTION:Predmeti: Air-conditioning\, Heating\, Refrigeration\, Ventila
 tion (AHRE)\nLetniki: Erasmus (Erasmus)\nIzvajalci: Uroš Stritih\nProstor
 i: Lecture hall IV/4
LOCATION:Lecture hall IV/4
ORGANIZER:Uroš Stritih
X-WR-TIMEZONE:Europe/Ljubljana
END:VEVENT
BEGIN:VEVENT
SUMMARY:Izpit: Klimatizacija\, ogrevanje\, ohlajevanje\, prezračevanje
DTSTART;TZID=Europe/Ljubljana:20260630T100000
DTEND;TZID=Europe/Ljubljana:20260630T120000
DTSTAMP:20260424T014333Z
UID:fs-AFLABS-URNIK:rezervacija:12257
ATTENDEE:Process engineering (MAG-1)
CATEGORIES:Reservation
COLOR:royalblue
DESCRIPTION:Predmeti: Air-conditioning\, heating\, refrigeration\, ventila
 tion (KOOM)\nLetniki: Process engineering (MAG-1)\nIzvajalci: Uroš Striti
 h\nProstori: Lecture hall IV/4
LOCATION:Lecture hall IV/4
ORGANIZER:Uroš Stritih
X-WR-TIMEZONE:Europe/Ljubljana
END:VEVENT
BEGIN:VEVENT
SUMMARY:Izpit: Klimatizacija\, ogrevanje\, ohlajevanje\, prezračevanje
DTSTART;TZID=Europe/Ljubljana:20260630T100000
DTEND;TZID=Europe/Ljubljana:20260630T120000
DTSTAMP:20260424T014333Z
UID:fs-AFLABS-URNIK:rezervacija:12258
ATTENDEE:Process engineering (MAG-1)
CATEGORIES:Reservation
COLOR:royalblue
DESCRIPTION:Predmeti: Air-conditioning\, heating\, refrigeration\, ventila
 tion (KOOM)\nLetniki: Process engineering (MAG-1)\nIzvajalci: Uroš Striti
 h\nProstori: Lecture hall IV/4
LOCATION:Lecture hall IV/4
ORGANIZER:Uroš Stritih
X-WR-TIMEZONE:Europe/Ljubljana
END:VEVENT
BEGIN:VEVENT
SUMMARY:Izpit: Notranje okolje
DTSTART;TZID=Europe/Ljubljana:20260603T080000
DTEND;TZID=Europe/Ljubljana:20260603T100000
DTSTAMP:20260424T014333Z
UID:fs-AFLABS-URNIK:rezervacija:12481
ATTENDEE:RRP-3 (RRP-3)
CATEGORIES:Reservation
COLOR:royalblue
DESCRIPTION:Predmeti: Internal Environment (2052)\nLetniki: RRP-3 (RRP-3)\
 nIzvajalci: Uroš Stritih\nProstori: Lecture hall II/2
LOCATION:Lecture hall II/2
ORGANIZER:Uroš Stritih
X-WR-TIMEZONE:Europe/Ljubljana
END:VEVENT
BEGIN:VEVENT
SUMMARY:Izpit: Raba energije
DTSTART;TZID=Europe/Ljubljana:20260603T080000
DTEND;TZID=Europe/Ljubljana:20260603T100000
DTSTAMP:20260424T014333Z
UID:fs-AFLABS-URNIK:rezervacija:12482
ATTENDEE:Energetsko, procesno in okoljsko inženirstvo - Energetsko strojn
 ištvo (PAP-3)
ATTENDEE:Energetsko, procesno in okoljsko inženirstvo - Procesno inženir
 stvo (PAP-3)
CATEGORIES:Reservation
COLOR:royalblue
DESCRIPTION:Predmeti: Energy consumption (3050)\nLetniki: Energetsko\, pro
 cesno in okoljsko inženirstvo - Procesno inženirstvo (PAP-3)\, Energetsk
 o\, procesno in okoljsko inženirstvo - Energetsko strojništvo (PAP-3)\nI
 zvajalci: Uroš Stritih\nProstori: Lecture hall II/2
LOCATION:Lecture hall II/2
ORGANIZER:Uroš Stritih
X-WR-TIMEZONE:Europe/Ljubljana
END:VEVENT
END:VCALENDAR
