BEGIN:VCALENDAR
VERSION:2.0
PRODID:-//AFLabs urnik izvoz - fs//aflabs.si//SI
NAME:UL FS Urnik
X-WR-CALNAME:UL FS Urnik
DTSTAMP:20260419T193842Z
REFRESH-INTERVAL:PT1H
SOURCE:https://urnik.fs.uni-lj.si/en/teacher/862/?day=2024-08-26&export=1
URL:https://urnik.fs.uni-lj.si/en/teacher/862/?day=2024-08-26&export=1
X-PUBLISHED-TTL:PT1H
X-WR-TIMEZONE:Europe/Ljubljana
BEGIN:VTIMEZONE
TZID:Europe/Ljubljana
BEGIN:DAYLIGHT
DTSTART:20260329T020000
RDATE:20260329T020000
RDATE:20270328T020000
TZNAME:CEST
TZOFFSETFROM:+0100
TZOFFSETTO:+0200
END:DAYLIGHT
BEGIN:STANDARD
DTSTART:20261025T030000
RDATE:20261025T030000
RDATE:20271031T030000
TZNAME:CET
TZOFFSETFROM:+0200
TZOFFSETTO:+0100
END:STANDARD
END:VTIMEZONE
BEGIN:VEVENT
SUMMARY:Energy machines and appliances - RRP (ESNR)\, Lecture exercises (V
 P)\, [S2]
DTSTART;TZID=Europe/Ljubljana:20240930T080000
DTEND;TZID=Europe/Ljubljana:20240930T100000
DTSTAMP:20260419T193842Z
UID:fs-AFLABS-URNIK:srecanje:10364-2024-09-30 08:00:00+02:00
DESCRIPTION:Predmet: Energy machines and appliances - RRP (ESNR)\, Lecture
  exercises (VP)\, [S2]\nLetniki: RRP-3 (RRP-3)\nIzvajalci: Boštjan Drobni
 č\, Andrej Lotrič\, Rok Stropnik\nProstor: Lecture hall IV/4
END:VEVENT
BEGIN:VEVENT
SUMMARY:PilotSOEL M12 Project Meeting
DTSTART;TZID=Europe/Ljubljana:20240918T080000
DTEND;TZID=Europe/Ljubljana:20240918T150000
DTSTAMP:20260419T193842Z
UID:fs-AFLABS-URNIK:rezervacija:6022
CATEGORIES:Reservation
COLOR:royalblue
DESCRIPTION:Predmeti: \nLetniki: \nIzvajalci: Rok Stropnik\nProstori: Lesk
 ovarjeva conference room
LOCATION:Leskovarjeva conference room
ORGANIZER:Rok Stropnik
X-WR-TIMEZONE:Europe/Ljubljana
END:VEVENT
BEGIN:VEVENT
SUMMARY:PilotSOEL M12 Project Meeting
DTSTART;TZID=Europe/Ljubljana:20240917T140000
DTEND;TZID=Europe/Ljubljana:20240917T180000
DTSTAMP:20260419T193842Z
UID:fs-AFLABS-URNIK:rezervacija:6196
CATEGORIES:Reservation
COLOR:royalblue
DESCRIPTION:Predmeti: \nLetniki: \nIzvajalci: Rok Stropnik\nProstori: Lesk
 ovarjeva conference room
LOCATION:Leskovarjeva conference room
ORGANIZER:Rok Stropnik
X-WR-TIMEZONE:Europe/Ljubljana
END:VEVENT
END:VCALENDAR
