BEGIN:VCALENDAR
VERSION:2.0
PRODID:-//AFLabs urnik izvoz - fs//aflabs.si//SI
NAME:UL FS Urnik
X-WR-CALNAME:UL FS Urnik
DTSTAMP:20260423T183619Z
REFRESH-INTERVAL:PT1H
SOURCE:https://urnik.fs.uni-lj.si/en/teacher/862/?day=2025-09-01&export=1
URL:https://urnik.fs.uni-lj.si/en/teacher/862/?day=2025-09-01&export=1
X-PUBLISHED-TTL:PT1H
X-WR-TIMEZONE:Europe/Ljubljana
BEGIN:VTIMEZONE
TZID:Europe/Ljubljana
BEGIN:DAYLIGHT
DTSTART:20260329T020000
RDATE:20260329T020000
RDATE:20270328T020000
TZNAME:CEST
TZOFFSETFROM:+0100
TZOFFSETTO:+0200
END:DAYLIGHT
BEGIN:STANDARD
DTSTART:20261025T030000
RDATE:20261025T030000
RDATE:20271031T030000
TZNAME:CET
TZOFFSETFROM:+0200
TZOFFSETTO:+0100
END:STANDARD
END:VTIMEZONE
BEGIN:VEVENT
SUMMARY:Energy machines and appliances - RRP (ESNR)\, Lecture exercises (V
 P)\, [S3\, S4]
DTSTART;TZID=Europe/Ljubljana:20250929T080000
DTEND;TZID=Europe/Ljubljana:20250929T100000
DTSTAMP:20260423T183619Z
UID:fs-AFLABS-URNIK:srecanje:15825-2025-09-29 08:00:00+02:00
DESCRIPTION:Predmet: Energy machines and appliances - RRP (ESNR)\, Lecture
  exercises (VP)\, [S3\, S4]\nLetniki: RRP-3 (RRP-3)\nIzvajalci: Boštjan D
 robnič\, Andrej Lotrič\, Rok Stropnik\nProstor: Lecture hall IV/4
END:VEVENT
BEGIN:VEVENT
SUMMARY:Energy machines and appliances - RRP (ESNR)\, Lecture exercises (V
 P)\, [S3\, S4]
DTSTART;TZID=Europe/Ljubljana:20251006T080000
DTEND;TZID=Europe/Ljubljana:20251006T100000
DTSTAMP:20260423T183619Z
UID:fs-AFLABS-URNIK:srecanje:15825-2025-10-06 08:00:00+02:00
DESCRIPTION:Predmet: Energy machines and appliances - RRP (ESNR)\, Lecture
  exercises (VP)\, [S3\, S4]\nLetniki: RRP-3 (RRP-3)\nIzvajalci: Boštjan D
 robnič\, Andrej Lotrič\, Rok Stropnik\nProstor: Lecture hall IV/4
END:VEVENT
BEGIN:VEVENT
SUMMARY:Sustainable energy technologies (TTEP)\, Lecture exercises (VP)\, 
 [S1]
DTSTART;TZID=Europe/Ljubljana:20250930T133000
DTEND;TZID=Europe/Ljubljana:20250930T153000
DTSTAMP:20260423T183619Z
UID:fs-AFLABS-URNIK:srecanje:16042-2025-09-30 13:30:00+02:00
DESCRIPTION:Predmet: Sustainable energy technologies (TTEP)\, Lecture exer
 cises (VP)\, [S1]\nLetniki: Energy engineering (PAP-3)\nIzvajalci: Boštja
 n Drobnič\, Andrej Lotrič\, Rok Stropnik\nProstor: Lecture hall II/3B
END:VEVENT
BEGIN:VEVENT
SUMMARY:Energy machines and appliances - RRP (ESNR)\, Lecture exercises (V
 P)\, [S1\, S2]
DTSTART;TZID=Europe/Ljubljana:20251002T120000
DTEND;TZID=Europe/Ljubljana:20251002T140000
DTSTAMP:20260423T183619Z
UID:fs-AFLABS-URNIK:srecanje:15826-2025-10-02 12:00:00+02:00
DESCRIPTION:Predmet: Energy machines and appliances - RRP (ESNR)\, Lecture
  exercises (VP)\, [S1\, S2]\nLetniki: RRP-3 (RRP-3)\nIzvajalci: Boštjan D
 robnič\, Andrej Lotrič\, Rok Stropnik\nProstor: Lecture hall II/2
END:VEVENT
END:VCALENDAR
