BEGIN:VCALENDAR
VERSION:2.0
PRODID:-//AFLabs urnik izvoz - fs//aflabs.si//SI
NAME:UL FS Urnik
X-WR-CALNAME:UL FS Urnik
DTSTAMP:20260423T180251Z
REFRESH-INTERVAL:PT1H
SOURCE:https://urnik.fs.uni-lj.si/en/teacher/866/?day=2026-02-02&export=1
URL:https://urnik.fs.uni-lj.si/en/teacher/866/?day=2026-02-02&export=1
X-PUBLISHED-TTL:PT1H
X-WR-TIMEZONE:Europe/Ljubljana
BEGIN:VTIMEZONE
TZID:Europe/Ljubljana
BEGIN:DAYLIGHT
DTSTART:20260329T020000
RDATE:20260329T020000
RDATE:20270328T020000
TZNAME:CEST
TZOFFSETFROM:+0100
TZOFFSETTO:+0200
END:DAYLIGHT
BEGIN:STANDARD
DTSTART:20261025T030000
RDATE:20261025T030000
RDATE:20271031T030000
TZNAME:CET
TZOFFSETFROM:+0200
TZOFFSETTO:+0100
END:STANDARD
END:VTIMEZONE
BEGIN:VEVENT
SUMMARY:Operational strength (OBTM)\, Lectures (P)
DTSTART;TZID=Europe/Ljubljana:20260216T100000
DTEND;TZID=Europe/Ljubljana:20260216T120000
DTSTAMP:20260423T180251Z
UID:fs-AFLABS-URNIK:srecanje:15057-2026-02-16 10:00:00+01:00
DESCRIPTION:Predmet: Operational strength (OBTM)\, Lectures (P)\nLetniki: 
 Engineering design (MAG-1)\nIzvajalci: Jernej Klemenc\, Marko Nagode\, Dom
 en Šeruga\nProstor: Lecture hall III/4
END:VEVENT
BEGIN:VEVENT
SUMMARY:Operational strength (OBTM)\, Lectures (P)
DTSTART;TZID=Europe/Ljubljana:20260223T100000
DTEND;TZID=Europe/Ljubljana:20260223T120000
DTSTAMP:20260423T180251Z
UID:fs-AFLABS-URNIK:srecanje:15057-2026-02-23 10:00:00+01:00
DESCRIPTION:Predmet: Operational strength (OBTM)\, Lectures (P)\nLetniki: 
 Engineering design (MAG-1)\nIzvajalci: Jernej Klemenc\, Marko Nagode\, Dom
 en Šeruga\nProstor: Lecture hall III/4
END:VEVENT
BEGIN:VEVENT
SUMMARY:Operational strength (OBTM)\, Lectures (P)
DTSTART;TZID=Europe/Ljubljana:20260302T100000
DTEND;TZID=Europe/Ljubljana:20260302T120000
DTSTAMP:20260423T180251Z
UID:fs-AFLABS-URNIK:srecanje:15057-2026-03-02 10:00:00+01:00
DESCRIPTION:Predmet: Operational strength (OBTM)\, Lectures (P)\nLetniki: 
 Engineering design (MAG-1)\nIzvajalci: Jernej Klemenc\, Marko Nagode\, Dom
 en Šeruga\nProstor: Lecture hall III/4
END:VEVENT
BEGIN:VEVENT
SUMMARY:Operational strength (OBTM)\, Lectures (P)
DTSTART;TZID=Europe/Ljubljana:20260309T100000
DTEND;TZID=Europe/Ljubljana:20260309T120000
DTSTAMP:20260423T180251Z
UID:fs-AFLABS-URNIK:srecanje:15057-2026-03-09 10:00:00+01:00
DESCRIPTION:Predmet: Operational strength (OBTM)\, Lectures (P)\nLetniki: 
 Engineering design (MAG-1)\nIzvajalci: Jernej Klemenc\, Marko Nagode\, Dom
 en Šeruga\nProstor: Lecture hall III/4
END:VEVENT
BEGIN:VEVENT
SUMMARY:Fatigue Design (FTDE)\, Lectures (P)
DTSTART;TZID=Europe/Ljubljana:20260216T140000
DTEND;TZID=Europe/Ljubljana:20260216T160000
DTSTAMP:20260423T180251Z
UID:fs-AFLABS-URNIK:srecanje:17669-2026-02-16 14:00:00+01:00
DESCRIPTION:Predmet: Fatigue Design (FTDE)\, Lectures (P)\nLetniki: Erasmu
 s (Erasmus)\nIzvajalci: Jernej Klemenc\, Marko Nagode\, Domen Šeruga\nPro
 stor: Lecture hall II/3A
END:VEVENT
BEGIN:VEVENT
SUMMARY:Fatigue Design (FTDE)\, Lectures (P)
DTSTART;TZID=Europe/Ljubljana:20260223T140000
DTEND;TZID=Europe/Ljubljana:20260223T160000
DTSTAMP:20260423T180251Z
UID:fs-AFLABS-URNIK:srecanje:17669-2026-02-23 14:00:00+01:00
DESCRIPTION:Predmet: Fatigue Design (FTDE)\, Lectures (P)\nLetniki: Erasmu
 s (Erasmus)\nIzvajalci: Jernej Klemenc\, Marko Nagode\, Domen Šeruga\nPro
 stor: Lecture hall II/3A
END:VEVENT
BEGIN:VEVENT
SUMMARY:Fatigue Design (FTDE)\, Lectures (P)
DTSTART;TZID=Europe/Ljubljana:20260302T140000
DTEND;TZID=Europe/Ljubljana:20260302T160000
DTSTAMP:20260423T180251Z
UID:fs-AFLABS-URNIK:srecanje:17669-2026-03-02 14:00:00+01:00
DESCRIPTION:Predmet: Fatigue Design (FTDE)\, Lectures (P)\nLetniki: Erasmu
 s (Erasmus)\nIzvajalci: Jernej Klemenc\, Marko Nagode\, Domen Šeruga\nPro
 stor: Lecture hall II/3A
END:VEVENT
BEGIN:VEVENT
SUMMARY:Fatigue Design (FTDE)\, Lectures (P)
DTSTART;TZID=Europe/Ljubljana:20260309T140000
DTEND;TZID=Europe/Ljubljana:20260309T160000
DTSTAMP:20260423T180251Z
UID:fs-AFLABS-URNIK:srecanje:17669-2026-03-09 14:00:00+01:00
DESCRIPTION:Predmet: Fatigue Design (FTDE)\, Lectures (P)\nLetniki: Erasmu
 s (Erasmus)\nIzvajalci: Jernej Klemenc\, Marko Nagode\, Domen Šeruga\nPro
 stor: Lecture hall II/3A
END:VEVENT
BEGIN:VEVENT
SUMMARY:Operational strength (OBTM)\, Laboratory excercises (VL)\, [S1]
DTSTART;TZID=Europe/Ljubljana:20260223T080000
DTEND;TZID=Europe/Ljubljana:20260223T100000
DTSTAMP:20260423T180251Z
UID:fs-AFLABS-URNIK:srecanje:17193-2026-02-23 08:00:00+01:00
DESCRIPTION:Predmet: Operational strength (OBTM)\, Laboratory excercises (
 VL)\, [S1]\nLetniki: Engineering design (MAG-1)\nIzvajalci: Aleš Gosar\, 
 Ivan Okorn\, Simon Oman\, Domen Šeruga\, Boris Škrlec\nProstor: Laborato
 ry LAVEK IV/6
END:VEVENT
BEGIN:VEVENT
SUMMARY:Operational strength (OBTM)\, Laboratory excercises (VL)\, [S1]
DTSTART;TZID=Europe/Ljubljana:20260302T080000
DTEND;TZID=Europe/Ljubljana:20260302T100000
DTSTAMP:20260423T180251Z
UID:fs-AFLABS-URNIK:srecanje:17193-2026-03-02 08:00:00+01:00
DESCRIPTION:Predmet: Operational strength (OBTM)\, Laboratory excercises (
 VL)\, [S1]\nLetniki: Engineering design (MAG-1)\nIzvajalci: Aleš Gosar\, 
 Ivan Okorn\, Simon Oman\, Domen Šeruga\, Boris Škrlec\nProstor: Laborato
 ry LAVEK IV/6
END:VEVENT
BEGIN:VEVENT
SUMMARY:Operational strength (OBTM)\, Laboratory excercises (VL)\, [S1]
DTSTART;TZID=Europe/Ljubljana:20260309T080000
DTEND;TZID=Europe/Ljubljana:20260309T100000
DTSTAMP:20260423T180251Z
UID:fs-AFLABS-URNIK:srecanje:17193-2026-03-09 08:00:00+01:00
DESCRIPTION:Predmet: Operational strength (OBTM)\, Laboratory excercises (
 VL)\, [S1]\nLetniki: Engineering design (MAG-1)\nIzvajalci: Aleš Gosar\, 
 Ivan Okorn\, Simon Oman\, Domen Šeruga\, Boris Škrlec\nProstor: Laborato
 ry LAVEK IV/6
END:VEVENT
BEGIN:VEVENT
SUMMARY:Operational strength (OBTM)\, Laboratory excercises (VL)\, [S2]
DTSTART;TZID=Europe/Ljubljana:20260223T120000
DTEND;TZID=Europe/Ljubljana:20260223T140000
DTSTAMP:20260423T180251Z
UID:fs-AFLABS-URNIK:srecanje:17194-2026-02-23 12:00:00+01:00
DESCRIPTION:Predmet: Operational strength (OBTM)\, Laboratory excercises (
 VL)\, [S2]\nLetniki: Engineering design (MAG-1)\nIzvajalci: Aleš Gosar\, 
 Ivan Okorn\, Simon Oman\, Domen Šeruga\, Boris Škrlec\nProstor: Laborato
 ry LAVEK IV/6
END:VEVENT
BEGIN:VEVENT
SUMMARY:Operational strength (OBTM)\, Laboratory excercises (VL)\, [S2]
DTSTART;TZID=Europe/Ljubljana:20260302T120000
DTEND;TZID=Europe/Ljubljana:20260302T140000
DTSTAMP:20260423T180251Z
UID:fs-AFLABS-URNIK:srecanje:17194-2026-03-02 12:00:00+01:00
DESCRIPTION:Predmet: Operational strength (OBTM)\, Laboratory excercises (
 VL)\, [S2]\nLetniki: Engineering design (MAG-1)\nIzvajalci: Aleš Gosar\, 
 Ivan Okorn\, Simon Oman\, Domen Šeruga\, Boris Škrlec\nProstor: Laborato
 ry LAVEK IV/6
END:VEVENT
BEGIN:VEVENT
SUMMARY:Operational strength (OBTM)\, Laboratory excercises (VL)\, [S2]
DTSTART;TZID=Europe/Ljubljana:20260309T120000
DTEND;TZID=Europe/Ljubljana:20260309T140000
DTSTAMP:20260423T180251Z
UID:fs-AFLABS-URNIK:srecanje:17194-2026-03-09 12:00:00+01:00
DESCRIPTION:Predmet: Operational strength (OBTM)\, Laboratory excercises (
 VL)\, [S2]\nLetniki: Engineering design (MAG-1)\nIzvajalci: Aleš Gosar\, 
 Ivan Okorn\, Simon Oman\, Domen Šeruga\, Boris Škrlec\nProstor: Laborato
 ry LAVEK IV/6
END:VEVENT
BEGIN:VEVENT
SUMMARY:Operational strength (OBTM)\, Laboratory excercises (VL)\, [S3]
DTSTART;TZID=Europe/Ljubljana:20260223T140000
DTEND;TZID=Europe/Ljubljana:20260223T160000
DTSTAMP:20260423T180251Z
UID:fs-AFLABS-URNIK:srecanje:17195-2026-02-23 14:00:00+01:00
DESCRIPTION:Predmet: Operational strength (OBTM)\, Laboratory excercises (
 VL)\, [S3]\nLetniki: Engineering design (MAG-1)\nIzvajalci: Aleš Gosar\, 
 Ivan Okorn\, Simon Oman\, Domen Šeruga\, Boris Škrlec\nProstor: Laborato
 ry LAVEK IV/6
END:VEVENT
BEGIN:VEVENT
SUMMARY:Operational strength (OBTM)\, Laboratory excercises (VL)\, [S3]
DTSTART;TZID=Europe/Ljubljana:20260302T140000
DTEND;TZID=Europe/Ljubljana:20260302T160000
DTSTAMP:20260423T180251Z
UID:fs-AFLABS-URNIK:srecanje:17195-2026-03-02 14:00:00+01:00
DESCRIPTION:Predmet: Operational strength (OBTM)\, Laboratory excercises (
 VL)\, [S3]\nLetniki: Engineering design (MAG-1)\nIzvajalci: Aleš Gosar\, 
 Ivan Okorn\, Simon Oman\, Domen Šeruga\, Boris Škrlec\nProstor: Laborato
 ry LAVEK IV/6
END:VEVENT
BEGIN:VEVENT
SUMMARY:Operational strength (OBTM)\, Laboratory excercises (VL)\, [S3]
DTSTART;TZID=Europe/Ljubljana:20260309T140000
DTEND;TZID=Europe/Ljubljana:20260309T160000
DTSTAMP:20260423T180251Z
UID:fs-AFLABS-URNIK:srecanje:17195-2026-03-09 14:00:00+01:00
DESCRIPTION:Predmet: Operational strength (OBTM)\, Laboratory excercises (
 VL)\, [S3]\nLetniki: Engineering design (MAG-1)\nIzvajalci: Aleš Gosar\, 
 Ivan Okorn\, Simon Oman\, Domen Šeruga\, Boris Škrlec\nProstor: Laborato
 ry LAVEK IV/6
END:VEVENT
BEGIN:VEVENT
SUMMARY:Operational strength (OBTM)\, Laboratory excercises (VL)\, [S4]
DTSTART;TZID=Europe/Ljubljana:20260223T160000
DTEND;TZID=Europe/Ljubljana:20260223T180000
DTSTAMP:20260423T180251Z
UID:fs-AFLABS-URNIK:srecanje:17196-2026-02-23 16:00:00+01:00
DESCRIPTION:Predmet: Operational strength (OBTM)\, Laboratory excercises (
 VL)\, [S4]\nLetniki: Engineering design (MAG-1)\nIzvajalci: Aleš Gosar\, 
 Ivan Okorn\, Simon Oman\, Domen Šeruga\, Boris Škrlec\nProstor: Laborato
 ry LAVEK IV/6
END:VEVENT
BEGIN:VEVENT
SUMMARY:Operational strength (OBTM)\, Laboratory excercises (VL)\, [S4]
DTSTART;TZID=Europe/Ljubljana:20260302T160000
DTEND;TZID=Europe/Ljubljana:20260302T180000
DTSTAMP:20260423T180251Z
UID:fs-AFLABS-URNIK:srecanje:17196-2026-03-02 16:00:00+01:00
DESCRIPTION:Predmet: Operational strength (OBTM)\, Laboratory excercises (
 VL)\, [S4]\nLetniki: Engineering design (MAG-1)\nIzvajalci: Aleš Gosar\, 
 Ivan Okorn\, Simon Oman\, Domen Šeruga\, Boris Škrlec\nProstor: Laborato
 ry LAVEK IV/6
END:VEVENT
BEGIN:VEVENT
SUMMARY:Operational strength (OBTM)\, Laboratory excercises (VL)\, [S4]
DTSTART;TZID=Europe/Ljubljana:20260309T160000
DTEND;TZID=Europe/Ljubljana:20260309T180000
DTSTAMP:20260423T180251Z
UID:fs-AFLABS-URNIK:srecanje:17196-2026-03-09 16:00:00+01:00
DESCRIPTION:Predmet: Operational strength (OBTM)\, Laboratory excercises (
 VL)\, [S4]\nLetniki: Engineering design (MAG-1)\nIzvajalci: Aleš Gosar\, 
 Ivan Okorn\, Simon Oman\, Domen Šeruga\, Boris Škrlec\nProstor: Laborato
 ry LAVEK IV/6
END:VEVENT
BEGIN:VEVENT
SUMMARY:ALUO PP
DTSTART;TZID=Europe/Ljubljana:20260128T100000
DTEND;TZID=Europe/Ljubljana:20260128T120000
DTSTAMP:20260423T180251Z
UID:fs-AFLABS-URNIK:rezervacija:13509
CATEGORIES:Reservation
COLOR:royalblue
DESCRIPTION:Predmeti: \nLetniki: \nIzvajalci: Domen Šeruga\nProstori: Lec
 ture hall II/3A
LOCATION:Lecture hall II/3A
ORGANIZER:Domen Šeruga
X-WR-TIMEZONE:Europe/Ljubljana
END:VEVENT
BEGIN:VEVENT
SUMMARY:ALUO PP
DTSTART;TZID=Europe/Ljubljana:20260211T100000
DTEND;TZID=Europe/Ljubljana:20260211T120000
DTSTAMP:20260423T180251Z
UID:fs-AFLABS-URNIK:rezervacija:13510
CATEGORIES:Reservation
COLOR:royalblue
DESCRIPTION:Predmeti: \nLetniki: \nIzvajalci: Domen Šeruga\nProstori: Lec
 ture hall II/3A
LOCATION:Lecture hall II/3A
ORGANIZER:Domen Šeruga
X-WR-TIMEZONE:Europe/Ljubljana
END:VEVENT
END:VCALENDAR
