BEGIN:VCALENDAR
VERSION:2.0
PRODID:-//AFLabs urnik izvoz - fs//aflabs.si//SI
NAME:UL FS Urnik
X-WR-CALNAME:UL FS Urnik
DTSTAMP:20260424T001017Z
REFRESH-INTERVAL:PT1H
SOURCE:https://urnik.fs.uni-lj.si/en/teacher/867/?day=2023-08-28&export=1
URL:https://urnik.fs.uni-lj.si/en/teacher/867/?day=2023-08-28&export=1
X-PUBLISHED-TTL:PT1H
X-WR-TIMEZONE:Europe/Ljubljana
BEGIN:VTIMEZONE
TZID:Europe/Ljubljana
BEGIN:DAYLIGHT
DTSTART:20260329T020000
RDATE:20260329T020000
RDATE:20270328T020000
TZNAME:CEST
TZOFFSETFROM:+0100
TZOFFSETTO:+0200
END:DAYLIGHT
BEGIN:STANDARD
DTSTART:20261025T030000
RDATE:20261025T030000
RDATE:20271031T030000
TZNAME:CET
TZOFFSETFROM:+0200
TZOFFSETTO:+0100
END:STANDARD
END:VTIMEZONE
BEGIN:VEVENT
SUMMARY:Hydraulics and Pneumatics - RRP (HDPR)\, Lecture exercises (VP)\, 
 [S3]
DTSTART;TZID=Europe/Ljubljana:20231002T143000
DTEND;TZID=Europe/Ljubljana:20231002T160000
DTSTAMP:20260424T001017Z
UID:fs-AFLABS-URNIK:srecanje:6283-2023-10-02 14:30:00+02:00
DESCRIPTION:Predmet: Hydraulics and Pneumatics - RRP (HDPR)\, Lecture exer
 cises (VP)\, [S3]\nLetniki: RRP-3 (RRP-3)\nIzvajalci: Mihael Debevec\, Nej
 c Novak\, Miha Pipan\, Jan Pustavrh\, Marko Šimic\, Ana Trajkovski\nProst
 or: Lecture hall III/3B
END:VEVENT
BEGIN:VEVENT
SUMMARY:sestanek
DTSTART;TZID=Europe/Ljubljana:20230912T110000
DTEND;TZID=Europe/Ljubljana:20230912T120000
DTSTAMP:20260424T001017Z
UID:fs-AFLABS-URNIK:rezervacija:554
CATEGORIES:Reservation
COLOR:royalblue
DESCRIPTION:Predmeti: \nLetniki: \nIzvajalci: Marko Šimic\nProstori: Conf
 erence room
LOCATION:Conference room
ORGANIZER:Marko Šimic
X-WR-TIMEZONE:Europe/Ljubljana
END:VEVENT
BEGIN:VEVENT
SUMMARY:Sestanek
DTSTART;TZID=Europe/Ljubljana:20230817T100000
DTEND;TZID=Europe/Ljubljana:20230817T110000
DTSTAMP:20260424T001017Z
UID:fs-AFLABS-URNIK:rezervacija:1082
CATEGORIES:Reservation
COLOR:royalblue
DESCRIPTION:Predmeti: \nLetniki: \nIzvajalci: Marko Šimic\nProstori: Conf
 erence room
LOCATION:Conference room
ORGANIZER:Marko Šimic
X-WR-TIMEZONE:Europe/Ljubljana
END:VEVENT
BEGIN:VEVENT
SUMMARY:Izpit: Assembly and Handling Systems (6048-M)
DTSTART;TZID=Europe/Ljubljana:20230828T080000
DTEND;TZID=Europe/Ljubljana:20230828T100000
DTSTAMP:20260424T001017Z
UID:fs-AFLABS-URNIK:rezervacija:1935
CATEGORIES:Reservation
COLOR:royalblue
DESCRIPTION:Predmeti: \nLetniki: \nIzvajalci: Marko Šimic\nProstori: Lect
 ure hall III/4
LOCATION:Lecture hall III/4
ORGANIZER:Marko Šimic
X-WR-TIMEZONE:Europe/Ljubljana
END:VEVENT
BEGIN:VEVENT
SUMMARY:Izpit: Montažni in strežni sistemi
DTSTART;TZID=Europe/Ljubljana:20230828T080000
DTEND;TZID=Europe/Ljubljana:20230828T100000
DTSTAMP:20260424T001017Z
UID:fs-AFLABS-URNIK:rezervacija:1949
ATTENDEE:Production engineering (MAG-1)
CATEGORIES:Reservation
COLOR:royalblue
DESCRIPTION:Predmeti: Assembly and handling systems (MSSM)\nLetniki: Produ
 ction engineering (MAG-1)\nIzvajalci: Marko Šimic\nProstori: Lecture hall
  III/4
LOCATION:Lecture hall III/4
ORGANIZER:Marko Šimic
X-WR-TIMEZONE:Europe/Ljubljana
END:VEVENT
END:VCALENDAR
