BEGIN:VCALENDAR
VERSION:2.0
PRODID:-//AFLabs urnik izvoz - fs//aflabs.si//SI
NAME:UL FS Urnik
X-WR-CALNAME:UL FS Urnik
DTSTAMP:20260423T173524Z
REFRESH-INTERVAL:PT1H
SOURCE:https://urnik.fs.uni-lj.si/en/teacher/876/?day=2024-02-12&export=1
URL:https://urnik.fs.uni-lj.si/en/teacher/876/?day=2024-02-12&export=1
X-PUBLISHED-TTL:PT1H
X-WR-TIMEZONE:Europe/Ljubljana
BEGIN:VTIMEZONE
TZID:Europe/Ljubljana
BEGIN:DAYLIGHT
DTSTART:20260329T020000
RDATE:20260329T020000
RDATE:20270328T020000
TZNAME:CEST
TZOFFSETFROM:+0100
TZOFFSETTO:+0200
END:DAYLIGHT
BEGIN:STANDARD
DTSTART:20261025T030000
RDATE:20261025T030000
RDATE:20271031T030000
TZNAME:CET
TZOFFSETFROM:+0200
TZOFFSETTO:+0100
END:STANDARD
END:VTIMEZONE
BEGIN:VEVENT
SUMMARY:Testing methods in production (MPPP)\, Lectures (P)
DTSTART;TZID=Europe/Ljubljana:20240220T133000
DTEND;TZID=Europe/Ljubljana:20240220T153000
DTSTAMP:20260423T173524Z
UID:fs-AFLABS-URNIK:srecanje:3730-2024-02-20 13:30:00+01:00
DESCRIPTION:Predmet: Testing methods in production (MPPP)\, Lectures (P)\n
 Letniki: Production technologies (PAP-2)\nIzvajalci: Tomaž Kek\, Roman Š
 turm\nProstor: Lecture hall III/3B
END:VEVENT
BEGIN:VEVENT
SUMMARY:Testing methods in production (MPPP)\, Lectures (P)
DTSTART;TZID=Europe/Ljubljana:20240227T133000
DTEND;TZID=Europe/Ljubljana:20240227T153000
DTSTAMP:20260423T173524Z
UID:fs-AFLABS-URNIK:srecanje:3730-2024-02-27 13:30:00+01:00
DESCRIPTION:Predmet: Testing methods in production (MPPP)\, Lectures (P)\n
 Letniki: Production technologies (PAP-2)\nIzvajalci: Tomaž Kek\, Roman Š
 turm\nProstor: Lecture hall III/3B
END:VEVENT
BEGIN:VEVENT
SUMMARY:Testing methods in production (MPPP)\, Lectures (P)
DTSTART;TZID=Europe/Ljubljana:20240305T133000
DTEND;TZID=Europe/Ljubljana:20240305T153000
DTSTAMP:20260423T173524Z
UID:fs-AFLABS-URNIK:srecanje:3730-2024-03-05 13:30:00+01:00
DESCRIPTION:Predmet: Testing methods in production (MPPP)\, Lectures (P)\n
 Letniki: Production technologies (PAP-2)\nIzvajalci: Tomaž Kek\, Roman Š
 turm\nProstor: Lecture hall III/3B
END:VEVENT
BEGIN:VEVENT
SUMMARY:Testing methods in production (MPPP)\, Lectures (P)
DTSTART;TZID=Europe/Ljubljana:20240312T133000
DTEND;TZID=Europe/Ljubljana:20240312T153000
DTSTAMP:20260423T173524Z
UID:fs-AFLABS-URNIK:srecanje:3730-2024-03-12 13:30:00+01:00
DESCRIPTION:Predmet: Testing methods in production (MPPP)\, Lectures (P)\n
 Letniki: Production technologies (PAP-2)\nIzvajalci: Tomaž Kek\, Roman Š
 turm\nProstor: Lecture hall III/3B
END:VEVENT
BEGIN:VEVENT
SUMMARY:Metals - RRP (KVMR)\, Lectures (P)
DTSTART;TZID=Europe/Ljubljana:20240221T100000
DTEND;TZID=Europe/Ljubljana:20240221T120000
DTSTAMP:20260423T173524Z
UID:fs-AFLABS-URNIK:srecanje:3685-2024-02-21 10:00:00+01:00
DESCRIPTION:Predmet: Metals - RRP (KVMR)\, Lectures (P)\nLetniki: RRP-1 (R
 RP-1)\nIzvajalci: Roman Šturm\nProstor: Lecture hall V/8
END:VEVENT
BEGIN:VEVENT
SUMMARY:Metals - RRP (KVMR)\, Lectures (P)
DTSTART;TZID=Europe/Ljubljana:20240228T100000
DTEND;TZID=Europe/Ljubljana:20240228T120000
DTSTAMP:20260423T173524Z
UID:fs-AFLABS-URNIK:srecanje:3685-2024-02-28 10:00:00+01:00
DESCRIPTION:Predmet: Metals - RRP (KVMR)\, Lectures (P)\nLetniki: RRP-1 (R
 RP-1)\nIzvajalci: Roman Šturm\nProstor: Lecture hall V/8
END:VEVENT
BEGIN:VEVENT
SUMMARY:Metals - RRP (KVMR)\, Lectures (P)
DTSTART;TZID=Europe/Ljubljana:20240306T100000
DTEND;TZID=Europe/Ljubljana:20240306T120000
DTSTAMP:20260423T173524Z
UID:fs-AFLABS-URNIK:srecanje:3685-2024-03-06 10:00:00+01:00
DESCRIPTION:Predmet: Metals - RRP (KVMR)\, Lectures (P)\nLetniki: RRP-1 (R
 RP-1)\nIzvajalci: Roman Šturm\nProstor: Lecture hall V/8
END:VEVENT
BEGIN:VEVENT
SUMMARY:Metals - RRP (KVMR)\, Lectures (P)
DTSTART;TZID=Europe/Ljubljana:20240313T100000
DTEND;TZID=Europe/Ljubljana:20240313T120000
DTSTAMP:20260423T173524Z
UID:fs-AFLABS-URNIK:srecanje:3685-2024-03-13 10:00:00+01:00
DESCRIPTION:Predmet: Metals - RRP (KVMR)\, Lectures (P)\nLetniki: RRP-1 (R
 RP-1)\nIzvajalci: Roman Šturm\nProstor: Lecture hall V/8
END:VEVENT
BEGIN:VEVENT
SUMMARY:Heat Treatment (HTME)\, Lectures (P)
DTSTART;TZID=Europe/Ljubljana:20240221T120000
DTEND;TZID=Europe/Ljubljana:20240221T140000
DTSTAMP:20260423T173524Z
UID:fs-AFLABS-URNIK:srecanje:6141-2024-02-21 12:00:00+01:00
DESCRIPTION:Predmet: Heat Treatment (HTME)\, Lectures (P)\nLetniki: Erasmu
 s (Erasmus)\nIzvajalci: Roman Šturm\nProstor: Lecture hall I/4A
END:VEVENT
BEGIN:VEVENT
SUMMARY:Heat Treatment (HTME)\, Lectures (P)
DTSTART;TZID=Europe/Ljubljana:20240228T120000
DTEND;TZID=Europe/Ljubljana:20240228T140000
DTSTAMP:20260423T173524Z
UID:fs-AFLABS-URNIK:srecanje:6141-2024-02-28 12:00:00+01:00
DESCRIPTION:Predmet: Heat Treatment (HTME)\, Lectures (P)\nLetniki: Erasmu
 s (Erasmus)\nIzvajalci: Roman Šturm\nProstor: Lecture hall I/4A
END:VEVENT
BEGIN:VEVENT
SUMMARY:Heat Treatment (HTME)\, Lectures (P)
DTSTART;TZID=Europe/Ljubljana:20240306T120000
DTEND;TZID=Europe/Ljubljana:20240306T140000
DTSTAMP:20260423T173524Z
UID:fs-AFLABS-URNIK:srecanje:6141-2024-03-06 12:00:00+01:00
DESCRIPTION:Predmet: Heat Treatment (HTME)\, Lectures (P)\nLetniki: Erasmu
 s (Erasmus)\nIzvajalci: Roman Šturm\nProstor: Lecture hall I/4A
END:VEVENT
BEGIN:VEVENT
SUMMARY:Heat Treatment (HTME)\, Lectures (P)
DTSTART;TZID=Europe/Ljubljana:20240313T120000
DTEND;TZID=Europe/Ljubljana:20240313T140000
DTSTAMP:20260423T173524Z
UID:fs-AFLABS-URNIK:srecanje:6141-2024-03-13 12:00:00+01:00
DESCRIPTION:Predmet: Heat Treatment (HTME)\, Lectures (P)\nLetniki: Erasmu
 s (Erasmus)\nIzvajalci: Roman Šturm\nProstor: Lecture hall I/4A
END:VEVENT
BEGIN:VEVENT
SUMMARY:Non-destructive testing in aviation (NPLP)\, Lectures (P)
DTSTART;TZID=Europe/Ljubljana:20240223T080000
DTEND;TZID=Europe/Ljubljana:20240223T100000
DTSTAMP:20260423T173524Z
UID:fs-AFLABS-URNIK:srecanje:8050-2024-02-23 08:00:00+01:00
DESCRIPTION:Predmet: Non-destructive testing in aviation (NPLP)\, Lectures
  (P)\nLetniki: Aircraft design and maintenance (PAP-2)\nIzvajalci: Tomaž 
 Kek\, Roman Šturm\nProstor: Lecture hall IV/3B
END:VEVENT
BEGIN:VEVENT
SUMMARY:Non-destructive testing in aviation (NPLP)\, Lectures (P)
DTSTART;TZID=Europe/Ljubljana:20240301T080000
DTEND;TZID=Europe/Ljubljana:20240301T100000
DTSTAMP:20260423T173524Z
UID:fs-AFLABS-URNIK:srecanje:8050-2024-03-01 08:00:00+01:00
DESCRIPTION:Predmet: Non-destructive testing in aviation (NPLP)\, Lectures
  (P)\nLetniki: Aircraft design and maintenance (PAP-2)\nIzvajalci: Tomaž 
 Kek\, Roman Šturm\nProstor: Lecture hall IV/3B
END:VEVENT
BEGIN:VEVENT
SUMMARY:Non-destructive testing in aviation (NPLP)\, Lectures (P)
DTSTART;TZID=Europe/Ljubljana:20240308T080000
DTEND;TZID=Europe/Ljubljana:20240308T100000
DTSTAMP:20260423T173524Z
UID:fs-AFLABS-URNIK:srecanje:8050-2024-03-08 08:00:00+01:00
DESCRIPTION:Predmet: Non-destructive testing in aviation (NPLP)\, Lectures
  (P)\nLetniki: Aircraft design and maintenance (PAP-2)\nIzvajalci: Tomaž 
 Kek\, Roman Šturm\nProstor: Lecture hall IV/3B
END:VEVENT
BEGIN:VEVENT
SUMMARY:Non-destructive testing in aviation (NPLP)\, Lectures (P)
DTSTART;TZID=Europe/Ljubljana:20240315T080000
DTEND;TZID=Europe/Ljubljana:20240315T100000
DTSTAMP:20260423T173524Z
UID:fs-AFLABS-URNIK:srecanje:8050-2024-03-15 08:00:00+01:00
DESCRIPTION:Predmet: Non-destructive testing in aviation (NPLP)\, Lectures
  (P)\nLetniki: Aircraft design and maintenance (PAP-2)\nIzvajalci: Tomaž 
 Kek\, Roman Šturm\nProstor: Lecture hall IV/3B
END:VEVENT
BEGIN:VEVENT
SUMMARY:Izpit: Kovinski materiali - PAP
DTSTART;TZID=Europe/Ljubljana:20240122T080000
DTEND;TZID=Europe/Ljubljana:20240122T100000
DTSTAMP:20260423T173524Z
UID:fs-AFLABS-URNIK:rezervacija:3622
ATTENDEE:PAP-1 (PAP-1)
CATEGORIES:Reservation
COLOR:royalblue
DESCRIPTION:Predmeti: Metals - PAP (KVMP)\nLetniki: PAP-1 (PAP-1)\nIzvajal
 ci: Roman Šturm\nProstori: Lecture hall III/2\, Lecture hall III/4\, Lect
 ure hall IV/4\, Lecture hall V/2
LOCATION:Lecture hall III/2\, Lecture hall III/4\, Lecture hall IV/4\, Lec
 ture hall V/2
ORGANIZER:Roman Šturm
X-WR-TIMEZONE:Europe/Ljubljana
END:VEVENT
BEGIN:VEVENT
SUMMARY:Izpit: Toplotna obdelava
DTSTART;TZID=Europe/Ljubljana:20240124T150000
DTEND;TZID=Europe/Ljubljana:20240124T170000
DTSTAMP:20260423T173524Z
UID:fs-AFLABS-URNIK:rezervacija:3636
ATTENDEE:Production engineering (MAG-1)
CATEGORIES:Reservation
COLOR:royalblue
DESCRIPTION:Predmeti: Heat treatment (TPOM)\nLetniki: Production engineeri
 ng (MAG-1)\nIzvajalci: Roman Šturm\nProstori: Lecture hall V/8
LOCATION:Lecture hall V/8
ORGANIZER:Roman Šturm
X-WR-TIMEZONE:Europe/Ljubljana
END:VEVENT
BEGIN:VEVENT
SUMMARY:Izpit: Toplotna obdelava in oplemenitenje površin (6029)
DTSTART;TZID=Europe/Ljubljana:20240129T080000
DTEND;TZID=Europe/Ljubljana:20240129T100000
DTSTAMP:20260423T173524Z
UID:fs-AFLABS-URNIK:rezervacija:3680
CATEGORIES:Reservation
COLOR:royalblue
DESCRIPTION:Predmeti: \nLetniki: \nIzvajalci: Roman Šturm\nProstori: Lect
 ure hall II/3A
LOCATION:Lecture hall II/3A
ORGANIZER:Roman Šturm
X-WR-TIMEZONE:Europe/Ljubljana
END:VEVENT
BEGIN:VEVENT
SUMMARY:Izpit: Gradiva 2 (2022)
DTSTART;TZID=Europe/Ljubljana:20240130T080000
DTEND;TZID=Europe/Ljubljana:20240130T100000
DTSTAMP:20260423T173524Z
UID:fs-AFLABS-URNIK:rezervacija:3720
CATEGORIES:Reservation
COLOR:royalblue
DESCRIPTION:Predmeti: \nLetniki: \nIzvajalci: Roman Šturm\nProstori: Lect
 ure hall II/2
LOCATION:Lecture hall II/2
ORGANIZER:Roman Šturm
X-WR-TIMEZONE:Europe/Ljubljana
END:VEVENT
BEGIN:VEVENT
SUMMARY:Izpit: Materiali v energetiki in procesnem strojništvu (3112)
DTSTART;TZID=Europe/Ljubljana:20240131T080000
DTEND;TZID=Europe/Ljubljana:20240131T100000
DTSTAMP:20260423T173524Z
UID:fs-AFLABS-URNIK:rezervacija:3740
CATEGORIES:Reservation
COLOR:royalblue
DESCRIPTION:Predmeti: \nLetniki: \nIzvajalci: Roman Šturm\nProstori: Lect
 ure hall II/5
LOCATION:Lecture hall II/5
ORGANIZER:Roman Šturm
X-WR-TIMEZONE:Europe/Ljubljana
END:VEVENT
BEGIN:VEVENT
SUMMARY:Izpit: Načrtovanje toplotne obdelave
DTSTART;TZID=Europe/Ljubljana:20240131T080000
DTEND;TZID=Europe/Ljubljana:20240131T100000
DTSTAMP:20260423T173524Z
UID:fs-AFLABS-URNIK:rezervacija:3741
ATTENDEE:Production technologies (PAP-3)
CATEGORIES:Reservation
COLOR:royalblue
DESCRIPTION:Predmeti: Heat treatment planning (NTOP)\nLetniki: Production 
 technologies (PAP-3)\nIzvajalci: Roman Šturm\nProstori: Lecture hall II/5
LOCATION:Lecture hall II/5
ORGANIZER:Roman Šturm
X-WR-TIMEZONE:Europe/Ljubljana
END:VEVENT
BEGIN:VEVENT
SUMMARY:Izpit: Inženirska gradiva (3020)
DTSTART;TZID=Europe/Ljubljana:20240206T080000
DTEND;TZID=Europe/Ljubljana:20240206T100000
DTSTAMP:20260423T173524Z
UID:fs-AFLABS-URNIK:rezervacija:3828
CATEGORIES:Reservation
COLOR:royalblue
DESCRIPTION:Predmeti: \nLetniki: \nIzvajalci: Roman Šturm\nProstori: Lect
 ure hall IV/2
LOCATION:Lecture hall IV/2
ORGANIZER:Roman Šturm
X-WR-TIMEZONE:Europe/Ljubljana
END:VEVENT
BEGIN:VEVENT
SUMMARY:Izpit: Tehnologija materialov (3026)
DTSTART;TZID=Europe/Ljubljana:20240206T080000
DTEND;TZID=Europe/Ljubljana:20240206T100000
DTSTAMP:20260423T173524Z
UID:fs-AFLABS-URNIK:rezervacija:3829
CATEGORIES:Reservation
COLOR:royalblue
DESCRIPTION:Predmeti: \nLetniki: \nIzvajalci: Roman Šturm\nProstori: Lect
 ure hall IV/2
LOCATION:Lecture hall IV/2
ORGANIZER:Roman Šturm
X-WR-TIMEZONE:Europe/Ljubljana
END:VEVENT
BEGIN:VEVENT
SUMMARY:Izpit: Kovinski materiali - PAP
DTSTART;TZID=Europe/Ljubljana:20240205T080000
DTEND;TZID=Europe/Ljubljana:20240205T100000
DTSTAMP:20260423T173524Z
UID:fs-AFLABS-URNIK:rezervacija:3850
ATTENDEE:PAP-1 (PAP-1)
CATEGORIES:Reservation
COLOR:royalblue
DESCRIPTION:Predmeti: Metals - PAP (KVMP)\nLetniki: PAP-1 (PAP-1)\nIzvajal
 ci: Roman Šturm\nProstori: Lecture hall IV/4\, Lecture hall V/2\, Lecture
  hall V/8
LOCATION:Lecture hall IV/4\, Lecture hall V/2\, Lecture hall V/8
ORGANIZER:Roman Šturm
X-WR-TIMEZONE:Europe/Ljubljana
END:VEVENT
BEGIN:VEVENT
SUMMARY:Izpit: Gradiva 1 (2008)
DTSTART;TZID=Europe/Ljubljana:20240209T080000
DTEND;TZID=Europe/Ljubljana:20240209T100000
DTSTAMP:20260423T173524Z
UID:fs-AFLABS-URNIK:rezervacija:3888
CATEGORIES:Reservation
COLOR:royalblue
DESCRIPTION:Predmeti: \nLetniki: \nIzvajalci: Roman Šturm\nProstori: Lect
 ure hall IV/2
LOCATION:Lecture hall IV/2
ORGANIZER:Roman Šturm
X-WR-TIMEZONE:Europe/Ljubljana
END:VEVENT
BEGIN:VEVENT
SUMMARY:Izpit: Toplotna obdelava
DTSTART;TZID=Europe/Ljubljana:20240207T080000
DTEND;TZID=Europe/Ljubljana:20240207T100000
DTSTAMP:20260423T173524Z
UID:fs-AFLABS-URNIK:rezervacija:3916
ATTENDEE:Production engineering (MAG-1)
CATEGORIES:Reservation
COLOR:royalblue
DESCRIPTION:Predmeti: Heat treatment (TPOM)\nLetniki: Production engineeri
 ng (MAG-1)\nIzvajalci: Roman Šturm\nProstori: Lecture hall V/2
LOCATION:Lecture hall V/2
ORGANIZER:Roman Šturm
X-WR-TIMEZONE:Europe/Ljubljana
END:VEVENT
BEGIN:VEVENT
SUMMARY:Izpit: Konstrukcijska gradiva (3104)
DTSTART;TZID=Europe/Ljubljana:20240214T080000
DTEND;TZID=Europe/Ljubljana:20240214T100000
DTSTAMP:20260423T173524Z
UID:fs-AFLABS-URNIK:rezervacija:3968
CATEGORIES:Reservation
COLOR:royalblue
DESCRIPTION:Predmeti: \nLetniki: \nIzvajalci: Roman Šturm\nProstori: Lect
 ure hall IV/4
LOCATION:Lecture hall IV/4
ORGANIZER:Roman Šturm
X-WR-TIMEZONE:Europe/Ljubljana
END:VEVENT
BEGIN:VEVENT
SUMMARY:Izpit: Načrtovanje toplotne obdelave (3108)
DTSTART;TZID=Europe/Ljubljana:20240214T080000
DTEND;TZID=Europe/Ljubljana:20240214T100000
DTSTAMP:20260423T173524Z
UID:fs-AFLABS-URNIK:rezervacija:3969
CATEGORIES:Reservation
COLOR:royalblue
DESCRIPTION:Predmeti: \nLetniki: \nIzvajalci: Roman Šturm\nProstori: Lect
 ure hall IV/4
LOCATION:Lecture hall IV/4
ORGANIZER:Roman Šturm
X-WR-TIMEZONE:Europe/Ljubljana
END:VEVENT
BEGIN:VEVENT
SUMMARY:Izpit: Načrtovanje toplotne obdelave
DTSTART;TZID=Europe/Ljubljana:20240214T080000
DTEND;TZID=Europe/Ljubljana:20240214T100000
DTSTAMP:20260423T173524Z
UID:fs-AFLABS-URNIK:rezervacija:3970
ATTENDEE:Production technologies (PAP-3)
CATEGORIES:Reservation
COLOR:royalblue
DESCRIPTION:Predmeti: Heat treatment planning (NTOP)\nLetniki: Production 
 technologies (PAP-3)\nIzvajalci: Roman Šturm\nProstori: Lecture hall IV/4
LOCATION:Lecture hall IV/4
ORGANIZER:Roman Šturm
X-WR-TIMEZONE:Europe/Ljubljana
END:VEVENT
END:VCALENDAR
