BEGIN:VCALENDAR
VERSION:2.0
PRODID:-//AFLabs urnik izvoz - fs//aflabs.si//SI
NAME:UL FS Urnik
X-WR-CALNAME:UL FS Urnik
DTSTAMP:20260423T053505Z
REFRESH-INTERVAL:PT1H
SOURCE:https://urnik.fs.uni-lj.si/en/teacher/876/?day=2024-12-30&export=1
URL:https://urnik.fs.uni-lj.si/en/teacher/876/?day=2024-12-30&export=1
X-PUBLISHED-TTL:PT1H
X-WR-TIMEZONE:Europe/Ljubljana
BEGIN:VTIMEZONE
TZID:Europe/Ljubljana
BEGIN:DAYLIGHT
DTSTART:20260329T020000
RDATE:20260329T020000
RDATE:20270328T020000
TZNAME:CEST
TZOFFSETFROM:+0100
TZOFFSETTO:+0200
END:DAYLIGHT
BEGIN:STANDARD
DTSTART:20261025T030000
RDATE:20261025T030000
RDATE:20271031T030000
TZNAME:CET
TZOFFSETFROM:+0200
TZOFFSETTO:+0100
END:STANDARD
END:VTIMEZONE
BEGIN:VEVENT
SUMMARY:Metals - PAP (KVMP)\, Lectures (P)
DTSTART;TZID=Europe/Ljubljana:20241001T113000
DTEND;TZID=Europe/Ljubljana:20241001T133000
DTSTAMP:20260423T053505Z
UID:fs-AFLABS-URNIK:srecanje:6747-2024-10-01 11:30:00+02:00
DESCRIPTION:Predmet: Metals - PAP (KVMP)\, Lectures (P)\nLetniki: PAP-1 (P
 AP-1)\nIzvajalci: Roman Šturm\nProstor: Lecture hall V/8
END:VEVENT
BEGIN:VEVENT
SUMMARY:Metals - PAP (KVMP)\, Lectures (P)
DTSTART;TZID=Europe/Ljubljana:20241008T113000
DTEND;TZID=Europe/Ljubljana:20241008T133000
DTSTAMP:20260423T053505Z
UID:fs-AFLABS-URNIK:srecanje:6747-2024-10-08 11:30:00+02:00
DESCRIPTION:Predmet: Metals - PAP (KVMP)\, Lectures (P)\nLetniki: PAP-1 (P
 AP-1)\nIzvajalci: Roman Šturm\nProstor: Lecture hall V/8
END:VEVENT
BEGIN:VEVENT
SUMMARY:Metals - PAP (KVMP)\, Lectures (P)
DTSTART;TZID=Europe/Ljubljana:20241015T113000
DTEND;TZID=Europe/Ljubljana:20241015T133000
DTSTAMP:20260423T053505Z
UID:fs-AFLABS-URNIK:srecanje:6747-2024-10-15 11:30:00+02:00
DESCRIPTION:Predmet: Metals - PAP (KVMP)\, Lectures (P)\nLetniki: PAP-1 (P
 AP-1)\nIzvajalci: Roman Šturm\nProstor: Lecture hall V/8
END:VEVENT
BEGIN:VEVENT
SUMMARY:Metals - PAP (KVMP)\, Lectures (P)
DTSTART;TZID=Europe/Ljubljana:20241022T113000
DTEND;TZID=Europe/Ljubljana:20241022T133000
DTSTAMP:20260423T053505Z
UID:fs-AFLABS-URNIK:srecanje:6747-2024-10-22 11:30:00+02:00
DESCRIPTION:Predmet: Metals - PAP (KVMP)\, Lectures (P)\nLetniki: PAP-1 (P
 AP-1)\nIzvajalci: Roman Šturm\nProstor: Lecture hall V/8
END:VEVENT
BEGIN:VEVENT
SUMMARY:Metals - PAP (KVMP)\, Lectures (P)
DTSTART;TZID=Europe/Ljubljana:20241105T113000
DTEND;TZID=Europe/Ljubljana:20241105T133000
DTSTAMP:20260423T053505Z
UID:fs-AFLABS-URNIK:srecanje:6747-2024-11-05 11:30:00+01:00
DESCRIPTION:Predmet: Metals - PAP (KVMP)\, Lectures (P)\nLetniki: PAP-1 (P
 AP-1)\nIzvajalci: Roman Šturm\nProstor: Lecture hall V/8
END:VEVENT
BEGIN:VEVENT
SUMMARY:Metals - PAP (KVMP)\, Lectures (P)
DTSTART;TZID=Europe/Ljubljana:20241112T113000
DTEND;TZID=Europe/Ljubljana:20241112T133000
DTSTAMP:20260423T053505Z
UID:fs-AFLABS-URNIK:srecanje:6747-2024-11-12 11:30:00+01:00
DESCRIPTION:Predmet: Metals - PAP (KVMP)\, Lectures (P)\nLetniki: PAP-1 (P
 AP-1)\nIzvajalci: Roman Šturm\nProstor: Lecture hall V/8
END:VEVENT
BEGIN:VEVENT
SUMMARY:Metals - PAP (KVMP)\, Lectures (P)
DTSTART;TZID=Europe/Ljubljana:20241119T113000
DTEND;TZID=Europe/Ljubljana:20241119T133000
DTSTAMP:20260423T053505Z
UID:fs-AFLABS-URNIK:srecanje:6747-2024-11-19 11:30:00+01:00
DESCRIPTION:Predmet: Metals - PAP (KVMP)\, Lectures (P)\nLetniki: PAP-1 (P
 AP-1)\nIzvajalci: Roman Šturm\nProstor: Lecture hall V/8
END:VEVENT
BEGIN:VEVENT
SUMMARY:Metals - PAP (KVMP)\, Lectures (P)
DTSTART;TZID=Europe/Ljubljana:20241126T113000
DTEND;TZID=Europe/Ljubljana:20241126T133000
DTSTAMP:20260423T053505Z
UID:fs-AFLABS-URNIK:srecanje:6747-2024-11-26 11:30:00+01:00
DESCRIPTION:Predmet: Metals - PAP (KVMP)\, Lectures (P)\nLetniki: PAP-1 (P
 AP-1)\nIzvajalci: Roman Šturm\nProstor: Lecture hall V/8
END:VEVENT
BEGIN:VEVENT
SUMMARY:Metals - PAP (KVMP)\, Lectures (P)
DTSTART;TZID=Europe/Ljubljana:20241203T113000
DTEND;TZID=Europe/Ljubljana:20241203T133000
DTSTAMP:20260423T053505Z
UID:fs-AFLABS-URNIK:srecanje:6747-2024-12-03 11:30:00+01:00
DESCRIPTION:Predmet: Metals - PAP (KVMP)\, Lectures (P)\nLetniki: PAP-1 (P
 AP-1)\nIzvajalci: Roman Šturm\nProstor: Lecture hall V/8
END:VEVENT
BEGIN:VEVENT
SUMMARY:Metals - PAP (KVMP)\, Lectures (P)
DTSTART;TZID=Europe/Ljubljana:20241210T113000
DTEND;TZID=Europe/Ljubljana:20241210T133000
DTSTAMP:20260423T053505Z
UID:fs-AFLABS-URNIK:srecanje:6747-2024-12-10 11:30:00+01:00
DESCRIPTION:Predmet: Metals - PAP (KVMP)\, Lectures (P)\nLetniki: PAP-1 (P
 AP-1)\nIzvajalci: Roman Šturm\nProstor: Lecture hall V/8
END:VEVENT
BEGIN:VEVENT
SUMMARY:Metals - PAP (KVMP)\, Lectures (P)
DTSTART;TZID=Europe/Ljubljana:20241217T113000
DTEND;TZID=Europe/Ljubljana:20241217T133000
DTSTAMP:20260423T053505Z
UID:fs-AFLABS-URNIK:srecanje:6747-2024-12-17 11:30:00+01:00
DESCRIPTION:Predmet: Metals - PAP (KVMP)\, Lectures (P)\nLetniki: PAP-1 (P
 AP-1)\nIzvajalci: Roman Šturm\nProstor: Lecture hall V/8
END:VEVENT
BEGIN:VEVENT
SUMMARY:Metals - PAP (KVMP)\, Lectures (P)
DTSTART;TZID=Europe/Ljubljana:20241224T113000
DTEND;TZID=Europe/Ljubljana:20241224T133000
DTSTAMP:20260423T053505Z
UID:fs-AFLABS-URNIK:srecanje:6747-2024-12-24 11:30:00+01:00
DESCRIPTION:Predmet: Metals - PAP (KVMP)\, Lectures (P)\nLetniki: PAP-1 (P
 AP-1)\nIzvajalci: Roman Šturm\nProstor: Lecture hall V/8
END:VEVENT
BEGIN:VEVENT
SUMMARY:Metals - PAP (KVMP)\, Lectures (P)
DTSTART;TZID=Europe/Ljubljana:20250107T113000
DTEND;TZID=Europe/Ljubljana:20250107T133000
DTSTAMP:20260423T053505Z
UID:fs-AFLABS-URNIK:srecanje:6747-2025-01-07 11:30:00+01:00
DESCRIPTION:Predmet: Metals - PAP (KVMP)\, Lectures (P)\nLetniki: PAP-1 (P
 AP-1)\nIzvajalci: Roman Šturm\nProstor: Lecture hall V/8
END:VEVENT
BEGIN:VEVENT
SUMMARY:Metals - PAP (KVMP)\, Lectures (P)
DTSTART;TZID=Europe/Ljubljana:20250114T113000
DTEND;TZID=Europe/Ljubljana:20250114T133000
DTSTAMP:20260423T053505Z
UID:fs-AFLABS-URNIK:srecanje:6747-2025-01-14 11:30:00+01:00
DESCRIPTION:Predmet: Metals - PAP (KVMP)\, Lectures (P)\nLetniki: PAP-1 (P
 AP-1)\nIzvajalci: Roman Šturm\nProstor: Lecture hall V/8
END:VEVENT
BEGIN:VEVENT
SUMMARY:Heat treatment (TPOM)\, Lectures (P)
DTSTART;TZID=Europe/Ljubljana:20241001T080000
DTEND;TZID=Europe/Ljubljana:20241001T100000
DTSTAMP:20260423T053505Z
UID:fs-AFLABS-URNIK:srecanje:7605-2024-10-01 08:00:00+02:00
DESCRIPTION:Predmet: Heat treatment (TPOM)\, Lectures (P)\nLetniki: Produc
 tion engineering (MAG-1)\nIzvajalci: Roman Šturm\, Sebastjan Žagar\nPros
 tor: Lecture hall III/2
END:VEVENT
BEGIN:VEVENT
SUMMARY:Heat treatment (TPOM)\, Lectures (P)
DTSTART;TZID=Europe/Ljubljana:20241008T080000
DTEND;TZID=Europe/Ljubljana:20241008T100000
DTSTAMP:20260423T053505Z
UID:fs-AFLABS-URNIK:srecanje:7605-2024-10-08 08:00:00+02:00
DESCRIPTION:Predmet: Heat treatment (TPOM)\, Lectures (P)\nLetniki: Produc
 tion engineering (MAG-1)\nIzvajalci: Roman Šturm\, Sebastjan Žagar\nPros
 tor: Lecture hall III/2
END:VEVENT
BEGIN:VEVENT
SUMMARY:Heat treatment (TPOM)\, Lectures (P)
DTSTART;TZID=Europe/Ljubljana:20241015T080000
DTEND;TZID=Europe/Ljubljana:20241015T100000
DTSTAMP:20260423T053505Z
UID:fs-AFLABS-URNIK:srecanje:7605-2024-10-15 08:00:00+02:00
DESCRIPTION:Predmet: Heat treatment (TPOM)\, Lectures (P)\nLetniki: Produc
 tion engineering (MAG-1)\nIzvajalci: Roman Šturm\, Sebastjan Žagar\nPros
 tor: Lecture hall III/2
END:VEVENT
BEGIN:VEVENT
SUMMARY:Heat treatment (TPOM)\, Lectures (P)
DTSTART;TZID=Europe/Ljubljana:20241022T080000
DTEND;TZID=Europe/Ljubljana:20241022T100000
DTSTAMP:20260423T053505Z
UID:fs-AFLABS-URNIK:srecanje:7605-2024-10-22 08:00:00+02:00
DESCRIPTION:Predmet: Heat treatment (TPOM)\, Lectures (P)\nLetniki: Produc
 tion engineering (MAG-1)\nIzvajalci: Roman Šturm\, Sebastjan Žagar\nPros
 tor: Lecture hall III/2
END:VEVENT
BEGIN:VEVENT
SUMMARY:Heat treatment (TPOM)\, Lectures (P)
DTSTART;TZID=Europe/Ljubljana:20241105T080000
DTEND;TZID=Europe/Ljubljana:20241105T100000
DTSTAMP:20260423T053505Z
UID:fs-AFLABS-URNIK:srecanje:7605-2024-11-05 08:00:00+01:00
DESCRIPTION:Predmet: Heat treatment (TPOM)\, Lectures (P)\nLetniki: Produc
 tion engineering (MAG-1)\nIzvajalci: Roman Šturm\, Sebastjan Žagar\nPros
 tor: Lecture hall III/2
END:VEVENT
BEGIN:VEVENT
SUMMARY:Heat treatment (TPOM)\, Lectures (P)
DTSTART;TZID=Europe/Ljubljana:20241112T080000
DTEND;TZID=Europe/Ljubljana:20241112T100000
DTSTAMP:20260423T053505Z
UID:fs-AFLABS-URNIK:srecanje:7605-2024-11-12 08:00:00+01:00
DESCRIPTION:Predmet: Heat treatment (TPOM)\, Lectures (P)\nLetniki: Produc
 tion engineering (MAG-1)\nIzvajalci: Roman Šturm\, Sebastjan Žagar\nPros
 tor: Lecture hall III/2
END:VEVENT
BEGIN:VEVENT
SUMMARY:Heat treatment (TPOM)\, Lectures (P)
DTSTART;TZID=Europe/Ljubljana:20241119T080000
DTEND;TZID=Europe/Ljubljana:20241119T100000
DTSTAMP:20260423T053505Z
UID:fs-AFLABS-URNIK:srecanje:7605-2024-11-19 08:00:00+01:00
DESCRIPTION:Predmet: Heat treatment (TPOM)\, Lectures (P)\nLetniki: Produc
 tion engineering (MAG-1)\nIzvajalci: Roman Šturm\, Sebastjan Žagar\nPros
 tor: Lecture hall III/2
END:VEVENT
BEGIN:VEVENT
SUMMARY:Heat treatment (TPOM)\, Lectures (P)
DTSTART;TZID=Europe/Ljubljana:20241126T080000
DTEND;TZID=Europe/Ljubljana:20241126T100000
DTSTAMP:20260423T053505Z
UID:fs-AFLABS-URNIK:srecanje:7605-2024-11-26 08:00:00+01:00
DESCRIPTION:Predmet: Heat treatment (TPOM)\, Lectures (P)\nLetniki: Produc
 tion engineering (MAG-1)\nIzvajalci: Roman Šturm\, Sebastjan Žagar\nPros
 tor: Lecture hall III/2
END:VEVENT
BEGIN:VEVENT
SUMMARY:Heat treatment (TPOM)\, Lectures (P)
DTSTART;TZID=Europe/Ljubljana:20241203T080000
DTEND;TZID=Europe/Ljubljana:20241203T100000
DTSTAMP:20260423T053505Z
UID:fs-AFLABS-URNIK:srecanje:7605-2024-12-03 08:00:00+01:00
DESCRIPTION:Predmet: Heat treatment (TPOM)\, Lectures (P)\nLetniki: Produc
 tion engineering (MAG-1)\nIzvajalci: Roman Šturm\, Sebastjan Žagar\nPros
 tor: Lecture hall III/2
END:VEVENT
BEGIN:VEVENT
SUMMARY:Heat treatment (TPOM)\, Lectures (P)
DTSTART;TZID=Europe/Ljubljana:20241210T080000
DTEND;TZID=Europe/Ljubljana:20241210T100000
DTSTAMP:20260423T053505Z
UID:fs-AFLABS-URNIK:srecanje:7605-2024-12-10 08:00:00+01:00
DESCRIPTION:Predmet: Heat treatment (TPOM)\, Lectures (P)\nLetniki: Produc
 tion engineering (MAG-1)\nIzvajalci: Roman Šturm\, Sebastjan Žagar\nPros
 tor: Lecture hall III/2
END:VEVENT
BEGIN:VEVENT
SUMMARY:Heat treatment (TPOM)\, Lectures (P)
DTSTART;TZID=Europe/Ljubljana:20241217T080000
DTEND;TZID=Europe/Ljubljana:20241217T100000
DTSTAMP:20260423T053505Z
UID:fs-AFLABS-URNIK:srecanje:7605-2024-12-17 08:00:00+01:00
DESCRIPTION:Predmet: Heat treatment (TPOM)\, Lectures (P)\nLetniki: Produc
 tion engineering (MAG-1)\nIzvajalci: Roman Šturm\, Sebastjan Žagar\nPros
 tor: Lecture hall III/2
END:VEVENT
BEGIN:VEVENT
SUMMARY:Heat treatment (TPOM)\, Lectures (P)
DTSTART;TZID=Europe/Ljubljana:20241224T080000
DTEND;TZID=Europe/Ljubljana:20241224T100000
DTSTAMP:20260423T053505Z
UID:fs-AFLABS-URNIK:srecanje:7605-2024-12-24 08:00:00+01:00
DESCRIPTION:Predmet: Heat treatment (TPOM)\, Lectures (P)\nLetniki: Produc
 tion engineering (MAG-1)\nIzvajalci: Roman Šturm\, Sebastjan Žagar\nPros
 tor: Lecture hall III/2
END:VEVENT
BEGIN:VEVENT
SUMMARY:Heat treatment (TPOM)\, Lectures (P)
DTSTART;TZID=Europe/Ljubljana:20250107T080000
DTEND;TZID=Europe/Ljubljana:20250107T100000
DTSTAMP:20260423T053505Z
UID:fs-AFLABS-URNIK:srecanje:7605-2025-01-07 08:00:00+01:00
DESCRIPTION:Predmet: Heat treatment (TPOM)\, Lectures (P)\nLetniki: Produc
 tion engineering (MAG-1)\nIzvajalci: Roman Šturm\, Sebastjan Žagar\nPros
 tor: Lecture hall III/2
END:VEVENT
BEGIN:VEVENT
SUMMARY:Heat treatment (TPOM)\, Lectures (P)
DTSTART;TZID=Europe/Ljubljana:20250114T080000
DTEND;TZID=Europe/Ljubljana:20250114T100000
DTSTAMP:20260423T053505Z
UID:fs-AFLABS-URNIK:srecanje:7605-2025-01-14 08:00:00+01:00
DESCRIPTION:Predmet: Heat treatment (TPOM)\, Lectures (P)\nLetniki: Produc
 tion engineering (MAG-1)\nIzvajalci: Roman Šturm\, Sebastjan Žagar\nPros
 tor: Lecture hall III/2
END:VEVENT
BEGIN:VEVENT
SUMMARY:Heat treatment planning (NTOP)\, Lectures (P)
DTSTART;TZID=Europe/Ljubljana:20241004T113000
DTEND;TZID=Europe/Ljubljana:20241004T133000
DTSTAMP:20260423T053505Z
UID:fs-AFLABS-URNIK:srecanje:6998-2024-10-04 11:30:00+02:00
DESCRIPTION:Predmet: Heat treatment planning (NTOP)\, Lectures (P)\nLetnik
 i: Production technologies (PAP-3)\nIzvajalci: Roman Šturm\nProstor: Lect
 ure hall II/3B
END:VEVENT
BEGIN:VEVENT
SUMMARY:Heat treatment planning (NTOP)\, Lectures (P)
DTSTART;TZID=Europe/Ljubljana:20241011T113000
DTEND;TZID=Europe/Ljubljana:20241011T133000
DTSTAMP:20260423T053505Z
UID:fs-AFLABS-URNIK:srecanje:6998-2024-10-11 11:30:00+02:00
DESCRIPTION:Predmet: Heat treatment planning (NTOP)\, Lectures (P)\nLetnik
 i: Production technologies (PAP-3)\nIzvajalci: Roman Šturm\nProstor: Lect
 ure hall II/3B
END:VEVENT
BEGIN:VEVENT
SUMMARY:Heat treatment planning (NTOP)\, Lectures (P)
DTSTART;TZID=Europe/Ljubljana:20241018T113000
DTEND;TZID=Europe/Ljubljana:20241018T133000
DTSTAMP:20260423T053505Z
UID:fs-AFLABS-URNIK:srecanje:6998-2024-10-18 11:30:00+02:00
DESCRIPTION:Predmet: Heat treatment planning (NTOP)\, Lectures (P)\nLetnik
 i: Production technologies (PAP-3)\nIzvajalci: Roman Šturm\nProstor: Lect
 ure hall II/3B
END:VEVENT
BEGIN:VEVENT
SUMMARY:Heat treatment planning (NTOP)\, Lectures (P)
DTSTART;TZID=Europe/Ljubljana:20241025T113000
DTEND;TZID=Europe/Ljubljana:20241025T133000
DTSTAMP:20260423T053505Z
UID:fs-AFLABS-URNIK:srecanje:6998-2024-10-25 11:30:00+02:00
DESCRIPTION:Predmet: Heat treatment planning (NTOP)\, Lectures (P)\nLetnik
 i: Production technologies (PAP-3)\nIzvajalci: Roman Šturm\nProstor: Lect
 ure hall II/3B
END:VEVENT
BEGIN:VEVENT
SUMMARY:Heat treatment planning (NTOP)\, Lectures (P)
DTSTART;TZID=Europe/Ljubljana:20241108T113000
DTEND;TZID=Europe/Ljubljana:20241108T133000
DTSTAMP:20260423T053505Z
UID:fs-AFLABS-URNIK:srecanje:6998-2024-11-08 11:30:00+01:00
DESCRIPTION:Predmet: Heat treatment planning (NTOP)\, Lectures (P)\nLetnik
 i: Production technologies (PAP-3)\nIzvajalci: Roman Šturm\nProstor: Lect
 ure hall II/3B
END:VEVENT
BEGIN:VEVENT
SUMMARY:Heat treatment planning (NTOP)\, Lectures (P)
DTSTART;TZID=Europe/Ljubljana:20241115T113000
DTEND;TZID=Europe/Ljubljana:20241115T133000
DTSTAMP:20260423T053505Z
UID:fs-AFLABS-URNIK:srecanje:6998-2024-11-15 11:30:00+01:00
DESCRIPTION:Predmet: Heat treatment planning (NTOP)\, Lectures (P)\nLetnik
 i: Production technologies (PAP-3)\nIzvajalci: Roman Šturm\nProstor: Lect
 ure hall II/3B
END:VEVENT
BEGIN:VEVENT
SUMMARY:Heat treatment planning (NTOP)\, Lectures (P)
DTSTART;TZID=Europe/Ljubljana:20241122T113000
DTEND;TZID=Europe/Ljubljana:20241122T133000
DTSTAMP:20260423T053505Z
UID:fs-AFLABS-URNIK:srecanje:6998-2024-11-22 11:30:00+01:00
DESCRIPTION:Predmet: Heat treatment planning (NTOP)\, Lectures (P)\nLetnik
 i: Production technologies (PAP-3)\nIzvajalci: Roman Šturm\nProstor: Lect
 ure hall II/3B
END:VEVENT
BEGIN:VEVENT
SUMMARY:Heat treatment planning (NTOP)\, Lectures (P)
DTSTART;TZID=Europe/Ljubljana:20241129T113000
DTEND;TZID=Europe/Ljubljana:20241129T133000
DTSTAMP:20260423T053505Z
UID:fs-AFLABS-URNIK:srecanje:6998-2024-11-29 11:30:00+01:00
DESCRIPTION:Predmet: Heat treatment planning (NTOP)\, Lectures (P)\nLetnik
 i: Production technologies (PAP-3)\nIzvajalci: Roman Šturm\nProstor: Lect
 ure hall II/3B
END:VEVENT
BEGIN:VEVENT
SUMMARY:Heat treatment planning (NTOP)\, Lectures (P)
DTSTART;TZID=Europe/Ljubljana:20241206T113000
DTEND;TZID=Europe/Ljubljana:20241206T133000
DTSTAMP:20260423T053505Z
UID:fs-AFLABS-URNIK:srecanje:6998-2024-12-06 11:30:00+01:00
DESCRIPTION:Predmet: Heat treatment planning (NTOP)\, Lectures (P)\nLetnik
 i: Production technologies (PAP-3)\nIzvajalci: Roman Šturm\nProstor: Lect
 ure hall II/3B
END:VEVENT
BEGIN:VEVENT
SUMMARY:Heat treatment planning (NTOP)\, Lectures (P)
DTSTART;TZID=Europe/Ljubljana:20241213T113000
DTEND;TZID=Europe/Ljubljana:20241213T133000
DTSTAMP:20260423T053505Z
UID:fs-AFLABS-URNIK:srecanje:6998-2024-12-13 11:30:00+01:00
DESCRIPTION:Predmet: Heat treatment planning (NTOP)\, Lectures (P)\nLetnik
 i: Production technologies (PAP-3)\nIzvajalci: Roman Šturm\nProstor: Lect
 ure hall II/3B
END:VEVENT
BEGIN:VEVENT
SUMMARY:Heat treatment planning (NTOP)\, Lectures (P)
DTSTART;TZID=Europe/Ljubljana:20241220T113000
DTEND;TZID=Europe/Ljubljana:20241220T133000
DTSTAMP:20260423T053505Z
UID:fs-AFLABS-URNIK:srecanje:6998-2024-12-20 11:30:00+01:00
DESCRIPTION:Predmet: Heat treatment planning (NTOP)\, Lectures (P)\nLetnik
 i: Production technologies (PAP-3)\nIzvajalci: Roman Šturm\nProstor: Lect
 ure hall II/3B
END:VEVENT
BEGIN:VEVENT
SUMMARY:Heat treatment planning (NTOP)\, Lectures (P)
DTSTART;TZID=Europe/Ljubljana:20241227T113000
DTEND;TZID=Europe/Ljubljana:20241227T133000
DTSTAMP:20260423T053505Z
UID:fs-AFLABS-URNIK:srecanje:6998-2024-12-27 11:30:00+01:00
DESCRIPTION:Predmet: Heat treatment planning (NTOP)\, Lectures (P)\nLetnik
 i: Production technologies (PAP-3)\nIzvajalci: Roman Šturm\nProstor: Lect
 ure hall II/3B
END:VEVENT
BEGIN:VEVENT
SUMMARY:Heat treatment planning (NTOP)\, Lectures (P)
DTSTART;TZID=Europe/Ljubljana:20250110T113000
DTEND;TZID=Europe/Ljubljana:20250110T133000
DTSTAMP:20260423T053505Z
UID:fs-AFLABS-URNIK:srecanje:6998-2025-01-10 11:30:00+01:00
DESCRIPTION:Predmet: Heat treatment planning (NTOP)\, Lectures (P)\nLetnik
 i: Production technologies (PAP-3)\nIzvajalci: Roman Šturm\nProstor: Lect
 ure hall II/3B
END:VEVENT
BEGIN:VEVENT
SUMMARY:Heat treatment planning (NTOP)\, Lectures (P)
DTSTART;TZID=Europe/Ljubljana:20250117T113000
DTEND;TZID=Europe/Ljubljana:20250117T133000
DTSTAMP:20260423T053505Z
UID:fs-AFLABS-URNIK:srecanje:6998-2025-01-17 11:30:00+01:00
DESCRIPTION:Predmet: Heat treatment planning (NTOP)\, Lectures (P)\nLetnik
 i: Production technologies (PAP-3)\nIzvajalci: Roman Šturm\nProstor: Lect
 ure hall II/3B
END:VEVENT
BEGIN:VEVENT
SUMMARY:Heat treatment planning (NTOP)\, Lectures (P)
DTSTART;TZID=Europe/Ljubljana:20241029T113000
DTEND;TZID=Europe/Ljubljana:20241029T133000
DTSTAMP:20260423T053505Z
UID:fs-AFLABS-URNIK:premaknjeno-srecanje:101943
ATTENDEE:Production technologies (PAP-3)
CATEGORIES:Entry,Special
COLOR:forestgreen
DESCRIPTION:Predmet: Heat treatment planning (NTOP)\, Lectures (P)\nLetnik
 i: Production technologies (PAP-3)\nIzvajalci: Roman Šturm\nProstor: Lect
 ure hall II/3B
LOCATION:Lecture hall II/3B
ORGANIZER:Roman Šturm
RELATED-TO:fs-AFLABS-URNIK:srecanje:14156
X-WR-TIMEZONE:Europe/Ljubljana
END:VEVENT
BEGIN:VEVENT
SUMMARY:Kolokvij Kovinski materiali PAP
DTSTART;TZID=Europe/Ljubljana:20250110T180000
DTEND;TZID=Europe/Ljubljana:20250110T200000
DTSTAMP:20260423T053505Z
UID:fs-AFLABS-URNIK:rezervacija:6371
ATTENDEE:PAP-1 (PAP-1)
CATEGORIES:Reservation
COLOR:royalblue
DESCRIPTION:Predmeti: Metals - PAP (KVMP)\nLetniki: PAP-1 (PAP-1)\nIzvajal
 ci: Roman Šturm\nProstori: Lecture hall V/2\, Lecture hall V/8
LOCATION:Lecture hall V/2\, Lecture hall V/8
ORGANIZER:Roman Šturm
X-WR-TIMEZONE:Europe/Ljubljana
END:VEVENT
BEGIN:VEVENT
SUMMARY:Izpit: Toplotna obdelava (6046-M)
DTSTART;TZID=Europe/Ljubljana:20250122T150000
DTEND;TZID=Europe/Ljubljana:20250122T170000
DTSTAMP:20260423T053505Z
UID:fs-AFLABS-URNIK:rezervacija:7707
CATEGORIES:Reservation
COLOR:royalblue
DESCRIPTION:Predmeti: \nLetniki: \nIzvajalci: Roman Šturm\nProstori: Lect
 ure hall V/8
LOCATION:Lecture hall V/8
ORGANIZER:Roman Šturm
X-WR-TIMEZONE:Europe/Ljubljana
END:VEVENT
BEGIN:VEVENT
SUMMARY:kolokvij Toplotna obdelava
DTSTART;TZID=Europe/Ljubljana:20241128T140000
DTEND;TZID=Europe/Ljubljana:20241128T153000
DTSTAMP:20260423T053505Z
UID:fs-AFLABS-URNIK:rezervacija:8302
CATEGORIES:Reservation
COLOR:royalblue
DESCRIPTION:Predmeti: \nLetniki: \nIzvajalci: Roman Šturm\nProstori: Lect
 ure hall IV/2
LOCATION:Lecture hall IV/2
ORGANIZER:Roman Šturm
X-WR-TIMEZONE:Europe/Ljubljana
END:VEVENT
BEGIN:VEVENT
SUMMARY:Izpit: Materiali v energetiki in procesnem strojništvu (3112)
DTSTART;TZID=Europe/Ljubljana:20250129T080000
DTEND;TZID=Europe/Ljubljana:20250129T100000
DTSTAMP:20260423T053505Z
UID:fs-AFLABS-URNIK:rezervacija:6934
CATEGORIES:Reservation
COLOR:royalblue
DESCRIPTION:Predmeti: \nLetniki: \nIzvajalci: Roman Šturm\nProstori: Lect
 ure hall II/5
LOCATION:Lecture hall II/5
ORGANIZER:Roman Šturm
X-WR-TIMEZONE:Europe/Ljubljana
END:VEVENT
BEGIN:VEVENT
SUMMARY:Izpit: Kovinski materiali - PAP (3004-V)
DTSTART;TZID=Europe/Ljubljana:20250121T080000
DTEND;TZID=Europe/Ljubljana:20250121T100000
DTSTAMP:20260423T053505Z
UID:fs-AFLABS-URNIK:rezervacija:6795
CATEGORIES:Reservation
COLOR:royalblue
DESCRIPTION:Predmeti: \nLetniki: \nIzvajalci: Roman Šturm\nProstori: Lect
 ure hall III/2\, Lecture hall III/4\, Lecture hall IV/4\, Lecture hall V/2
LOCATION:Lecture hall III/2\, Lecture hall III/4\, Lecture hall IV/4\, Lec
 ture hall V/2
ORGANIZER:Roman Šturm
X-WR-TIMEZONE:Europe/Ljubljana
END:VEVENT
BEGIN:VEVENT
SUMMARY:Izpit: Kovinski materiali - PAP (3004-V) [dve oceni]
DTSTART;TZID=Europe/Ljubljana:20250121T080000
DTEND;TZID=Europe/Ljubljana:20250121T100000
DTSTAMP:20260423T053505Z
UID:fs-AFLABS-URNIK:rezervacija:6798
CATEGORIES:Reservation
COLOR:royalblue
DESCRIPTION:Predmeti: \nLetniki: \nIzvajalci: Roman Šturm\nProstori: Lect
 ure hall III/2\, Lecture hall III/4\, Lecture hall IV/4\, Lecture hall V/2
LOCATION:Lecture hall III/2\, Lecture hall III/4\, Lecture hall IV/4\, Lec
 ture hall V/2
ORGANIZER:Roman Šturm
X-WR-TIMEZONE:Europe/Ljubljana
END:VEVENT
BEGIN:VEVENT
SUMMARY:Izpit: Načrtovanje toplotne obdelave (3062-V) [dve oceni]
DTSTART;TZID=Europe/Ljubljana:20250129T080000
DTEND;TZID=Europe/Ljubljana:20250129T100000
DTSTAMP:20260423T053505Z
UID:fs-AFLABS-URNIK:rezervacija:7095
CATEGORIES:Reservation
COLOR:royalblue
DESCRIPTION:Predmeti: \nLetniki: \nIzvajalci: Roman Šturm\nProstori: Lect
 ure hall II/5
LOCATION:Lecture hall II/5
ORGANIZER:Roman Šturm
X-WR-TIMEZONE:Europe/Ljubljana
END:VEVENT
BEGIN:VEVENT
SUMMARY:Kolokvij Kovinski materiali PAP
DTSTART;TZID=Europe/Ljubljana:20241203T163000
DTEND;TZID=Europe/Ljubljana:20241203T200000
DTSTAMP:20260423T053505Z
UID:fs-AFLABS-URNIK:rezervacija:6367
ATTENDEE:PAP-1 (PAP-1)
CATEGORIES:Reservation
COLOR:royalblue
DESCRIPTION:Predmeti: Metals - PAP (KVMP)\nLetniki: PAP-1 (PAP-1)\nIzvajal
 ci: Roman Šturm\nProstori: Lecture hall V/2\, Lecture hall V/8
LOCATION:Lecture hall V/2\, Lecture hall V/8
ORGANIZER:Roman Šturm
X-WR-TIMEZONE:Europe/Ljubljana
END:VEVENT
BEGIN:VEVENT
SUMMARY:Izpit: Toplotna obdelava (6046-M) [dve oceni]
DTSTART;TZID=Europe/Ljubljana:20250122T150000
DTEND;TZID=Europe/Ljubljana:20250122T170000
DTSTAMP:20260423T053505Z
UID:fs-AFLABS-URNIK:rezervacija:7710
CATEGORIES:Reservation
COLOR:royalblue
DESCRIPTION:Predmeti: \nLetniki: \nIzvajalci: Roman Šturm\nProstori: Lect
 ure hall V/8
LOCATION:Lecture hall V/8
ORGANIZER:Roman Šturm
X-WR-TIMEZONE:Europe/Ljubljana
END:VEVENT
BEGIN:VEVENT
SUMMARY:Izpit: Gradiva 2 (2022)
DTSTART;TZID=Europe/Ljubljana:20250128T080000
DTEND;TZID=Europe/Ljubljana:20250128T100000
DTSTAMP:20260423T053505Z
UID:fs-AFLABS-URNIK:rezervacija:6623
CATEGORIES:Reservation
COLOR:royalblue
DESCRIPTION:Predmeti: \nLetniki: \nIzvajalci: Roman Šturm\nProstori: Lect
 ure hall II/2
LOCATION:Lecture hall II/2
ORGANIZER:Roman Šturm
X-WR-TIMEZONE:Europe/Ljubljana
END:VEVENT
BEGIN:VEVENT
SUMMARY:Kolokvij Toplotna obdelava
DTSTART;TZID=Europe/Ljubljana:20241129T180000
DTEND;TZID=Europe/Ljubljana:20241129T200000
DTSTAMP:20260423T053505Z
UID:fs-AFLABS-URNIK:rezervacija:8511
CATEGORIES:Reservation
COLOR:royalblue
DESCRIPTION:Predmeti: \nLetniki: \nIzvajalci: Roman Šturm\nProstori: Lect
 ure hall III/4
LOCATION:Lecture hall III/4
ORGANIZER:Roman Šturm
X-WR-TIMEZONE:Europe/Ljubljana
END:VEVENT
END:VCALENDAR
