BEGIN:VCALENDAR
VERSION:2.0
PRODID:-//AFLabs urnik izvoz - fs//aflabs.si//SI
NAME:UL FS Urnik
X-WR-CALNAME:UL FS Urnik
DTSTAMP:20260419T214528Z
REFRESH-INTERVAL:PT1H
SOURCE:https://urnik.fs.uni-lj.si/en/teacher/876/?day=2025-04-07&export=1
URL:https://urnik.fs.uni-lj.si/en/teacher/876/?day=2025-04-07&export=1
X-PUBLISHED-TTL:PT1H
X-WR-TIMEZONE:Europe/Ljubljana
BEGIN:VTIMEZONE
TZID:Europe/Ljubljana
BEGIN:DAYLIGHT
DTSTART:20260329T020000
RDATE:20260329T020000
RDATE:20270328T020000
TZNAME:CEST
TZOFFSETFROM:+0100
TZOFFSETTO:+0200
END:DAYLIGHT
BEGIN:STANDARD
DTSTART:20261025T030000
RDATE:20261025T030000
RDATE:20271031T030000
TZNAME:CET
TZOFFSETFROM:+0200
TZOFFSETTO:+0100
END:STANDARD
END:VTIMEZONE
BEGIN:VEVENT
SUMMARY:Testing methods in production (MPPP)\, Lectures (P)
DTSTART;TZID=Europe/Ljubljana:20250218T133000
DTEND;TZID=Europe/Ljubljana:20250218T153000
DTSTAMP:20260419T214528Z
UID:fs-AFLABS-URNIK:srecanje:9737-2025-02-18 13:30:00+01:00
DESCRIPTION:Predmet: Testing methods in production (MPPP)\, Lectures (P)\n
 Letniki: Production technologies (PAP-2)\nIzvajalci: Tomaž Kek\, Roman Š
 turm\nProstor: Lecture hall III/3B
END:VEVENT
BEGIN:VEVENT
SUMMARY:Testing methods in production (MPPP)\, Lectures (P)
DTSTART;TZID=Europe/Ljubljana:20250225T133000
DTEND;TZID=Europe/Ljubljana:20250225T153000
DTSTAMP:20260419T214528Z
UID:fs-AFLABS-URNIK:srecanje:9737-2025-02-25 13:30:00+01:00
DESCRIPTION:Predmet: Testing methods in production (MPPP)\, Lectures (P)\n
 Letniki: Production technologies (PAP-2)\nIzvajalci: Tomaž Kek\, Roman Š
 turm\nProstor: Lecture hall III/3B
END:VEVENT
BEGIN:VEVENT
SUMMARY:Testing methods in production (MPPP)\, Lectures (P)
DTSTART;TZID=Europe/Ljubljana:20250304T133000
DTEND;TZID=Europe/Ljubljana:20250304T153000
DTSTAMP:20260419T214528Z
UID:fs-AFLABS-URNIK:srecanje:9737-2025-03-04 13:30:00+01:00
DESCRIPTION:Predmet: Testing methods in production (MPPP)\, Lectures (P)\n
 Letniki: Production technologies (PAP-2)\nIzvajalci: Tomaž Kek\, Roman Š
 turm\nProstor: Lecture hall III/3B
END:VEVENT
BEGIN:VEVENT
SUMMARY:Testing methods in production (MPPP)\, Lectures (P)
DTSTART;TZID=Europe/Ljubljana:20250311T133000
DTEND;TZID=Europe/Ljubljana:20250311T153000
DTSTAMP:20260419T214528Z
UID:fs-AFLABS-URNIK:srecanje:9737-2025-03-11 13:30:00+01:00
DESCRIPTION:Predmet: Testing methods in production (MPPP)\, Lectures (P)\n
 Letniki: Production technologies (PAP-2)\nIzvajalci: Tomaž Kek\, Roman Š
 turm\nProstor: Lecture hall III/3B
END:VEVENT
BEGIN:VEVENT
SUMMARY:Testing methods in production (MPPP)\, Lectures (P)
DTSTART;TZID=Europe/Ljubljana:20250318T133000
DTEND;TZID=Europe/Ljubljana:20250318T153000
DTSTAMP:20260419T214528Z
UID:fs-AFLABS-URNIK:srecanje:9737-2025-03-18 13:30:00+01:00
DESCRIPTION:Predmet: Testing methods in production (MPPP)\, Lectures (P)\n
 Letniki: Production technologies (PAP-2)\nIzvajalci: Tomaž Kek\, Roman Š
 turm\nProstor: Lecture hall III/3B
END:VEVENT
BEGIN:VEVENT
SUMMARY:Testing methods in production (MPPP)\, Lectures (P)
DTSTART;TZID=Europe/Ljubljana:20250325T133000
DTEND;TZID=Europe/Ljubljana:20250325T153000
DTSTAMP:20260419T214528Z
UID:fs-AFLABS-URNIK:srecanje:9737-2025-03-25 13:30:00+01:00
DESCRIPTION:Predmet: Testing methods in production (MPPP)\, Lectures (P)\n
 Letniki: Production technologies (PAP-2)\nIzvajalci: Tomaž Kek\, Roman Š
 turm\nProstor: Lecture hall III/3B
END:VEVENT
BEGIN:VEVENT
SUMMARY:Testing methods in production (MPPP)\, Lectures (P)
DTSTART;TZID=Europe/Ljubljana:20250401T133000
DTEND;TZID=Europe/Ljubljana:20250401T153000
DTSTAMP:20260419T214528Z
UID:fs-AFLABS-URNIK:srecanje:9737-2025-04-01 13:30:00+02:00
DESCRIPTION:Predmet: Testing methods in production (MPPP)\, Lectures (P)\n
 Letniki: Production technologies (PAP-2)\nIzvajalci: Tomaž Kek\, Roman Š
 turm\nProstor: Lecture hall III/3B
END:VEVENT
BEGIN:VEVENT
SUMMARY:Testing methods in production (MPPP)\, Lectures (P)
DTSTART;TZID=Europe/Ljubljana:20250408T133000
DTEND;TZID=Europe/Ljubljana:20250408T153000
DTSTAMP:20260419T214528Z
UID:fs-AFLABS-URNIK:srecanje:9737-2025-04-08 13:30:00+02:00
DESCRIPTION:Predmet: Testing methods in production (MPPP)\, Lectures (P)\n
 Letniki: Production technologies (PAP-2)\nIzvajalci: Tomaž Kek\, Roman Š
 turm\nProstor: Lecture hall III/3B
END:VEVENT
BEGIN:VEVENT
SUMMARY:Testing methods in production (MPPP)\, Lectures (P)
DTSTART;TZID=Europe/Ljubljana:20250415T133000
DTEND;TZID=Europe/Ljubljana:20250415T153000
DTSTAMP:20260419T214528Z
UID:fs-AFLABS-URNIK:srecanje:9737-2025-04-15 13:30:00+02:00
DESCRIPTION:Predmet: Testing methods in production (MPPP)\, Lectures (P)\n
 Letniki: Production technologies (PAP-2)\nIzvajalci: Tomaž Kek\, Roman Š
 turm\nProstor: Lecture hall III/3B
END:VEVENT
BEGIN:VEVENT
SUMMARY:Testing methods in production (MPPP)\, Lectures (P)
DTSTART;TZID=Europe/Ljubljana:20250422T133000
DTEND;TZID=Europe/Ljubljana:20250422T153000
DTSTAMP:20260419T214528Z
UID:fs-AFLABS-URNIK:srecanje:9737-2025-04-22 13:30:00+02:00
DESCRIPTION:Predmet: Testing methods in production (MPPP)\, Lectures (P)\n
 Letniki: Production technologies (PAP-2)\nIzvajalci: Tomaž Kek\, Roman Š
 turm\nProstor: Lecture hall III/3B
END:VEVENT
BEGIN:VEVENT
SUMMARY:Testing methods in production (MPPP)\, Lectures (P)
DTSTART;TZID=Europe/Ljubljana:20250429T133000
DTEND;TZID=Europe/Ljubljana:20250429T153000
DTSTAMP:20260419T214528Z
UID:fs-AFLABS-URNIK:srecanje:9737-2025-04-29 13:30:00+02:00
DESCRIPTION:Predmet: Testing methods in production (MPPP)\, Lectures (P)\n
 Letniki: Production technologies (PAP-2)\nIzvajalci: Tomaž Kek\, Roman Š
 turm\nProstor: Lecture hall III/3B
END:VEVENT
BEGIN:VEVENT
SUMMARY:Testing methods in production (MPPP)\, Lectures (P)
DTSTART;TZID=Europe/Ljubljana:20250506T133000
DTEND;TZID=Europe/Ljubljana:20250506T153000
DTSTAMP:20260419T214528Z
UID:fs-AFLABS-URNIK:srecanje:9737-2025-05-06 13:30:00+02:00
DESCRIPTION:Predmet: Testing methods in production (MPPP)\, Lectures (P)\n
 Letniki: Production technologies (PAP-2)\nIzvajalci: Tomaž Kek\, Roman Š
 turm\nProstor: Lecture hall III/3B
END:VEVENT
BEGIN:VEVENT
SUMMARY:Testing methods in production (MPPP)\, Lectures (P)
DTSTART;TZID=Europe/Ljubljana:20250513T133000
DTEND;TZID=Europe/Ljubljana:20250513T153000
DTSTAMP:20260419T214528Z
UID:fs-AFLABS-URNIK:srecanje:9737-2025-05-13 13:30:00+02:00
DESCRIPTION:Predmet: Testing methods in production (MPPP)\, Lectures (P)\n
 Letniki: Production technologies (PAP-2)\nIzvajalci: Tomaž Kek\, Roman Š
 turm\nProstor: Lecture hall III/3B
END:VEVENT
BEGIN:VEVENT
SUMMARY:Testing methods in production (MPPP)\, Lectures (P)
DTSTART;TZID=Europe/Ljubljana:20250520T133000
DTEND;TZID=Europe/Ljubljana:20250520T153000
DTSTAMP:20260419T214528Z
UID:fs-AFLABS-URNIK:srecanje:9737-2025-05-20 13:30:00+02:00
DESCRIPTION:Predmet: Testing methods in production (MPPP)\, Lectures (P)\n
 Letniki: Production technologies (PAP-2)\nIzvajalci: Tomaž Kek\, Roman Š
 turm\nProstor: Lecture hall III/3B
END:VEVENT
BEGIN:VEVENT
SUMMARY:Testing methods in production (MPPP)\, Lectures (P)
DTSTART;TZID=Europe/Ljubljana:20250527T133000
DTEND;TZID=Europe/Ljubljana:20250527T153000
DTSTAMP:20260419T214528Z
UID:fs-AFLABS-URNIK:srecanje:9737-2025-05-27 13:30:00+02:00
DESCRIPTION:Predmet: Testing methods in production (MPPP)\, Lectures (P)\n
 Letniki: Production technologies (PAP-2)\nIzvajalci: Tomaž Kek\, Roman Š
 turm\nProstor: Lecture hall III/3B
END:VEVENT
BEGIN:VEVENT
SUMMARY:Heat Treatment (HTME)\, Lectures (P)
DTSTART;TZID=Europe/Ljubljana:20250219T120000
DTEND;TZID=Europe/Ljubljana:20250219T140000
DTSTAMP:20260419T214528Z
UID:fs-AFLABS-URNIK:srecanje:9495-2025-02-19 12:00:00+01:00
DESCRIPTION:Predmet: Heat Treatment (HTME)\, Lectures (P)\nLetniki: Erasmu
 s (Erasmus)\nIzvajalci: Roman Šturm\nProstor: Lecture hall I/4A
END:VEVENT
BEGIN:VEVENT
SUMMARY:Heat Treatment (HTME)\, Lectures (P)
DTSTART;TZID=Europe/Ljubljana:20250226T120000
DTEND;TZID=Europe/Ljubljana:20250226T140000
DTSTAMP:20260419T214528Z
UID:fs-AFLABS-URNIK:srecanje:9495-2025-02-26 12:00:00+01:00
DESCRIPTION:Predmet: Heat Treatment (HTME)\, Lectures (P)\nLetniki: Erasmu
 s (Erasmus)\nIzvajalci: Roman Šturm\nProstor: Lecture hall I/4A
END:VEVENT
BEGIN:VEVENT
SUMMARY:Heat Treatment (HTME)\, Lectures (P)
DTSTART;TZID=Europe/Ljubljana:20250305T120000
DTEND;TZID=Europe/Ljubljana:20250305T140000
DTSTAMP:20260419T214528Z
UID:fs-AFLABS-URNIK:srecanje:9495-2025-03-05 12:00:00+01:00
DESCRIPTION:Predmet: Heat Treatment (HTME)\, Lectures (P)\nLetniki: Erasmu
 s (Erasmus)\nIzvajalci: Roman Šturm\nProstor: Lecture hall I/4A
END:VEVENT
BEGIN:VEVENT
SUMMARY:Heat Treatment (HTME)\, Lectures (P)
DTSTART;TZID=Europe/Ljubljana:20250312T120000
DTEND;TZID=Europe/Ljubljana:20250312T140000
DTSTAMP:20260419T214528Z
UID:fs-AFLABS-URNIK:srecanje:9495-2025-03-12 12:00:00+01:00
DESCRIPTION:Predmet: Heat Treatment (HTME)\, Lectures (P)\nLetniki: Erasmu
 s (Erasmus)\nIzvajalci: Roman Šturm\nProstor: Lecture hall I/4A
END:VEVENT
BEGIN:VEVENT
SUMMARY:Heat Treatment (HTME)\, Lectures (P)
DTSTART;TZID=Europe/Ljubljana:20250319T120000
DTEND;TZID=Europe/Ljubljana:20250319T140000
DTSTAMP:20260419T214528Z
UID:fs-AFLABS-URNIK:srecanje:9495-2025-03-19 12:00:00+01:00
DESCRIPTION:Predmet: Heat Treatment (HTME)\, Lectures (P)\nLetniki: Erasmu
 s (Erasmus)\nIzvajalci: Roman Šturm\nProstor: Lecture hall I/4A
END:VEVENT
BEGIN:VEVENT
SUMMARY:Heat Treatment (HTME)\, Lectures (P)
DTSTART;TZID=Europe/Ljubljana:20250326T120000
DTEND;TZID=Europe/Ljubljana:20250326T140000
DTSTAMP:20260419T214528Z
UID:fs-AFLABS-URNIK:srecanje:9495-2025-03-26 12:00:00+01:00
DESCRIPTION:Predmet: Heat Treatment (HTME)\, Lectures (P)\nLetniki: Erasmu
 s (Erasmus)\nIzvajalci: Roman Šturm\nProstor: Lecture hall I/4A
END:VEVENT
BEGIN:VEVENT
SUMMARY:Heat Treatment (HTME)\, Lectures (P)
DTSTART;TZID=Europe/Ljubljana:20250402T120000
DTEND;TZID=Europe/Ljubljana:20250402T140000
DTSTAMP:20260419T214528Z
UID:fs-AFLABS-URNIK:srecanje:9495-2025-04-02 12:00:00+02:00
DESCRIPTION:Predmet: Heat Treatment (HTME)\, Lectures (P)\nLetniki: Erasmu
 s (Erasmus)\nIzvajalci: Roman Šturm\nProstor: Lecture hall I/4A
END:VEVENT
BEGIN:VEVENT
SUMMARY:Heat Treatment (HTME)\, Lectures (P)
DTSTART;TZID=Europe/Ljubljana:20250409T120000
DTEND;TZID=Europe/Ljubljana:20250409T140000
DTSTAMP:20260419T214528Z
UID:fs-AFLABS-URNIK:srecanje:9495-2025-04-09 12:00:00+02:00
DESCRIPTION:Predmet: Heat Treatment (HTME)\, Lectures (P)\nLetniki: Erasmu
 s (Erasmus)\nIzvajalci: Roman Šturm\nProstor: Lecture hall I/4A
END:VEVENT
BEGIN:VEVENT
SUMMARY:Heat Treatment (HTME)\, Lectures (P)
DTSTART;TZID=Europe/Ljubljana:20250416T120000
DTEND;TZID=Europe/Ljubljana:20250416T140000
DTSTAMP:20260419T214528Z
UID:fs-AFLABS-URNIK:srecanje:9495-2025-04-16 12:00:00+02:00
DESCRIPTION:Predmet: Heat Treatment (HTME)\, Lectures (P)\nLetniki: Erasmu
 s (Erasmus)\nIzvajalci: Roman Šturm\nProstor: Lecture hall I/4A
END:VEVENT
BEGIN:VEVENT
SUMMARY:Heat Treatment (HTME)\, Lectures (P)
DTSTART;TZID=Europe/Ljubljana:20250423T120000
DTEND;TZID=Europe/Ljubljana:20250423T140000
DTSTAMP:20260419T214528Z
UID:fs-AFLABS-URNIK:srecanje:9495-2025-04-23 12:00:00+02:00
DESCRIPTION:Predmet: Heat Treatment (HTME)\, Lectures (P)\nLetniki: Erasmu
 s (Erasmus)\nIzvajalci: Roman Šturm\nProstor: Lecture hall I/4A
END:VEVENT
BEGIN:VEVENT
SUMMARY:Heat Treatment (HTME)\, Lectures (P)
DTSTART;TZID=Europe/Ljubljana:20250430T120000
DTEND;TZID=Europe/Ljubljana:20250430T140000
DTSTAMP:20260419T214528Z
UID:fs-AFLABS-URNIK:srecanje:9495-2025-04-30 12:00:00+02:00
DESCRIPTION:Predmet: Heat Treatment (HTME)\, Lectures (P)\nLetniki: Erasmu
 s (Erasmus)\nIzvajalci: Roman Šturm\nProstor: Lecture hall I/4A
END:VEVENT
BEGIN:VEVENT
SUMMARY:Heat Treatment (HTME)\, Lectures (P)
DTSTART;TZID=Europe/Ljubljana:20250507T120000
DTEND;TZID=Europe/Ljubljana:20250507T140000
DTSTAMP:20260419T214528Z
UID:fs-AFLABS-URNIK:srecanje:9495-2025-05-07 12:00:00+02:00
DESCRIPTION:Predmet: Heat Treatment (HTME)\, Lectures (P)\nLetniki: Erasmu
 s (Erasmus)\nIzvajalci: Roman Šturm\nProstor: Lecture hall I/4A
END:VEVENT
BEGIN:VEVENT
SUMMARY:Heat Treatment (HTME)\, Lectures (P)
DTSTART;TZID=Europe/Ljubljana:20250514T120000
DTEND;TZID=Europe/Ljubljana:20250514T140000
DTSTAMP:20260419T214528Z
UID:fs-AFLABS-URNIK:srecanje:9495-2025-05-14 12:00:00+02:00
DESCRIPTION:Predmet: Heat Treatment (HTME)\, Lectures (P)\nLetniki: Erasmu
 s (Erasmus)\nIzvajalci: Roman Šturm\nProstor: Lecture hall I/4A
END:VEVENT
BEGIN:VEVENT
SUMMARY:Heat Treatment (HTME)\, Lectures (P)
DTSTART;TZID=Europe/Ljubljana:20250521T120000
DTEND;TZID=Europe/Ljubljana:20250521T140000
DTSTAMP:20260419T214528Z
UID:fs-AFLABS-URNIK:srecanje:9495-2025-05-21 12:00:00+02:00
DESCRIPTION:Predmet: Heat Treatment (HTME)\, Lectures (P)\nLetniki: Erasmu
 s (Erasmus)\nIzvajalci: Roman Šturm\nProstor: Lecture hall I/4A
END:VEVENT
BEGIN:VEVENT
SUMMARY:Heat Treatment (HTME)\, Lectures (P)
DTSTART;TZID=Europe/Ljubljana:20250528T120000
DTEND;TZID=Europe/Ljubljana:20250528T140000
DTSTAMP:20260419T214528Z
UID:fs-AFLABS-URNIK:srecanje:9495-2025-05-28 12:00:00+02:00
DESCRIPTION:Predmet: Heat Treatment (HTME)\, Lectures (P)\nLetniki: Erasmu
 s (Erasmus)\nIzvajalci: Roman Šturm\nProstor: Lecture hall I/4A
END:VEVENT
BEGIN:VEVENT
SUMMARY:Metals - RRP (KVMR)\, Lectures (P)
DTSTART;TZID=Europe/Ljubljana:20250219T100000
DTEND;TZID=Europe/Ljubljana:20250219T120000
DTSTAMP:20260419T214528Z
UID:fs-AFLABS-URNIK:srecanje:9583-2025-02-19 10:00:00+01:00
DESCRIPTION:Predmet: Metals - RRP (KVMR)\, Lectures (P)\nLetniki: RRP-1 (R
 RP-1)\nIzvajalci: Roman Šturm\nProstor: Lecture hall V/8
END:VEVENT
BEGIN:VEVENT
SUMMARY:Metals - RRP (KVMR)\, Lectures (P)
DTSTART;TZID=Europe/Ljubljana:20250226T100000
DTEND;TZID=Europe/Ljubljana:20250226T120000
DTSTAMP:20260419T214528Z
UID:fs-AFLABS-URNIK:srecanje:9583-2025-02-26 10:00:00+01:00
DESCRIPTION:Predmet: Metals - RRP (KVMR)\, Lectures (P)\nLetniki: RRP-1 (R
 RP-1)\nIzvajalci: Roman Šturm\nProstor: Lecture hall V/8
END:VEVENT
BEGIN:VEVENT
SUMMARY:Metals - RRP (KVMR)\, Lectures (P)
DTSTART;TZID=Europe/Ljubljana:20250305T100000
DTEND;TZID=Europe/Ljubljana:20250305T120000
DTSTAMP:20260419T214528Z
UID:fs-AFLABS-URNIK:srecanje:9583-2025-03-05 10:00:00+01:00
DESCRIPTION:Predmet: Metals - RRP (KVMR)\, Lectures (P)\nLetniki: RRP-1 (R
 RP-1)\nIzvajalci: Roman Šturm\nProstor: Lecture hall V/8
END:VEVENT
BEGIN:VEVENT
SUMMARY:Metals - RRP (KVMR)\, Lectures (P)
DTSTART;TZID=Europe/Ljubljana:20250312T100000
DTEND;TZID=Europe/Ljubljana:20250312T120000
DTSTAMP:20260419T214528Z
UID:fs-AFLABS-URNIK:srecanje:9583-2025-03-12 10:00:00+01:00
DESCRIPTION:Predmet: Metals - RRP (KVMR)\, Lectures (P)\nLetniki: RRP-1 (R
 RP-1)\nIzvajalci: Roman Šturm\nProstor: Lecture hall V/8
END:VEVENT
BEGIN:VEVENT
SUMMARY:Metals - RRP (KVMR)\, Lectures (P)
DTSTART;TZID=Europe/Ljubljana:20250319T100000
DTEND;TZID=Europe/Ljubljana:20250319T120000
DTSTAMP:20260419T214528Z
UID:fs-AFLABS-URNIK:srecanje:9583-2025-03-19 10:00:00+01:00
DESCRIPTION:Predmet: Metals - RRP (KVMR)\, Lectures (P)\nLetniki: RRP-1 (R
 RP-1)\nIzvajalci: Roman Šturm\nProstor: Lecture hall V/8
END:VEVENT
BEGIN:VEVENT
SUMMARY:Metals - RRP (KVMR)\, Lectures (P)
DTSTART;TZID=Europe/Ljubljana:20250326T100000
DTEND;TZID=Europe/Ljubljana:20250326T120000
DTSTAMP:20260419T214528Z
UID:fs-AFLABS-URNIK:srecanje:9583-2025-03-26 10:00:00+01:00
DESCRIPTION:Predmet: Metals - RRP (KVMR)\, Lectures (P)\nLetniki: RRP-1 (R
 RP-1)\nIzvajalci: Roman Šturm\nProstor: Lecture hall V/8
END:VEVENT
BEGIN:VEVENT
SUMMARY:Metals - RRP (KVMR)\, Lectures (P)
DTSTART;TZID=Europe/Ljubljana:20250402T100000
DTEND;TZID=Europe/Ljubljana:20250402T120000
DTSTAMP:20260419T214528Z
UID:fs-AFLABS-URNIK:srecanje:9583-2025-04-02 10:00:00+02:00
DESCRIPTION:Predmet: Metals - RRP (KVMR)\, Lectures (P)\nLetniki: RRP-1 (R
 RP-1)\nIzvajalci: Roman Šturm\nProstor: Lecture hall V/8
END:VEVENT
BEGIN:VEVENT
SUMMARY:Metals - RRP (KVMR)\, Lectures (P)
DTSTART;TZID=Europe/Ljubljana:20250409T100000
DTEND;TZID=Europe/Ljubljana:20250409T120000
DTSTAMP:20260419T214528Z
UID:fs-AFLABS-URNIK:srecanje:9583-2025-04-09 10:00:00+02:00
DESCRIPTION:Predmet: Metals - RRP (KVMR)\, Lectures (P)\nLetniki: RRP-1 (R
 RP-1)\nIzvajalci: Roman Šturm\nProstor: Lecture hall V/8
END:VEVENT
BEGIN:VEVENT
SUMMARY:Metals - RRP (KVMR)\, Lectures (P)
DTSTART;TZID=Europe/Ljubljana:20250416T100000
DTEND;TZID=Europe/Ljubljana:20250416T120000
DTSTAMP:20260419T214528Z
UID:fs-AFLABS-URNIK:srecanje:9583-2025-04-16 10:00:00+02:00
DESCRIPTION:Predmet: Metals - RRP (KVMR)\, Lectures (P)\nLetniki: RRP-1 (R
 RP-1)\nIzvajalci: Roman Šturm\nProstor: Lecture hall V/8
END:VEVENT
BEGIN:VEVENT
SUMMARY:Metals - RRP (KVMR)\, Lectures (P)
DTSTART;TZID=Europe/Ljubljana:20250423T100000
DTEND;TZID=Europe/Ljubljana:20250423T120000
DTSTAMP:20260419T214528Z
UID:fs-AFLABS-URNIK:srecanje:9583-2025-04-23 10:00:00+02:00
DESCRIPTION:Predmet: Metals - RRP (KVMR)\, Lectures (P)\nLetniki: RRP-1 (R
 RP-1)\nIzvajalci: Roman Šturm\nProstor: Lecture hall V/8
END:VEVENT
BEGIN:VEVENT
SUMMARY:Metals - RRP (KVMR)\, Lectures (P)
DTSTART;TZID=Europe/Ljubljana:20250430T100000
DTEND;TZID=Europe/Ljubljana:20250430T120000
DTSTAMP:20260419T214528Z
UID:fs-AFLABS-URNIK:srecanje:9583-2025-04-30 10:00:00+02:00
DESCRIPTION:Predmet: Metals - RRP (KVMR)\, Lectures (P)\nLetniki: RRP-1 (R
 RP-1)\nIzvajalci: Roman Šturm\nProstor: Lecture hall V/8
END:VEVENT
BEGIN:VEVENT
SUMMARY:Metals - RRP (KVMR)\, Lectures (P)
DTSTART;TZID=Europe/Ljubljana:20250507T100000
DTEND;TZID=Europe/Ljubljana:20250507T120000
DTSTAMP:20260419T214528Z
UID:fs-AFLABS-URNIK:srecanje:9583-2025-05-07 10:00:00+02:00
DESCRIPTION:Predmet: Metals - RRP (KVMR)\, Lectures (P)\nLetniki: RRP-1 (R
 RP-1)\nIzvajalci: Roman Šturm\nProstor: Lecture hall V/8
END:VEVENT
BEGIN:VEVENT
SUMMARY:Metals - RRP (KVMR)\, Lectures (P)
DTSTART;TZID=Europe/Ljubljana:20250514T100000
DTEND;TZID=Europe/Ljubljana:20250514T120000
DTSTAMP:20260419T214528Z
UID:fs-AFLABS-URNIK:srecanje:9583-2025-05-14 10:00:00+02:00
DESCRIPTION:Predmet: Metals - RRP (KVMR)\, Lectures (P)\nLetniki: RRP-1 (R
 RP-1)\nIzvajalci: Roman Šturm\nProstor: Lecture hall V/8
END:VEVENT
BEGIN:VEVENT
SUMMARY:Metals - RRP (KVMR)\, Lectures (P)
DTSTART;TZID=Europe/Ljubljana:20250521T100000
DTEND;TZID=Europe/Ljubljana:20250521T120000
DTSTAMP:20260419T214528Z
UID:fs-AFLABS-URNIK:srecanje:9583-2025-05-21 10:00:00+02:00
DESCRIPTION:Predmet: Metals - RRP (KVMR)\, Lectures (P)\nLetniki: RRP-1 (R
 RP-1)\nIzvajalci: Roman Šturm\nProstor: Lecture hall V/8
END:VEVENT
BEGIN:VEVENT
SUMMARY:Metals - RRP (KVMR)\, Lectures (P)
DTSTART;TZID=Europe/Ljubljana:20250528T100000
DTEND;TZID=Europe/Ljubljana:20250528T120000
DTSTAMP:20260419T214528Z
UID:fs-AFLABS-URNIK:srecanje:9583-2025-05-28 10:00:00+02:00
DESCRIPTION:Predmet: Metals - RRP (KVMR)\, Lectures (P)\nLetniki: RRP-1 (R
 RP-1)\nIzvajalci: Roman Šturm\nProstor: Lecture hall V/8
END:VEVENT
BEGIN:VEVENT
SUMMARY:Non-destructive testing in aviation (NPLP)\, Lectures (P)
DTSTART;TZID=Europe/Ljubljana:20250221T080000
DTEND;TZID=Europe/Ljubljana:20250221T100000
DTSTAMP:20260419T214528Z
UID:fs-AFLABS-URNIK:srecanje:9791-2025-02-21 08:00:00+01:00
DESCRIPTION:Predmet: Non-destructive testing in aviation (NPLP)\, Lectures
  (P)\nLetniki: Aircraft design and maintenance (PAP-2)\nIzvajalci: Tomaž 
 Kek\, Roman Šturm\nProstor: Lecture hall IV/3B
END:VEVENT
BEGIN:VEVENT
SUMMARY:Non-destructive testing in aviation (NPLP)\, Lectures (P)
DTSTART;TZID=Europe/Ljubljana:20250228T080000
DTEND;TZID=Europe/Ljubljana:20250228T100000
DTSTAMP:20260419T214528Z
UID:fs-AFLABS-URNIK:srecanje:9791-2025-02-28 08:00:00+01:00
DESCRIPTION:Predmet: Non-destructive testing in aviation (NPLP)\, Lectures
  (P)\nLetniki: Aircraft design and maintenance (PAP-2)\nIzvajalci: Tomaž 
 Kek\, Roman Šturm\nProstor: Lecture hall IV/3B
END:VEVENT
BEGIN:VEVENT
SUMMARY:Non-destructive testing in aviation (NPLP)\, Lectures (P)
DTSTART;TZID=Europe/Ljubljana:20250307T080000
DTEND;TZID=Europe/Ljubljana:20250307T100000
DTSTAMP:20260419T214528Z
UID:fs-AFLABS-URNIK:srecanje:9791-2025-03-07 08:00:00+01:00
DESCRIPTION:Predmet: Non-destructive testing in aviation (NPLP)\, Lectures
  (P)\nLetniki: Aircraft design and maintenance (PAP-2)\nIzvajalci: Tomaž 
 Kek\, Roman Šturm\nProstor: Lecture hall IV/3B
END:VEVENT
BEGIN:VEVENT
SUMMARY:Non-destructive testing in aviation (NPLP)\, Lectures (P)
DTSTART;TZID=Europe/Ljubljana:20250314T080000
DTEND;TZID=Europe/Ljubljana:20250314T100000
DTSTAMP:20260419T214528Z
UID:fs-AFLABS-URNIK:srecanje:9791-2025-03-14 08:00:00+01:00
DESCRIPTION:Predmet: Non-destructive testing in aviation (NPLP)\, Lectures
  (P)\nLetniki: Aircraft design and maintenance (PAP-2)\nIzvajalci: Tomaž 
 Kek\, Roman Šturm\nProstor: Lecture hall IV/3B
END:VEVENT
BEGIN:VEVENT
SUMMARY:Non-destructive testing in aviation (NPLP)\, Lectures (P)
DTSTART;TZID=Europe/Ljubljana:20250321T080000
DTEND;TZID=Europe/Ljubljana:20250321T100000
DTSTAMP:20260419T214528Z
UID:fs-AFLABS-URNIK:srecanje:9791-2025-03-21 08:00:00+01:00
DESCRIPTION:Predmet: Non-destructive testing in aviation (NPLP)\, Lectures
  (P)\nLetniki: Aircraft design and maintenance (PAP-2)\nIzvajalci: Tomaž 
 Kek\, Roman Šturm\nProstor: Lecture hall IV/3B
END:VEVENT
BEGIN:VEVENT
SUMMARY:Non-destructive testing in aviation (NPLP)\, Lectures (P)
DTSTART;TZID=Europe/Ljubljana:20250328T080000
DTEND;TZID=Europe/Ljubljana:20250328T100000
DTSTAMP:20260419T214528Z
UID:fs-AFLABS-URNIK:srecanje:9791-2025-03-28 08:00:00+01:00
DESCRIPTION:Predmet: Non-destructive testing in aviation (NPLP)\, Lectures
  (P)\nLetniki: Aircraft design and maintenance (PAP-2)\nIzvajalci: Tomaž 
 Kek\, Roman Šturm\nProstor: Lecture hall IV/3B
END:VEVENT
BEGIN:VEVENT
SUMMARY:Non-destructive testing in aviation (NPLP)\, Lectures (P)
DTSTART;TZID=Europe/Ljubljana:20250404T080000
DTEND;TZID=Europe/Ljubljana:20250404T100000
DTSTAMP:20260419T214528Z
UID:fs-AFLABS-URNIK:srecanje:9791-2025-04-04 08:00:00+02:00
DESCRIPTION:Predmet: Non-destructive testing in aviation (NPLP)\, Lectures
  (P)\nLetniki: Aircraft design and maintenance (PAP-2)\nIzvajalci: Tomaž 
 Kek\, Roman Šturm\nProstor: Lecture hall IV/3B
END:VEVENT
BEGIN:VEVENT
SUMMARY:Non-destructive testing in aviation (NPLP)\, Lectures (P)
DTSTART;TZID=Europe/Ljubljana:20250411T080000
DTEND;TZID=Europe/Ljubljana:20250411T100000
DTSTAMP:20260419T214528Z
UID:fs-AFLABS-URNIK:srecanje:9791-2025-04-11 08:00:00+02:00
DESCRIPTION:Predmet: Non-destructive testing in aviation (NPLP)\, Lectures
  (P)\nLetniki: Aircraft design and maintenance (PAP-2)\nIzvajalci: Tomaž 
 Kek\, Roman Šturm\nProstor: Lecture hall IV/3B
END:VEVENT
BEGIN:VEVENT
SUMMARY:Non-destructive testing in aviation (NPLP)\, Lectures (P)
DTSTART;TZID=Europe/Ljubljana:20250418T080000
DTEND;TZID=Europe/Ljubljana:20250418T100000
DTSTAMP:20260419T214528Z
UID:fs-AFLABS-URNIK:srecanje:9791-2025-04-18 08:00:00+02:00
DESCRIPTION:Predmet: Non-destructive testing in aviation (NPLP)\, Lectures
  (P)\nLetniki: Aircraft design and maintenance (PAP-2)\nIzvajalci: Tomaž 
 Kek\, Roman Šturm\nProstor: Lecture hall IV/3B
END:VEVENT
BEGIN:VEVENT
SUMMARY:Non-destructive testing in aviation (NPLP)\, Lectures (P)
DTSTART;TZID=Europe/Ljubljana:20250425T080000
DTEND;TZID=Europe/Ljubljana:20250425T100000
DTSTAMP:20260419T214528Z
UID:fs-AFLABS-URNIK:srecanje:9791-2025-04-25 08:00:00+02:00
DESCRIPTION:Predmet: Non-destructive testing in aviation (NPLP)\, Lectures
  (P)\nLetniki: Aircraft design and maintenance (PAP-2)\nIzvajalci: Tomaž 
 Kek\, Roman Šturm\nProstor: Lecture hall IV/3B
END:VEVENT
BEGIN:VEVENT
SUMMARY:Non-destructive testing in aviation (NPLP)\, Lectures (P)
DTSTART;TZID=Europe/Ljubljana:20250502T080000
DTEND;TZID=Europe/Ljubljana:20250502T100000
DTSTAMP:20260419T214528Z
UID:fs-AFLABS-URNIK:srecanje:9791-2025-05-02 08:00:00+02:00
DESCRIPTION:Predmet: Non-destructive testing in aviation (NPLP)\, Lectures
  (P)\nLetniki: Aircraft design and maintenance (PAP-2)\nIzvajalci: Tomaž 
 Kek\, Roman Šturm\nProstor: Lecture hall IV/3B
END:VEVENT
BEGIN:VEVENT
SUMMARY:Non-destructive testing in aviation (NPLP)\, Lectures (P)
DTSTART;TZID=Europe/Ljubljana:20250509T080000
DTEND;TZID=Europe/Ljubljana:20250509T100000
DTSTAMP:20260419T214528Z
UID:fs-AFLABS-URNIK:srecanje:9791-2025-05-09 08:00:00+02:00
DESCRIPTION:Predmet: Non-destructive testing in aviation (NPLP)\, Lectures
  (P)\nLetniki: Aircraft design and maintenance (PAP-2)\nIzvajalci: Tomaž 
 Kek\, Roman Šturm\nProstor: Lecture hall IV/3B
END:VEVENT
BEGIN:VEVENT
SUMMARY:Non-destructive testing in aviation (NPLP)\, Lectures (P)
DTSTART;TZID=Europe/Ljubljana:20250516T080000
DTEND;TZID=Europe/Ljubljana:20250516T100000
DTSTAMP:20260419T214528Z
UID:fs-AFLABS-URNIK:srecanje:9791-2025-05-16 08:00:00+02:00
DESCRIPTION:Predmet: Non-destructive testing in aviation (NPLP)\, Lectures
  (P)\nLetniki: Aircraft design and maintenance (PAP-2)\nIzvajalci: Tomaž 
 Kek\, Roman Šturm\nProstor: Lecture hall IV/3B
END:VEVENT
BEGIN:VEVENT
SUMMARY:Non-destructive testing in aviation (NPLP)\, Lectures (P)
DTSTART;TZID=Europe/Ljubljana:20250523T080000
DTEND;TZID=Europe/Ljubljana:20250523T100000
DTSTAMP:20260419T214528Z
UID:fs-AFLABS-URNIK:srecanje:9791-2025-05-23 08:00:00+02:00
DESCRIPTION:Predmet: Non-destructive testing in aviation (NPLP)\, Lectures
  (P)\nLetniki: Aircraft design and maintenance (PAP-2)\nIzvajalci: Tomaž 
 Kek\, Roman Šturm\nProstor: Lecture hall IV/3B
END:VEVENT
BEGIN:VEVENT
SUMMARY:Non-destructive testing in aviation (NPLP)\, Lectures (P)
DTSTART;TZID=Europe/Ljubljana:20250530T080000
DTEND;TZID=Europe/Ljubljana:20250530T100000
DTSTAMP:20260419T214528Z
UID:fs-AFLABS-URNIK:srecanje:9791-2025-05-30 08:00:00+02:00
DESCRIPTION:Predmet: Non-destructive testing in aviation (NPLP)\, Lectures
  (P)\nLetniki: Aircraft design and maintenance (PAP-2)\nIzvajalci: Tomaž 
 Kek\, Roman Šturm\nProstor: Lecture hall IV/3B
END:VEVENT
BEGIN:VEVENT
SUMMARY:Kolokvij Kovinski materiali RRP
DTSTART;TZID=Europe/Ljubljana:20250407T170000
DTEND;TZID=Europe/Ljubljana:20250407T200000
DTSTAMP:20260419T214528Z
UID:fs-AFLABS-URNIK:rezervacija:6369
ATTENDEE:RRP-1 (RRP-1)
CATEGORIES:Reservation
COLOR:royalblue
DESCRIPTION:Predmeti: Metals - RRP (KVMR)\nLetniki: RRP-1 (RRP-1)\nIzvajal
 ci: Roman Šturm\nProstori: Lecture hall V/2\, Lecture hall V/8
LOCATION:Lecture hall V/2\, Lecture hall V/8
ORGANIZER:Roman Šturm
X-WR-TIMEZONE:Europe/Ljubljana
END:VEVENT
BEGIN:VEVENT
SUMMARY:Kolokvij Kovinski materiali RRP
DTSTART;TZID=Europe/Ljubljana:20250521T160000
DTEND;TZID=Europe/Ljubljana:20250521T200000
DTSTAMP:20260419T214528Z
UID:fs-AFLABS-URNIK:rezervacija:6370
ATTENDEE:RRP-1 (RRP-1)
CATEGORIES:Reservation
COLOR:royalblue
DESCRIPTION:Predmeti: Metals - RRP (KVMR)\nLetniki: RRP-1 (RRP-1)\nIzvajal
 ci: Roman Šturm\nProstori: Lecture hall IV/2\, Lecture hall V/8
LOCATION:Lecture hall IV/2\, Lecture hall V/8
ORGANIZER:Roman Šturm
X-WR-TIMEZONE:Europe/Ljubljana
END:VEVENT
END:VCALENDAR
