BEGIN:VCALENDAR
VERSION:2.0
PRODID:-//AFLabs urnik izvoz - fs//aflabs.si//SI
NAME:UL FS Urnik
X-WR-CALNAME:UL FS Urnik
DTSTAMP:20260419T191929Z
REFRESH-INTERVAL:PT1H
SOURCE:https://urnik.fs.uni-lj.si/en/teacher/876/?day=2025-08-04&export=1
URL:https://urnik.fs.uni-lj.si/en/teacher/876/?day=2025-08-04&export=1
X-PUBLISHED-TTL:PT1H
X-WR-TIMEZONE:Europe/Ljubljana
BEGIN:VTIMEZONE
TZID:Europe/Ljubljana
BEGIN:DAYLIGHT
DTSTART:20260329T020000
RDATE:20260329T020000
RDATE:20270328T020000
TZNAME:CEST
TZOFFSETFROM:+0100
TZOFFSETTO:+0200
END:DAYLIGHT
BEGIN:STANDARD
DTSTART:20261025T030000
RDATE:20261025T030000
RDATE:20271031T030000
TZNAME:CET
TZOFFSETFROM:+0200
TZOFFSETTO:+0100
END:STANDARD
END:VTIMEZONE
BEGIN:VEVENT
SUMMARY:Izpit: Gradiva 2 (2022)
DTSTART;TZID=Europe/Ljubljana:20250819T140000
DTEND;TZID=Europe/Ljubljana:20250819T160000
DTSTAMP:20260419T191929Z
UID:fs-AFLABS-URNIK:rezervacija:6625
CATEGORIES:Reservation
COLOR:royalblue
DESCRIPTION:Predmeti: \nLetniki: \nIzvajalci: Roman Šturm\nProstori: Lect
 ure hall IV/4
LOCATION:Lecture hall IV/4
ORGANIZER:Roman Šturm
X-WR-TIMEZONE:Europe/Ljubljana
END:VEVENT
BEGIN:VEVENT
SUMMARY:Izpit: Heat Treatment (6046-M)
DTSTART;TZID=Europe/Ljubljana:20250828T100000
DTEND;TZID=Europe/Ljubljana:20250828T120000
DTSTAMP:20260419T191929Z
UID:fs-AFLABS-URNIK:rezervacija:6632
CATEGORIES:Reservation
COLOR:royalblue
DESCRIPTION:Predmeti: \nLetniki: \nIzvajalci: Roman Šturm\nProstori: Lect
 ure hall V/8
LOCATION:Lecture hall V/8
ORGANIZER:Roman Šturm
X-WR-TIMEZONE:Europe/Ljubljana
END:VEVENT
BEGIN:VEVENT
SUMMARY:Izpit: Inženirska gradiva (3020)
DTSTART;TZID=Europe/Ljubljana:20250825T080000
DTEND;TZID=Europe/Ljubljana:20250825T100000
DTSTAMP:20260419T191929Z
UID:fs-AFLABS-URNIK:rezervacija:6721
CATEGORIES:Reservation
COLOR:royalblue
DESCRIPTION:Predmeti: \nLetniki: \nIzvajalci: Roman Šturm\nProstori: Lect
 ure hall IV/4
LOCATION:Lecture hall IV/4
ORGANIZER:Roman Šturm
X-WR-TIMEZONE:Europe/Ljubljana
END:VEVENT
BEGIN:VEVENT
SUMMARY:Izpit: Konstrukcijska gradiva (3104)
DTSTART;TZID=Europe/Ljubljana:20250825T080000
DTEND;TZID=Europe/Ljubljana:20250825T100000
DTSTAMP:20260419T191929Z
UID:fs-AFLABS-URNIK:rezervacija:6785
CATEGORIES:Reservation
COLOR:royalblue
DESCRIPTION:Predmeti: \nLetniki: \nIzvajalci: Roman Šturm\nProstori: Lect
 ure hall IV/4
LOCATION:Lecture hall IV/4
ORGANIZER:Roman Šturm
X-WR-TIMEZONE:Europe/Ljubljana
END:VEVENT
BEGIN:VEVENT
SUMMARY:Izpit: Kovinski materiali - PAP (3004-V)
DTSTART;TZID=Europe/Ljubljana:20250825T080000
DTEND;TZID=Europe/Ljubljana:20250825T100000
DTSTAMP:20260419T191929Z
UID:fs-AFLABS-URNIK:rezervacija:6797
CATEGORIES:Reservation
COLOR:royalblue
DESCRIPTION:Predmeti: \nLetniki: \nIzvajalci: Roman Šturm\nProstori: Lect
 ure hall IV/4
LOCATION:Lecture hall IV/4
ORGANIZER:Roman Šturm
X-WR-TIMEZONE:Europe/Ljubljana
END:VEVENT
BEGIN:VEVENT
SUMMARY:Izpit: Kovinski materiali - PAP (3004-V) [dve oceni]
DTSTART;TZID=Europe/Ljubljana:20250825T080000
DTEND;TZID=Europe/Ljubljana:20250825T100000
DTSTAMP:20260419T191929Z
UID:fs-AFLABS-URNIK:rezervacija:6800
CATEGORIES:Reservation
COLOR:royalblue
DESCRIPTION:Predmeti: \nLetniki: \nIzvajalci: Roman Šturm\nProstori: Lect
 ure hall IV/4
LOCATION:Lecture hall IV/4
ORGANIZER:Roman Šturm
X-WR-TIMEZONE:Europe/Ljubljana
END:VEVENT
BEGIN:VEVENT
SUMMARY:Izpit: Kovinski materiali - RRP (2010-U)
DTSTART;TZID=Europe/Ljubljana:20250819T140000
DTEND;TZID=Europe/Ljubljana:20250819T160000
DTSTAMP:20260419T191929Z
UID:fs-AFLABS-URNIK:rezervacija:6803
CATEGORIES:Reservation
COLOR:royalblue
DESCRIPTION:Predmeti: \nLetniki: \nIzvajalci: Roman Šturm\nProstori: Lect
 ure hall IV/4
LOCATION:Lecture hall IV/4
ORGANIZER:Roman Šturm
X-WR-TIMEZONE:Europe/Ljubljana
END:VEVENT
BEGIN:VEVENT
SUMMARY:Izpit: Kovinski materiali - RRP (2010-U) [dve oceni]
DTSTART;TZID=Europe/Ljubljana:20250819T140000
DTEND;TZID=Europe/Ljubljana:20250819T160000
DTSTAMP:20260419T191929Z
UID:fs-AFLABS-URNIK:rezervacija:6806
CATEGORIES:Reservation
COLOR:royalblue
DESCRIPTION:Predmeti: \nLetniki: \nIzvajalci: Roman Šturm\nProstori: Lect
 ure hall IV/4
LOCATION:Lecture hall IV/4
ORGANIZER:Roman Šturm
X-WR-TIMEZONE:Europe/Ljubljana
END:VEVENT
BEGIN:VEVENT
SUMMARY:Izpit: Materiali v energetiki in procesnem strojništvu (3112)
DTSTART;TZID=Europe/Ljubljana:20250825T080000
DTEND;TZID=Europe/Ljubljana:20250825T100000
DTSTAMP:20260419T191929Z
UID:fs-AFLABS-URNIK:rezervacija:6936
CATEGORIES:Reservation
COLOR:royalblue
DESCRIPTION:Predmeti: \nLetniki: \nIzvajalci: Roman Šturm\nProstori: Lect
 ure hall IV/4
LOCATION:Lecture hall IV/4
ORGANIZER:Roman Šturm
X-WR-TIMEZONE:Europe/Ljubljana
END:VEVENT
BEGIN:VEVENT
SUMMARY:Izpit: Načrtovanje toplotne obdelave (3062-V) [dve oceni]
DTSTART;TZID=Europe/Ljubljana:20250825T080000
DTEND;TZID=Europe/Ljubljana:20250825T100000
DTSTAMP:20260419T191929Z
UID:fs-AFLABS-URNIK:rezervacija:7098
CATEGORIES:Reservation
COLOR:royalblue
DESCRIPTION:Predmeti: \nLetniki: \nIzvajalci: Roman Šturm\nProstori: Lect
 ure hall IV/4
LOCATION:Lecture hall IV/4
ORGANIZER:Roman Šturm
X-WR-TIMEZONE:Europe/Ljubljana
END:VEVENT
BEGIN:VEVENT
SUMMARY:Izpit: Načrtovanje toplotne obdelave (3108)
DTSTART;TZID=Europe/Ljubljana:20250825T080000
DTEND;TZID=Europe/Ljubljana:20250825T100000
DTSTAMP:20260419T191929Z
UID:fs-AFLABS-URNIK:rezervacija:7101
CATEGORIES:Reservation
COLOR:royalblue
DESCRIPTION:Predmeti: \nLetniki: \nIzvajalci: Roman Šturm\nProstori: Lect
 ure hall IV/4
LOCATION:Lecture hall IV/4
ORGANIZER:Roman Šturm
X-WR-TIMEZONE:Europe/Ljubljana
END:VEVENT
BEGIN:VEVENT
SUMMARY:Izpit: Tehnologija materialov (3026)
DTSTART;TZID=Europe/Ljubljana:20250828T100000
DTEND;TZID=Europe/Ljubljana:20250828T120000
DTSTAMP:20260419T191929Z
UID:fs-AFLABS-URNIK:rezervacija:7655
CATEGORIES:Reservation
COLOR:royalblue
DESCRIPTION:Predmeti: \nLetniki: \nIzvajalci: Roman Šturm\nProstori: Lect
 ure hall V/8
LOCATION:Lecture hall V/8
ORGANIZER:Roman Šturm
X-WR-TIMEZONE:Europe/Ljubljana
END:VEVENT
BEGIN:VEVENT
SUMMARY:Izpit: Toplotna obdelava (6046-M)
DTSTART;TZID=Europe/Ljubljana:20250828T100000
DTEND;TZID=Europe/Ljubljana:20250828T120000
DTSTAMP:20260419T191929Z
UID:fs-AFLABS-URNIK:rezervacija:7709
CATEGORIES:Reservation
COLOR:royalblue
DESCRIPTION:Predmeti: \nLetniki: \nIzvajalci: Roman Šturm\nProstori: Lect
 ure hall V/8
LOCATION:Lecture hall V/8
ORGANIZER:Roman Šturm
X-WR-TIMEZONE:Europe/Ljubljana
END:VEVENT
BEGIN:VEVENT
SUMMARY:Izpit: Toplotna obdelava (6046-M) [dve oceni]
DTSTART;TZID=Europe/Ljubljana:20250828T100000
DTEND;TZID=Europe/Ljubljana:20250828T120000
DTSTAMP:20260419T191929Z
UID:fs-AFLABS-URNIK:rezervacija:7712
CATEGORIES:Reservation
COLOR:royalblue
DESCRIPTION:Predmeti: \nLetniki: \nIzvajalci: Roman Šturm\nProstori: Lect
 ure hall V/8
LOCATION:Lecture hall V/8
ORGANIZER:Roman Šturm
X-WR-TIMEZONE:Europe/Ljubljana
END:VEVENT
BEGIN:VEVENT
SUMMARY:ustni zagovori
DTSTART;TZID=Europe/Ljubljana:20250827T110000
DTEND;TZID=Europe/Ljubljana:20250827T133000
DTSTAMP:20260419T191929Z
UID:fs-AFLABS-URNIK:rezervacija:10591
CATEGORIES:Reservation
COLOR:royalblue
DESCRIPTION:Predmeti: \nLetniki: \nIzvajalci: Roman Šturm\nProstori: Lect
 ure hall IV/3A
LOCATION:Lecture hall IV/3A
ORGANIZER:Roman Šturm
X-WR-TIMEZONE:Europe/Ljubljana
END:VEVENT
END:VCALENDAR
