BEGIN:VCALENDAR
VERSION:2.0
PRODID:-//AFLabs urnik izvoz - fs//aflabs.si//SI
NAME:UL FS Urnik
X-WR-CALNAME:UL FS Urnik
DTSTAMP:20260423T033959Z
REFRESH-INTERVAL:PT1H
SOURCE:https://urnik.fs.uni-lj.si/en/teacher/876/?day=2025-12-08&export=1
URL:https://urnik.fs.uni-lj.si/en/teacher/876/?day=2025-12-08&export=1
X-PUBLISHED-TTL:PT1H
X-WR-TIMEZONE:Europe/Ljubljana
BEGIN:VTIMEZONE
TZID:Europe/Ljubljana
BEGIN:DAYLIGHT
DTSTART:20260329T020000
RDATE:20260329T020000
RDATE:20270328T020000
TZNAME:CEST
TZOFFSETFROM:+0100
TZOFFSETTO:+0200
END:DAYLIGHT
BEGIN:STANDARD
DTSTART:20261025T030000
RDATE:20261025T030000
RDATE:20271031T030000
TZNAME:CET
TZOFFSETFROM:+0200
TZOFFSETTO:+0100
END:STANDARD
END:VTIMEZONE
BEGIN:VEVENT
SUMMARY:Heat treatment (TPOM)\, Lectures (P)
DTSTART;TZID=Europe/Ljubljana:20250929T120000
DTEND;TZID=Europe/Ljubljana:20250929T140000
DTSTAMP:20260423T033959Z
UID:fs-AFLABS-URNIK:srecanje:15945-2025-09-29 12:00:00+02:00
DESCRIPTION:Predmet: Heat treatment (TPOM)\, Lectures (P)\nLetniki: Produc
 tion engineering (MAG-1)\nIzvajalci: Roman Šturm\, Sebastjan Žagar\nPros
 tor: Lecture hall II/2
END:VEVENT
BEGIN:VEVENT
SUMMARY:Heat treatment (TPOM)\, Lectures (P)
DTSTART;TZID=Europe/Ljubljana:20251006T120000
DTEND;TZID=Europe/Ljubljana:20251006T140000
DTSTAMP:20260423T033959Z
UID:fs-AFLABS-URNIK:srecanje:15945-2025-10-06 12:00:00+02:00
DESCRIPTION:Predmet: Heat treatment (TPOM)\, Lectures (P)\nLetniki: Produc
 tion engineering (MAG-1)\nIzvajalci: Roman Šturm\, Sebastjan Žagar\nPros
 tor: Lecture hall II/2
END:VEVENT
BEGIN:VEVENT
SUMMARY:Heat treatment (TPOM)\, Lectures (P)
DTSTART;TZID=Europe/Ljubljana:20251013T120000
DTEND;TZID=Europe/Ljubljana:20251013T140000
DTSTAMP:20260423T033959Z
UID:fs-AFLABS-URNIK:srecanje:15945-2025-10-13 12:00:00+02:00
DESCRIPTION:Predmet: Heat treatment (TPOM)\, Lectures (P)\nLetniki: Produc
 tion engineering (MAG-1)\nIzvajalci: Roman Šturm\, Sebastjan Žagar\nPros
 tor: Lecture hall II/2
END:VEVENT
BEGIN:VEVENT
SUMMARY:Heat treatment (TPOM)\, Lectures (P)
DTSTART;TZID=Europe/Ljubljana:20251020T120000
DTEND;TZID=Europe/Ljubljana:20251020T140000
DTSTAMP:20260423T033959Z
UID:fs-AFLABS-URNIK:srecanje:15945-2025-10-20 12:00:00+02:00
DESCRIPTION:Predmet: Heat treatment (TPOM)\, Lectures (P)\nLetniki: Produc
 tion engineering (MAG-1)\nIzvajalci: Roman Šturm\, Sebastjan Žagar\nPros
 tor: Lecture hall II/2
END:VEVENT
BEGIN:VEVENT
SUMMARY:Heat treatment (TPOM)\, Lectures (P)
DTSTART;TZID=Europe/Ljubljana:20251027T120000
DTEND;TZID=Europe/Ljubljana:20251027T140000
DTSTAMP:20260423T033959Z
UID:fs-AFLABS-URNIK:srecanje:15945-2025-10-27 12:00:00+01:00
DESCRIPTION:Predmet: Heat treatment (TPOM)\, Lectures (P)\nLetniki: Produc
 tion engineering (MAG-1)\nIzvajalci: Roman Šturm\, Sebastjan Žagar\nPros
 tor: Lecture hall II/2
END:VEVENT
BEGIN:VEVENT
SUMMARY:Heat treatment (TPOM)\, Lectures (P)
DTSTART;TZID=Europe/Ljubljana:20251103T120000
DTEND;TZID=Europe/Ljubljana:20251103T140000
DTSTAMP:20260423T033959Z
UID:fs-AFLABS-URNIK:srecanje:15945-2025-11-03 12:00:00+01:00
DESCRIPTION:Predmet: Heat treatment (TPOM)\, Lectures (P)\nLetniki: Produc
 tion engineering (MAG-1)\nIzvajalci: Roman Šturm\, Sebastjan Žagar\nPros
 tor: Lecture hall II/2
END:VEVENT
BEGIN:VEVENT
SUMMARY:Heat treatment (TPOM)\, Lectures (P)
DTSTART;TZID=Europe/Ljubljana:20251110T120000
DTEND;TZID=Europe/Ljubljana:20251110T140000
DTSTAMP:20260423T033959Z
UID:fs-AFLABS-URNIK:srecanje:15945-2025-11-10 12:00:00+01:00
DESCRIPTION:Predmet: Heat treatment (TPOM)\, Lectures (P)\nLetniki: Produc
 tion engineering (MAG-1)\nIzvajalci: Roman Šturm\, Sebastjan Žagar\nPros
 tor: Lecture hall II/2
END:VEVENT
BEGIN:VEVENT
SUMMARY:Heat treatment (TPOM)\, Lectures (P)
DTSTART;TZID=Europe/Ljubljana:20251117T120000
DTEND;TZID=Europe/Ljubljana:20251117T140000
DTSTAMP:20260423T033959Z
UID:fs-AFLABS-URNIK:srecanje:15945-2025-11-17 12:00:00+01:00
DESCRIPTION:Predmet: Heat treatment (TPOM)\, Lectures (P)\nLetniki: Produc
 tion engineering (MAG-1)\nIzvajalci: Roman Šturm\, Sebastjan Žagar\nPros
 tor: Lecture hall II/2
END:VEVENT
BEGIN:VEVENT
SUMMARY:Heat treatment (TPOM)\, Lectures (P)
DTSTART;TZID=Europe/Ljubljana:20251124T120000
DTEND;TZID=Europe/Ljubljana:20251124T140000
DTSTAMP:20260423T033959Z
UID:fs-AFLABS-URNIK:srecanje:15945-2025-11-24 12:00:00+01:00
DESCRIPTION:Predmet: Heat treatment (TPOM)\, Lectures (P)\nLetniki: Produc
 tion engineering (MAG-1)\nIzvajalci: Roman Šturm\, Sebastjan Žagar\nPros
 tor: Lecture hall II/2
END:VEVENT
BEGIN:VEVENT
SUMMARY:Heat treatment (TPOM)\, Lectures (P)
DTSTART;TZID=Europe/Ljubljana:20251201T120000
DTEND;TZID=Europe/Ljubljana:20251201T140000
DTSTAMP:20260423T033959Z
UID:fs-AFLABS-URNIK:srecanje:15945-2025-12-01 12:00:00+01:00
DESCRIPTION:Predmet: Heat treatment (TPOM)\, Lectures (P)\nLetniki: Produc
 tion engineering (MAG-1)\nIzvajalci: Roman Šturm\, Sebastjan Žagar\nPros
 tor: Lecture hall II/2
END:VEVENT
BEGIN:VEVENT
SUMMARY:Heat treatment (TPOM)\, Lectures (P)
DTSTART;TZID=Europe/Ljubljana:20251208T120000
DTEND;TZID=Europe/Ljubljana:20251208T140000
DTSTAMP:20260423T033959Z
UID:fs-AFLABS-URNIK:srecanje:15945-2025-12-08 12:00:00+01:00
DESCRIPTION:Predmet: Heat treatment (TPOM)\, Lectures (P)\nLetniki: Produc
 tion engineering (MAG-1)\nIzvajalci: Roman Šturm\, Sebastjan Žagar\nPros
 tor: Lecture hall II/2
END:VEVENT
BEGIN:VEVENT
SUMMARY:Heat treatment (TPOM)\, Lectures (P)
DTSTART;TZID=Europe/Ljubljana:20251215T120000
DTEND;TZID=Europe/Ljubljana:20251215T140000
DTSTAMP:20260423T033959Z
UID:fs-AFLABS-URNIK:srecanje:15945-2025-12-15 12:00:00+01:00
DESCRIPTION:Predmet: Heat treatment (TPOM)\, Lectures (P)\nLetniki: Produc
 tion engineering (MAG-1)\nIzvajalci: Roman Šturm\, Sebastjan Žagar\nPros
 tor: Lecture hall II/2
END:VEVENT
BEGIN:VEVENT
SUMMARY:Heat treatment (TPOM)\, Lectures (P)
DTSTART;TZID=Europe/Ljubljana:20251222T120000
DTEND;TZID=Europe/Ljubljana:20251222T140000
DTSTAMP:20260423T033959Z
UID:fs-AFLABS-URNIK:srecanje:15945-2025-12-22 12:00:00+01:00
DESCRIPTION:Predmet: Heat treatment (TPOM)\, Lectures (P)\nLetniki: Produc
 tion engineering (MAG-1)\nIzvajalci: Roman Šturm\, Sebastjan Žagar\nPros
 tor: Lecture hall II/2
END:VEVENT
BEGIN:VEVENT
SUMMARY:Heat treatment (TPOM)\, Lectures (P)
DTSTART;TZID=Europe/Ljubljana:20260105T120000
DTEND;TZID=Europe/Ljubljana:20260105T140000
DTSTAMP:20260423T033959Z
UID:fs-AFLABS-URNIK:srecanje:15945-2026-01-05 12:00:00+01:00
DESCRIPTION:Predmet: Heat treatment (TPOM)\, Lectures (P)\nLetniki: Produc
 tion engineering (MAG-1)\nIzvajalci: Roman Šturm\, Sebastjan Žagar\nPros
 tor: Lecture hall II/2
END:VEVENT
BEGIN:VEVENT
SUMMARY:Heat treatment (TPOM)\, Lectures (P)
DTSTART;TZID=Europe/Ljubljana:20260112T120000
DTEND;TZID=Europe/Ljubljana:20260112T140000
DTSTAMP:20260423T033959Z
UID:fs-AFLABS-URNIK:srecanje:15945-2026-01-12 12:00:00+01:00
DESCRIPTION:Predmet: Heat treatment (TPOM)\, Lectures (P)\nLetniki: Produc
 tion engineering (MAG-1)\nIzvajalci: Roman Šturm\, Sebastjan Žagar\nPros
 tor: Lecture hall II/2
END:VEVENT
BEGIN:VEVENT
SUMMARY:Metals - PAP (KVMP)\, Lectures (P)
DTSTART;TZID=Europe/Ljubljana:20250930T113000
DTEND;TZID=Europe/Ljubljana:20250930T133000
DTSTAMP:20260423T033959Z
UID:fs-AFLABS-URNIK:srecanje:81-2025-09-30 11:30:00+02:00
DESCRIPTION:Predmet: Metals - PAP (KVMP)\, Lectures (P)\nLetniki: PAP-1 (P
 AP-1)\nIzvajalci: Roman Šturm\nProstor: Lecture hall V/8
END:VEVENT
BEGIN:VEVENT
SUMMARY:Metals - PAP (KVMP)\, Lectures (P)
DTSTART;TZID=Europe/Ljubljana:20251007T113000
DTEND;TZID=Europe/Ljubljana:20251007T133000
DTSTAMP:20260423T033959Z
UID:fs-AFLABS-URNIK:srecanje:81-2025-10-07 11:30:00+02:00
DESCRIPTION:Predmet: Metals - PAP (KVMP)\, Lectures (P)\nLetniki: PAP-1 (P
 AP-1)\nIzvajalci: Roman Šturm\nProstor: Lecture hall V/8
END:VEVENT
BEGIN:VEVENT
SUMMARY:Metals - PAP (KVMP)\, Lectures (P)
DTSTART;TZID=Europe/Ljubljana:20251014T113000
DTEND;TZID=Europe/Ljubljana:20251014T133000
DTSTAMP:20260423T033959Z
UID:fs-AFLABS-URNIK:srecanje:81-2025-10-14 11:30:00+02:00
DESCRIPTION:Predmet: Metals - PAP (KVMP)\, Lectures (P)\nLetniki: PAP-1 (P
 AP-1)\nIzvajalci: Roman Šturm\nProstor: Lecture hall V/8
END:VEVENT
BEGIN:VEVENT
SUMMARY:Metals - PAP (KVMP)\, Lectures (P)
DTSTART;TZID=Europe/Ljubljana:20251021T113000
DTEND;TZID=Europe/Ljubljana:20251021T133000
DTSTAMP:20260423T033959Z
UID:fs-AFLABS-URNIK:srecanje:81-2025-10-21 11:30:00+02:00
DESCRIPTION:Predmet: Metals - PAP (KVMP)\, Lectures (P)\nLetniki: PAP-1 (P
 AP-1)\nIzvajalci: Roman Šturm\nProstor: Lecture hall V/8
END:VEVENT
BEGIN:VEVENT
SUMMARY:Metals - PAP (KVMP)\, Lectures (P)
DTSTART;TZID=Europe/Ljubljana:20251028T113000
DTEND;TZID=Europe/Ljubljana:20251028T133000
DTSTAMP:20260423T033959Z
UID:fs-AFLABS-URNIK:srecanje:81-2025-10-28 11:30:00+01:00
DESCRIPTION:Predmet: Metals - PAP (KVMP)\, Lectures (P)\nLetniki: PAP-1 (P
 AP-1)\nIzvajalci: Roman Šturm\nProstor: Lecture hall V/8
END:VEVENT
BEGIN:VEVENT
SUMMARY:Metals - PAP (KVMP)\, Lectures (P)
DTSTART;TZID=Europe/Ljubljana:20251104T113000
DTEND;TZID=Europe/Ljubljana:20251104T133000
DTSTAMP:20260423T033959Z
UID:fs-AFLABS-URNIK:srecanje:81-2025-11-04 11:30:00+01:00
DESCRIPTION:Predmet: Metals - PAP (KVMP)\, Lectures (P)\nLetniki: PAP-1 (P
 AP-1)\nIzvajalci: Roman Šturm\nProstor: Lecture hall V/8
END:VEVENT
BEGIN:VEVENT
SUMMARY:Metals - PAP (KVMP)\, Lectures (P)
DTSTART;TZID=Europe/Ljubljana:20251111T113000
DTEND;TZID=Europe/Ljubljana:20251111T133000
DTSTAMP:20260423T033959Z
UID:fs-AFLABS-URNIK:srecanje:81-2025-11-11 11:30:00+01:00
DESCRIPTION:Predmet: Metals - PAP (KVMP)\, Lectures (P)\nLetniki: PAP-1 (P
 AP-1)\nIzvajalci: Roman Šturm\nProstor: Lecture hall V/8
END:VEVENT
BEGIN:VEVENT
SUMMARY:Metals - PAP (KVMP)\, Lectures (P)
DTSTART;TZID=Europe/Ljubljana:20251118T113000
DTEND;TZID=Europe/Ljubljana:20251118T133000
DTSTAMP:20260423T033959Z
UID:fs-AFLABS-URNIK:srecanje:81-2025-11-18 11:30:00+01:00
DESCRIPTION:Predmet: Metals - PAP (KVMP)\, Lectures (P)\nLetniki: PAP-1 (P
 AP-1)\nIzvajalci: Roman Šturm\nProstor: Lecture hall V/8
END:VEVENT
BEGIN:VEVENT
SUMMARY:Metals - PAP (KVMP)\, Lectures (P)
DTSTART;TZID=Europe/Ljubljana:20251125T113000
DTEND;TZID=Europe/Ljubljana:20251125T133000
DTSTAMP:20260423T033959Z
UID:fs-AFLABS-URNIK:srecanje:81-2025-11-25 11:30:00+01:00
DESCRIPTION:Predmet: Metals - PAP (KVMP)\, Lectures (P)\nLetniki: PAP-1 (P
 AP-1)\nIzvajalci: Roman Šturm\nProstor: Lecture hall V/8
END:VEVENT
BEGIN:VEVENT
SUMMARY:Metals - PAP (KVMP)\, Lectures (P)
DTSTART;TZID=Europe/Ljubljana:20251202T113000
DTEND;TZID=Europe/Ljubljana:20251202T133000
DTSTAMP:20260423T033959Z
UID:fs-AFLABS-URNIK:srecanje:81-2025-12-02 11:30:00+01:00
DESCRIPTION:Predmet: Metals - PAP (KVMP)\, Lectures (P)\nLetniki: PAP-1 (P
 AP-1)\nIzvajalci: Roman Šturm\nProstor: Lecture hall V/8
END:VEVENT
BEGIN:VEVENT
SUMMARY:Metals - PAP (KVMP)\, Lectures (P)
DTSTART;TZID=Europe/Ljubljana:20251209T113000
DTEND;TZID=Europe/Ljubljana:20251209T133000
DTSTAMP:20260423T033959Z
UID:fs-AFLABS-URNIK:srecanje:81-2025-12-09 11:30:00+01:00
DESCRIPTION:Predmet: Metals - PAP (KVMP)\, Lectures (P)\nLetniki: PAP-1 (P
 AP-1)\nIzvajalci: Roman Šturm\nProstor: Lecture hall V/8
END:VEVENT
BEGIN:VEVENT
SUMMARY:Metals - PAP (KVMP)\, Lectures (P)
DTSTART;TZID=Europe/Ljubljana:20251216T113000
DTEND;TZID=Europe/Ljubljana:20251216T133000
DTSTAMP:20260423T033959Z
UID:fs-AFLABS-URNIK:srecanje:81-2025-12-16 11:30:00+01:00
DESCRIPTION:Predmet: Metals - PAP (KVMP)\, Lectures (P)\nLetniki: PAP-1 (P
 AP-1)\nIzvajalci: Roman Šturm\nProstor: Lecture hall V/8
END:VEVENT
BEGIN:VEVENT
SUMMARY:Metals - PAP (KVMP)\, Lectures (P)
DTSTART;TZID=Europe/Ljubljana:20251223T113000
DTEND;TZID=Europe/Ljubljana:20251223T133000
DTSTAMP:20260423T033959Z
UID:fs-AFLABS-URNIK:srecanje:81-2025-12-23 11:30:00+01:00
DESCRIPTION:Predmet: Metals - PAP (KVMP)\, Lectures (P)\nLetniki: PAP-1 (P
 AP-1)\nIzvajalci: Roman Šturm\nProstor: Lecture hall V/8
END:VEVENT
BEGIN:VEVENT
SUMMARY:Metals - PAP (KVMP)\, Lectures (P)
DTSTART;TZID=Europe/Ljubljana:20260106T113000
DTEND;TZID=Europe/Ljubljana:20260106T133000
DTSTAMP:20260423T033959Z
UID:fs-AFLABS-URNIK:srecanje:81-2026-01-06 11:30:00+01:00
DESCRIPTION:Predmet: Metals - PAP (KVMP)\, Lectures (P)\nLetniki: PAP-1 (P
 AP-1)\nIzvajalci: Roman Šturm\nProstor: Lecture hall V/8
END:VEVENT
BEGIN:VEVENT
SUMMARY:Metals - PAP (KVMP)\, Lectures (P)
DTSTART;TZID=Europe/Ljubljana:20260113T113000
DTEND;TZID=Europe/Ljubljana:20260113T133000
DTSTAMP:20260423T033959Z
UID:fs-AFLABS-URNIK:srecanje:81-2026-01-13 11:30:00+01:00
DESCRIPTION:Predmet: Metals - PAP (KVMP)\, Lectures (P)\nLetniki: PAP-1 (P
 AP-1)\nIzvajalci: Roman Šturm\nProstor: Lecture hall V/8
END:VEVENT
BEGIN:VEVENT
SUMMARY:Heat treatment planning (NTOP)\, Lectures (P)
DTSTART;TZID=Europe/Ljubljana:20251003T113000
DTEND;TZID=Europe/Ljubljana:20251003T133000
DTSTAMP:20260423T033959Z
UID:fs-AFLABS-URNIK:srecanje:16022-2025-10-03 11:30:00+02:00
DESCRIPTION:Predmet: Heat treatment planning (NTOP)\, Lectures (P)\nLetnik
 i: Production technologies (PAP-3)\nIzvajalci: Roman Šturm\nProstor: Lect
 ure hall IV/3B
END:VEVENT
BEGIN:VEVENT
SUMMARY:Heat treatment planning (NTOP)\, Lectures (P)
DTSTART;TZID=Europe/Ljubljana:20251010T113000
DTEND;TZID=Europe/Ljubljana:20251010T133000
DTSTAMP:20260423T033959Z
UID:fs-AFLABS-URNIK:srecanje:16022-2025-10-10 11:30:00+02:00
DESCRIPTION:Predmet: Heat treatment planning (NTOP)\, Lectures (P)\nLetnik
 i: Production technologies (PAP-3)\nIzvajalci: Roman Šturm\nProstor: Lect
 ure hall IV/3B
END:VEVENT
BEGIN:VEVENT
SUMMARY:Heat treatment planning (NTOP)\, Lectures (P)
DTSTART;TZID=Europe/Ljubljana:20251017T113000
DTEND;TZID=Europe/Ljubljana:20251017T133000
DTSTAMP:20260423T033959Z
UID:fs-AFLABS-URNIK:srecanje:16022-2025-10-17 11:30:00+02:00
DESCRIPTION:Predmet: Heat treatment planning (NTOP)\, Lectures (P)\nLetnik
 i: Production technologies (PAP-3)\nIzvajalci: Roman Šturm\nProstor: Lect
 ure hall IV/3B
END:VEVENT
BEGIN:VEVENT
SUMMARY:Heat treatment planning (NTOP)\, Lectures (P)
DTSTART;TZID=Europe/Ljubljana:20251024T113000
DTEND;TZID=Europe/Ljubljana:20251024T133000
DTSTAMP:20260423T033959Z
UID:fs-AFLABS-URNIK:srecanje:16022-2025-10-24 11:30:00+02:00
DESCRIPTION:Predmet: Heat treatment planning (NTOP)\, Lectures (P)\nLetnik
 i: Production technologies (PAP-3)\nIzvajalci: Roman Šturm\nProstor: Lect
 ure hall IV/3B
END:VEVENT
BEGIN:VEVENT
SUMMARY:Heat treatment planning (NTOP)\, Lectures (P)
DTSTART;TZID=Europe/Ljubljana:20251107T113000
DTEND;TZID=Europe/Ljubljana:20251107T133000
DTSTAMP:20260423T033959Z
UID:fs-AFLABS-URNIK:srecanje:16022-2025-11-07 11:30:00+01:00
DESCRIPTION:Predmet: Heat treatment planning (NTOP)\, Lectures (P)\nLetnik
 i: Production technologies (PAP-3)\nIzvajalci: Roman Šturm\nProstor: Lect
 ure hall IV/3B
END:VEVENT
BEGIN:VEVENT
SUMMARY:Heat treatment planning (NTOP)\, Lectures (P)
DTSTART;TZID=Europe/Ljubljana:20251114T113000
DTEND;TZID=Europe/Ljubljana:20251114T133000
DTSTAMP:20260423T033959Z
UID:fs-AFLABS-URNIK:srecanje:16022-2025-11-14 11:30:00+01:00
DESCRIPTION:Predmet: Heat treatment planning (NTOP)\, Lectures (P)\nLetnik
 i: Production technologies (PAP-3)\nIzvajalci: Roman Šturm\nProstor: Lect
 ure hall IV/3B
END:VEVENT
BEGIN:VEVENT
SUMMARY:Heat treatment planning (NTOP)\, Lectures (P)
DTSTART;TZID=Europe/Ljubljana:20251121T113000
DTEND;TZID=Europe/Ljubljana:20251121T133000
DTSTAMP:20260423T033959Z
UID:fs-AFLABS-URNIK:srecanje:16022-2025-11-21 11:30:00+01:00
DESCRIPTION:Predmet: Heat treatment planning (NTOP)\, Lectures (P)\nLetnik
 i: Production technologies (PAP-3)\nIzvajalci: Roman Šturm\nProstor: Lect
 ure hall IV/3B
END:VEVENT
BEGIN:VEVENT
SUMMARY:Heat treatment planning (NTOP)\, Lectures (P)
DTSTART;TZID=Europe/Ljubljana:20251128T113000
DTEND;TZID=Europe/Ljubljana:20251128T133000
DTSTAMP:20260423T033959Z
UID:fs-AFLABS-URNIK:srecanje:16022-2025-11-28 11:30:00+01:00
DESCRIPTION:Predmet: Heat treatment planning (NTOP)\, Lectures (P)\nLetnik
 i: Production technologies (PAP-3)\nIzvajalci: Roman Šturm\nProstor: Lect
 ure hall IV/3B
END:VEVENT
BEGIN:VEVENT
SUMMARY:Heat treatment planning (NTOP)\, Lectures (P)
DTSTART;TZID=Europe/Ljubljana:20251205T113000
DTEND;TZID=Europe/Ljubljana:20251205T133000
DTSTAMP:20260423T033959Z
UID:fs-AFLABS-URNIK:srecanje:16022-2025-12-05 11:30:00+01:00
DESCRIPTION:Predmet: Heat treatment planning (NTOP)\, Lectures (P)\nLetnik
 i: Production technologies (PAP-3)\nIzvajalci: Roman Šturm\nProstor: Lect
 ure hall IV/3B
END:VEVENT
BEGIN:VEVENT
SUMMARY:Heat treatment planning (NTOP)\, Lectures (P)
DTSTART;TZID=Europe/Ljubljana:20251212T113000
DTEND;TZID=Europe/Ljubljana:20251212T133000
DTSTAMP:20260423T033959Z
UID:fs-AFLABS-URNIK:srecanje:16022-2025-12-12 11:30:00+01:00
DESCRIPTION:Predmet: Heat treatment planning (NTOP)\, Lectures (P)\nLetnik
 i: Production technologies (PAP-3)\nIzvajalci: Roman Šturm\nProstor: Lect
 ure hall IV/3B
END:VEVENT
BEGIN:VEVENT
SUMMARY:Heat treatment planning (NTOP)\, Lectures (P)
DTSTART;TZID=Europe/Ljubljana:20251219T113000
DTEND;TZID=Europe/Ljubljana:20251219T133000
DTSTAMP:20260423T033959Z
UID:fs-AFLABS-URNIK:srecanje:16022-2025-12-19 11:30:00+01:00
DESCRIPTION:Predmet: Heat treatment planning (NTOP)\, Lectures (P)\nLetnik
 i: Production technologies (PAP-3)\nIzvajalci: Roman Šturm\nProstor: Lect
 ure hall IV/3B
END:VEVENT
BEGIN:VEVENT
SUMMARY:Heat treatment planning (NTOP)\, Lectures (P)
DTSTART;TZID=Europe/Ljubljana:20251226T113000
DTEND;TZID=Europe/Ljubljana:20251226T133000
DTSTAMP:20260423T033959Z
UID:fs-AFLABS-URNIK:srecanje:16022-2025-12-26 11:30:00+01:00
DESCRIPTION:Predmet: Heat treatment planning (NTOP)\, Lectures (P)\nLetnik
 i: Production technologies (PAP-3)\nIzvajalci: Roman Šturm\nProstor: Lect
 ure hall IV/3B
END:VEVENT
BEGIN:VEVENT
SUMMARY:Heat treatment planning (NTOP)\, Lectures (P)
DTSTART;TZID=Europe/Ljubljana:20260109T113000
DTEND;TZID=Europe/Ljubljana:20260109T133000
DTSTAMP:20260423T033959Z
UID:fs-AFLABS-URNIK:srecanje:16022-2026-01-09 11:30:00+01:00
DESCRIPTION:Predmet: Heat treatment planning (NTOP)\, Lectures (P)\nLetnik
 i: Production technologies (PAP-3)\nIzvajalci: Roman Šturm\nProstor: Lect
 ure hall IV/3B
END:VEVENT
BEGIN:VEVENT
SUMMARY:Heat treatment planning (NTOP)\, Lectures (P)
DTSTART;TZID=Europe/Ljubljana:20260116T113000
DTEND;TZID=Europe/Ljubljana:20260116T133000
DTSTAMP:20260423T033959Z
UID:fs-AFLABS-URNIK:srecanje:16022-2026-01-16 11:30:00+01:00
DESCRIPTION:Predmet: Heat treatment planning (NTOP)\, Lectures (P)\nLetnik
 i: Production technologies (PAP-3)\nIzvajalci: Roman Šturm\nProstor: Lect
 ure hall IV/3B
END:VEVENT
BEGIN:VEVENT
SUMMARY:kolokvij KM
DTSTART;TZID=Europe/Ljubljana:20251204T140000
DTEND;TZID=Europe/Ljubljana:20251204T160000
DTSTAMP:20260423T033959Z
UID:fs-AFLABS-URNIK:rezervacija:11006
ATTENDEE:PAP-1 (PAP-1)
CATEGORIES:Reservation
COLOR:royalblue
DESCRIPTION:Predmeti: Metals - PAP (KVMP)\nLetniki: PAP-1 (PAP-1)\nIzvajal
 ci: Roman Šturm\nProstori: Lecture hall V/2\, Lecture hall V/8
LOCATION:Lecture hall V/2\, Lecture hall V/8
ORGANIZER:Roman Šturm
X-WR-TIMEZONE:Europe/Ljubljana
END:VEVENT
BEGIN:VEVENT
SUMMARY:kolokvij KM
DTSTART;TZID=Europe/Ljubljana:20260106T160000
DTEND;TZID=Europe/Ljubljana:20260106T180000
DTSTAMP:20260423T033959Z
UID:fs-AFLABS-URNIK:rezervacija:11008
ATTENDEE:PAP-1 (PAP-1)
CATEGORIES:Reservation
COLOR:royalblue
DESCRIPTION:Predmeti: Metals - PAP (KVMP)\nLetniki: PAP-1 (PAP-1)\nIzvajal
 ci: Roman Šturm\nProstori: Lecture hall IV/4\, Lecture hall V/8
LOCATION:Lecture hall IV/4\, Lecture hall V/8
ORGANIZER:Roman Šturm
X-WR-TIMEZONE:Europe/Ljubljana
END:VEVENT
BEGIN:VEVENT
SUMMARY:Kolokvij Toplotna obdelava
DTSTART;TZID=Europe/Ljubljana:20251128T160000
DTEND;TZID=Europe/Ljubljana:20251128T180000
DTSTAMP:20260423T033959Z
UID:fs-AFLABS-URNIK:rezervacija:13005
CATEGORIES:Reservation
COLOR:royalblue
DESCRIPTION:Predmeti: \nLetniki: \nIzvajalci: Roman Šturm\nProstori: Lect
 ure hall V/2
LOCATION:Lecture hall V/2
ORGANIZER:Roman Šturm
X-WR-TIMEZONE:Europe/Ljubljana
END:VEVENT
BEGIN:VEVENT
SUMMARY:Kolokvij Toplotna obdelava MAG
DTSTART;TZID=Europe/Ljubljana:20251224T070000
DTEND;TZID=Europe/Ljubljana:20251224T090000
DTSTAMP:20260423T033959Z
UID:fs-AFLABS-URNIK:rezervacija:13360
ATTENDEE:Production engineering (MAG-1)
CATEGORIES:Reservation
COLOR:royalblue
DESCRIPTION:Predmeti: Heat treatment (TPOM)\nLetniki: Production engineeri
 ng (MAG-1)\nIzvajalci: Roman Šturm\nProstori: Lecture hall IV/2
LOCATION:Lecture hall IV/2
ORGANIZER:Roman Šturm
X-WR-TIMEZONE:Europe/Ljubljana
END:VEVENT
END:VCALENDAR
