BEGIN:VCALENDAR
VERSION:2.0
PRODID:-//AFLabs urnik izvoz - fs//aflabs.si//SI
NAME:UL FS Urnik
X-WR-CALNAME:UL FS Urnik
DTSTAMP:20260420T063045Z
REFRESH-INTERVAL:PT1H
SOURCE:https://urnik.fs.uni-lj.si/en/teacher/876/?day=2026-08-24&export=1
URL:https://urnik.fs.uni-lj.si/en/teacher/876/?day=2026-08-24&export=1
X-PUBLISHED-TTL:PT1H
X-WR-TIMEZONE:Europe/Ljubljana
BEGIN:VTIMEZONE
TZID:Europe/Ljubljana
BEGIN:DAYLIGHT
DTSTART:20260329T020000
RDATE:20260329T020000
RDATE:20270328T020000
TZNAME:CEST
TZOFFSETFROM:+0100
TZOFFSETTO:+0200
END:DAYLIGHT
BEGIN:STANDARD
DTSTART:20261025T030000
RDATE:20261025T030000
RDATE:20271031T030000
TZNAME:CET
TZOFFSETFROM:+0200
TZOFFSETTO:+0100
END:STANDARD
END:VTIMEZONE
BEGIN:VEVENT
SUMMARY:Izpit: Kovinski materiali - RRP
DTSTART;TZID=Europe/Ljubljana:20260818T140000
DTEND;TZID=Europe/Ljubljana:20260818T160000
DTSTAMP:20260420T063045Z
UID:fs-AFLABS-URNIK:rezervacija:11862
ATTENDEE:RRP-1 (RRP-1)
CATEGORIES:Reservation
COLOR:royalblue
DESCRIPTION:Predmeti: Metals - RRP (KVMR)\nLetniki: RRP-1 (RRP-1)\nIzvajal
 ci: Roman Šturm\nProstori: Lecture hall IV/4
LOCATION:Lecture hall IV/4
ORGANIZER:Roman Šturm
X-WR-TIMEZONE:Europe/Ljubljana
END:VEVENT
BEGIN:VEVENT
SUMMARY:Izpit: Kovinski materiali - RRP
DTSTART;TZID=Europe/Ljubljana:20260818T140000
DTEND;TZID=Europe/Ljubljana:20260818T160000
DTSTAMP:20260420T063045Z
UID:fs-AFLABS-URNIK:rezervacija:11863
ATTENDEE:RRP-1 (RRP-1)
CATEGORIES:Reservation
COLOR:royalblue
DESCRIPTION:Predmeti: Metals - RRP (KVMR)\nLetniki: RRP-1 (RRP-1)\nIzvajal
 ci: Roman Šturm\nProstori: Lecture hall IV/4
LOCATION:Lecture hall IV/4
ORGANIZER:Roman Šturm
X-WR-TIMEZONE:Europe/Ljubljana
END:VEVENT
BEGIN:VEVENT
SUMMARY:Izpit: Konstrukcijska gradiva
DTSTART;TZID=Europe/Ljubljana:20260824T080000
DTEND;TZID=Europe/Ljubljana:20260824T100000
DTSTAMP:20260420T063045Z
UID:fs-AFLABS-URNIK:rezervacija:12148
ATTENDEE:Mehatronika (PAP-3)
ATTENDEE:Snovanje, obratovanje in vzdrževanje - Transportni in delovni st
 roji (PAP-3)
CATEGORIES:Reservation
COLOR:royalblue
DESCRIPTION:Predmeti: Construction Materials (3104)\nLetniki: Mehatronika 
 (PAP-3)\, Snovanje\, obratovanje in vzdrževanje - Transportni in delovni 
 stroji (PAP-3)\nIzvajalci: Roman Šturm\nProstori: Lecture hall IV/4
LOCATION:Lecture hall IV/4
ORGANIZER:Roman Šturm
X-WR-TIMEZONE:Europe/Ljubljana
END:VEVENT
BEGIN:VEVENT
SUMMARY:Izpit: Kovinski materiali - PAP
DTSTART;TZID=Europe/Ljubljana:20260824T080000
DTEND;TZID=Europe/Ljubljana:20260824T100000
DTSTAMP:20260420T063045Z
UID:fs-AFLABS-URNIK:rezervacija:12149
ATTENDEE:PAP-1 (PAP-1)
CATEGORIES:Reservation
COLOR:royalblue
DESCRIPTION:Predmeti: Metals - PAP (KVMP)\nLetniki: PAP-1 (PAP-1)\nIzvajal
 ci: Roman Šturm\nProstori: Lecture hall IV/4
LOCATION:Lecture hall IV/4
ORGANIZER:Roman Šturm
X-WR-TIMEZONE:Europe/Ljubljana
END:VEVENT
BEGIN:VEVENT
SUMMARY:Izpit: Kovinski materiali - PAP
DTSTART;TZID=Europe/Ljubljana:20260824T080000
DTEND;TZID=Europe/Ljubljana:20260824T100000
DTSTAMP:20260420T063045Z
UID:fs-AFLABS-URNIK:rezervacija:12150
ATTENDEE:PAP-1 (PAP-1)
CATEGORIES:Reservation
COLOR:royalblue
DESCRIPTION:Predmeti: Metals - PAP (KVMP)\nLetniki: PAP-1 (PAP-1)\nIzvajal
 ci: Roman Šturm\nProstori: Lecture hall IV/4
LOCATION:Lecture hall IV/4
ORGANIZER:Roman Šturm
X-WR-TIMEZONE:Europe/Ljubljana
END:VEVENT
BEGIN:VEVENT
SUMMARY:Izpit: Materiali v energetiki in procesnem strojništvu
DTSTART;TZID=Europe/Ljubljana:20260824T080000
DTEND;TZID=Europe/Ljubljana:20260824T100000
DTSTAMP:20260420T063045Z
UID:fs-AFLABS-URNIK:rezervacija:12151
CATEGORIES:Reservation
COLOR:royalblue
DESCRIPTION:Predmeti: \nLetniki: \nIzvajalci: Roman Šturm\nProstori: Lect
 ure hall IV/4
LOCATION:Lecture hall IV/4
ORGANIZER:Roman Šturm
X-WR-TIMEZONE:Europe/Ljubljana
END:VEVENT
BEGIN:VEVENT
SUMMARY:Izpit: Načrtovanje toplotne obdelave
DTSTART;TZID=Europe/Ljubljana:20260824T080000
DTEND;TZID=Europe/Ljubljana:20260824T100000
DTSTAMP:20260420T063045Z
UID:fs-AFLABS-URNIK:rezervacija:12152
ATTENDEE:Production technologies (PAP-3)
CATEGORIES:Reservation
COLOR:royalblue
DESCRIPTION:Predmeti: Heat treatment planning (NTOP)\nLetniki: Production 
 technologies (PAP-3)\nIzvajalci: Roman Šturm\nProstori: Lecture hall IV/4
LOCATION:Lecture hall IV/4
ORGANIZER:Roman Šturm
X-WR-TIMEZONE:Europe/Ljubljana
END:VEVENT
BEGIN:VEVENT
SUMMARY:Izpit: Načrtovanje toplotne obdelave
DTSTART;TZID=Europe/Ljubljana:20260824T080000
DTEND;TZID=Europe/Ljubljana:20260824T100000
DTSTAMP:20260420T063045Z
UID:fs-AFLABS-URNIK:rezervacija:12153
CATEGORIES:Reservation
COLOR:royalblue
DESCRIPTION:Predmeti: \nLetniki: \nIzvajalci: Roman Šturm\nProstori: Lect
 ure hall IV/4
LOCATION:Lecture hall IV/4
ORGANIZER:Roman Šturm
X-WR-TIMEZONE:Europe/Ljubljana
END:VEVENT
BEGIN:VEVENT
SUMMARY:Izpit: Heat Treatment
DTSTART;TZID=Europe/Ljubljana:20260827T100000
DTEND;TZID=Europe/Ljubljana:20260827T120000
DTSTAMP:20260420T063045Z
UID:fs-AFLABS-URNIK:rezervacija:12337
ATTENDEE:Erasmus (Erasmus)
CATEGORIES:Reservation
COLOR:royalblue
DESCRIPTION:Predmeti: Heat Treatment (HTME)\nLetniki: Erasmus (Erasmus)\nI
 zvajalci: Roman Šturm\nProstori: Lecture hall V/8
LOCATION:Lecture hall V/8
ORGANIZER:Roman Šturm
X-WR-TIMEZONE:Europe/Ljubljana
END:VEVENT
BEGIN:VEVENT
SUMMARY:Izpit: Toplotna obdelava
DTSTART;TZID=Europe/Ljubljana:20260827T100000
DTEND;TZID=Europe/Ljubljana:20260827T120000
DTSTAMP:20260420T063045Z
UID:fs-AFLABS-URNIK:rezervacija:12338
ATTENDEE:Production engineering (MAG-1)
CATEGORIES:Reservation
COLOR:royalblue
DESCRIPTION:Predmeti: Heat treatment (TPOM)\nLetniki: Production engineeri
 ng (MAG-1)\nIzvajalci: Roman Šturm\nProstori: Lecture hall V/8
LOCATION:Lecture hall V/8
ORGANIZER:Roman Šturm
X-WR-TIMEZONE:Europe/Ljubljana
END:VEVENT
BEGIN:VEVENT
SUMMARY:Izpit: Toplotna obdelava
DTSTART;TZID=Europe/Ljubljana:20260827T100000
DTEND;TZID=Europe/Ljubljana:20260827T120000
DTSTAMP:20260420T063045Z
UID:fs-AFLABS-URNIK:rezervacija:12339
ATTENDEE:Production engineering (MAG-1)
CATEGORIES:Reservation
COLOR:royalblue
DESCRIPTION:Predmeti: Heat treatment (TPOM)\nLetniki: Production engineeri
 ng (MAG-1)\nIzvajalci: Roman Šturm\nProstori: Lecture hall V/8
LOCATION:Lecture hall V/8
ORGANIZER:Roman Šturm
X-WR-TIMEZONE:Europe/Ljubljana
END:VEVENT
END:VCALENDAR
