BEGIN:VCALENDAR
VERSION:2.0
PRODID:-//AFLabs urnik izvoz - fs//aflabs.si//SI
NAME:UL FS Urnik
X-WR-CALNAME:UL FS Urnik
DTSTAMP:20260421T020616Z
REFRESH-INTERVAL:PT1H
SOURCE:https://urnik.fs.uni-lj.si/en/teacher/882/?day=2024-01-22&export=1
URL:https://urnik.fs.uni-lj.si/en/teacher/882/?day=2024-01-22&export=1
X-PUBLISHED-TTL:PT1H
X-WR-TIMEZONE:Europe/Ljubljana
BEGIN:VTIMEZONE
TZID:Europe/Ljubljana
BEGIN:DAYLIGHT
DTSTART:20260329T020000
RDATE:20260329T020000
RDATE:20270328T020000
TZNAME:CEST
TZOFFSETFROM:+0100
TZOFFSETTO:+0200
END:DAYLIGHT
BEGIN:STANDARD
DTSTART:20261025T030000
RDATE:20261025T030000
RDATE:20271031T030000
TZNAME:CET
TZOFFSETFROM:+0200
TZOFFSETTO:+0100
END:STANDARD
END:VTIMEZONE
BEGIN:VEVENT
SUMMARY:Refrigeration and heat pumps - PAP (HTTP)\, Lecture exercises (VP)
DTSTART;TZID=Europe/Ljubljana:20240221T093000
DTEND;TZID=Europe/Ljubljana:20240221T113000
DTSTAMP:20260421T020616Z
UID:fs-AFLABS-URNIK:srecanje:3668-2024-02-21 09:30:00+01:00
DESCRIPTION:Predmet: Refrigeration and heat pumps - PAP (HTTP)\, Lecture e
 xercises (VP)\nLetniki: Process engineering (PAP-2)\nIzvajalci: Luka Lorbe
 k\, Urban Tomc\nProstor: Lecture hall III/3B
END:VEVENT
BEGIN:VEVENT
SUMMARY:Refrigeration and heat pumps - MAG (HTTM)\, Lecture exercises (VP)
 \, [S1]
DTSTART;TZID=Europe/Ljubljana:20240222T100000
DTEND;TZID=Europe/Ljubljana:20240222T120000
DTSTAMP:20260421T020616Z
UID:fs-AFLABS-URNIK:srecanje:3665-2024-02-22 10:00:00+01:00
DESCRIPTION:Predmet: Refrigeration and heat pumps - MAG (HTTM)\, Lecture e
 xercises (VP)\, [S1]\nLetniki: Process engineering (MAG-1)\nIzvajalci: Urb
 an Tomc\nProstor: Lecture hall III/4
END:VEVENT
BEGIN:VEVENT
SUMMARY:Refrigeration and heat pumps - MAG (HTTM)\, Lecture exercises (VP)
 \, [S2]
DTSTART;TZID=Europe/Ljubljana:20240222T120000
DTEND;TZID=Europe/Ljubljana:20240222T140000
DTSTAMP:20260421T020616Z
UID:fs-AFLABS-URNIK:srecanje:3666-2024-02-22 12:00:00+01:00
DESCRIPTION:Predmet: Refrigeration and heat pumps - MAG (HTTM)\, Lecture e
 xercises (VP)\, [S2]\nLetniki: Process engineering (MAG-1)\nIzvajalci: Urb
 an Tomc\nProstor: Lecture hall III/4
END:VEVENT
BEGIN:VEVENT
SUMMARY:Refrigeration and Heat Pumps - MAG (RHPE)\, Lecture exercises (VP)
DTSTART;TZID=Europe/Ljubljana:20240222T080000
DTEND;TZID=Europe/Ljubljana:20240222T100000
DTSTAMP:20260421T020616Z
UID:fs-AFLABS-URNIK:srecanje:6127-2024-02-22 08:00:00+01:00
DESCRIPTION:Predmet: Refrigeration and Heat Pumps - MAG (RHPE)\, Lecture e
 xercises (VP)\nLetniki: Erasmus (Erasmus)\nIzvajalci: Luka Lorbek\, Urban 
 Tomc\nProstor: Lecture hall II/3A
END:VEVENT
END:VCALENDAR
