BEGIN:VCALENDAR
VERSION:2.0
PRODID:-//AFLabs urnik izvoz - fs//aflabs.si//SI
NAME:UL FS Urnik
X-WR-CALNAME:UL FS Urnik
DTSTAMP:20260419T202418Z
REFRESH-INTERVAL:PT1H
SOURCE:https://urnik.fs.uni-lj.si/en/teacher/882/?day=2024-07-01&export=1
URL:https://urnik.fs.uni-lj.si/en/teacher/882/?day=2024-07-01&export=1
X-PUBLISHED-TTL:PT1H
X-WR-TIMEZONE:Europe/Ljubljana
BEGIN:VTIMEZONE
TZID:Europe/Ljubljana
BEGIN:DAYLIGHT
DTSTART:20260329T020000
RDATE:20260329T020000
RDATE:20270328T020000
TZNAME:CEST
TZOFFSETFROM:+0100
TZOFFSETTO:+0200
END:DAYLIGHT
BEGIN:STANDARD
DTSTART:20261025T030000
RDATE:20261025T030000
RDATE:20271031T030000
TZNAME:CET
TZOFFSETFROM:+0200
TZOFFSETTO:+0100
END:STANDARD
END:VTIMEZONE
BEGIN:VEVENT
SUMMARY:Refrigeration and heat pumps - MAG (HTTM)\, Laboratory excercises 
 (VL)\, [S5]
DTSTART;TZID=Europe/Ljubljana:20240528T100000
DTEND;TZID=Europe/Ljubljana:20240528T120000
DTSTAMP:20260419T202418Z
UID:fs-AFLABS-URNIK:srecanje:8974-2024-05-28 10:00:00+02:00
DESCRIPTION:Predmet: Refrigeration and heat pumps - MAG (HTTM)\, Laborator
 y excercises (VL)\, [S5]\nLetniki: Process engineering (MAG-1)\nIzvajalci:
  Luka Lorbek\, Simon Nosan\, Urban Tomc\, Boris Vidrih\nProstor: Laborator
 iy LAHDE K-1A-I
END:VEVENT
BEGIN:VEVENT
SUMMARY:Refrigeration and heat pumps - MAG (HTTM)\, Laboratory excercises 
 (VL)\, [S6]
DTSTART;TZID=Europe/Ljubljana:20240528T120000
DTEND;TZID=Europe/Ljubljana:20240528T140000
DTSTAMP:20260419T202418Z
UID:fs-AFLABS-URNIK:srecanje:8975-2024-05-28 12:00:00+02:00
DESCRIPTION:Predmet: Refrigeration and heat pumps - MAG (HTTM)\, Laborator
 y excercises (VL)\, [S6]\nLetniki: Process engineering (MAG-1)\nIzvajalci:
  Luka Lorbek\, Simon Nosan\, Urban Tomc\, Boris Vidrih\nProstor: Laborator
 iy LAHDE K-1A-I
END:VEVENT
BEGIN:VEVENT
SUMMARY:Refrigeration and heat pumps - MAG (HTTM)\, Laboratory excercises 
 (VL)\, [S7]
DTSTART;TZID=Europe/Ljubljana:20240528T140000
DTEND;TZID=Europe/Ljubljana:20240528T160000
DTSTAMP:20260419T202418Z
UID:fs-AFLABS-URNIK:srecanje:8976-2024-05-28 14:00:00+02:00
DESCRIPTION:Predmet: Refrigeration and heat pumps - MAG (HTTM)\, Laborator
 y excercises (VL)\, [S7]\nLetniki: Process engineering (MAG-1)\nIzvajalci:
  Luka Lorbek\, Simon Nosan\, Urban Tomc\, Boris Vidrih\nProstor: Laborator
 iy LAHDE K-1A-I
END:VEVENT
BEGIN:VEVENT
SUMMARY:Refrigeration and heat pumps - PAP (HTTP)\, Laboratory excercises 
 (VL)\, [S1]
DTSTART;TZID=Europe/Ljubljana:20240529T093000
DTEND;TZID=Europe/Ljubljana:20240529T113000
DTSTAMP:20260419T202418Z
UID:fs-AFLABS-URNIK:srecanje:9173-2024-05-29 09:30:00+02:00
DESCRIPTION:Predmet: Refrigeration and heat pumps - PAP (HTTP)\, Laborator
 y excercises (VL)\, [S1]\nLetniki: Process engineering (PAP-2)\nIzvajalci:
  Luka Lorbek\, Urban Tomc\nProstor: Laboratoriy LAHDE K-1A-I
END:VEVENT
BEGIN:VEVENT
SUMMARY:Refrigeration and heat pumps - PAP (HTTP)\, Laboratory excercises 
 (VL)\, [S2]
DTSTART;TZID=Europe/Ljubljana:20240529T153000
DTEND;TZID=Europe/Ljubljana:20240529T173000
DTSTAMP:20260419T202418Z
UID:fs-AFLABS-URNIK:srecanje:9174-2024-05-29 15:30:00+02:00
DESCRIPTION:Predmet: Refrigeration and heat pumps - PAP (HTTP)\, Laborator
 y excercises (VL)\, [S2]\nLetniki: Process engineering (PAP-2)\nIzvajalci:
  Luka Lorbek\, Urban Tomc\nProstor: Laboratoriy LAHDE K-1A-I
END:VEVENT
BEGIN:VEVENT
SUMMARY:Refrigeration and heat pumps - MAG (HTTM)\, Laboratory excercises 
 (VL)\, [S3]
DTSTART;TZID=Europe/Ljubljana:20240530T080000
DTEND;TZID=Europe/Ljubljana:20240530T100000
DTSTAMP:20260419T202418Z
UID:fs-AFLABS-URNIK:srecanje:8977-2024-05-30 08:00:00+02:00
DESCRIPTION:Predmet: Refrigeration and heat pumps - MAG (HTTM)\, Laborator
 y excercises (VL)\, [S3]\nLetniki: Process engineering (MAG-1)\nIzvajalci:
  Luka Lorbek\, Simon Nosan\, Urban Tomc\, Boris Vidrih\nProstor: Laborator
 iy LAHDE K-1A-I
END:VEVENT
BEGIN:VEVENT
SUMMARY:Refrigeration and heat pumps - MAG (HTTM)\, Laboratory excercises 
 (VL)\, [S1]
DTSTART;TZID=Europe/Ljubljana:20240530T100000
DTEND;TZID=Europe/Ljubljana:20240530T120000
DTSTAMP:20260419T202418Z
UID:fs-AFLABS-URNIK:srecanje:8978-2024-05-30 10:00:00+02:00
DESCRIPTION:Predmet: Refrigeration and heat pumps - MAG (HTTM)\, Laborator
 y excercises (VL)\, [S1]\nLetniki: Process engineering (MAG-1)\nIzvajalci:
  Luka Lorbek\, Simon Nosan\, Urban Tomc\, Boris Vidrih\nProstor: Laborator
 iy LAHDE K-1A-I
END:VEVENT
BEGIN:VEVENT
SUMMARY:Refrigeration and heat pumps - MAG (HTTM)\, Laboratory excercises 
 (VL)\, [S2]
DTSTART;TZID=Europe/Ljubljana:20240530T120000
DTEND;TZID=Europe/Ljubljana:20240530T140000
DTSTAMP:20260419T202418Z
UID:fs-AFLABS-URNIK:srecanje:8979-2024-05-30 12:00:00+02:00
DESCRIPTION:Predmet: Refrigeration and heat pumps - MAG (HTTM)\, Laborator
 y excercises (VL)\, [S2]\nLetniki: Process engineering (MAG-1)\nIzvajalci:
  Luka Lorbek\, Simon Nosan\, Urban Tomc\, Boris Vidrih\nProstor: Laborator
 iy LAHDE K-1A-I
END:VEVENT
BEGIN:VEVENT
SUMMARY:Refrigeration and heat pumps - MAG (HTTM)\, Laboratory excercises 
 (VL)\, [S4]
DTSTART;TZID=Europe/Ljubljana:20240530T160000
DTEND;TZID=Europe/Ljubljana:20240530T180000
DTSTAMP:20260419T202418Z
UID:fs-AFLABS-URNIK:srecanje:8980-2024-05-30 16:00:00+02:00
DESCRIPTION:Predmet: Refrigeration and heat pumps - MAG (HTTM)\, Laborator
 y excercises (VL)\, [S4]\nLetniki: Process engineering (MAG-1)\nIzvajalci:
  Luka Lorbek\, Simon Nosan\, Urban Tomc\, Boris Vidrih\nProstor: Laborator
 iy LAHDE K-1A-I
END:VEVENT
BEGIN:VEVENT
SUMMARY:Refrigeration and heat pumps - PAP (HTTP)\, Laboratory excercises 
 (VL)\, [S3]
DTSTART;TZID=Europe/Ljubljana:20240531T073000
DTEND;TZID=Europe/Ljubljana:20240531T093000
DTSTAMP:20260419T202418Z
UID:fs-AFLABS-URNIK:srecanje:9177-2024-05-31 07:30:00+02:00
DESCRIPTION:Predmet: Refrigeration and heat pumps - PAP (HTTP)\, Laborator
 y excercises (VL)\, [S3]\nLetniki: Process engineering (PAP-2)\nIzvajalci:
  Luka Lorbek\, Urban Tomc\nProstor: Laboratoriy LAHDE K-1A-I
END:VEVENT
BEGIN:VEVENT
SUMMARY:Refrigeration and heat pumps - PAP (HTTP)\, Laboratory excercises 
 (VL)\, [S4]
DTSTART;TZID=Europe/Ljubljana:20240531T093000
DTEND;TZID=Europe/Ljubljana:20240531T113000
DTSTAMP:20260419T202418Z
UID:fs-AFLABS-URNIK:srecanje:9178-2024-05-31 09:30:00+02:00
DESCRIPTION:Predmet: Refrigeration and heat pumps - PAP (HTTP)\, Laborator
 y excercises (VL)\, [S4]\nLetniki: Process engineering (PAP-2)\nIzvajalci:
  Luka Lorbek\, Urban Tomc\nProstor: Laboratoriy LAHDE K-1A-I
END:VEVENT
BEGIN:VEVENT
SUMMARY:Refrigeration and heat pumps - PAP (HTTP)\, Laboratory excercises 
 (VL)\, [S5]
DTSTART;TZID=Europe/Ljubljana:20240531T113000
DTEND;TZID=Europe/Ljubljana:20240531T133000
DTSTAMP:20260419T202418Z
UID:fs-AFLABS-URNIK:srecanje:9179-2024-05-31 11:30:00+02:00
DESCRIPTION:Predmet: Refrigeration and heat pumps - PAP (HTTP)\, Laborator
 y excercises (VL)\, [S5]\nLetniki: Process engineering (PAP-2)\nIzvajalci:
  Luka Lorbek\, Urban Tomc\nProstor: Laboratoriy LAHDE K-1A-I
END:VEVENT
BEGIN:VEVENT
SUMMARY:Refrigeration and heat pumps - PAP (HTTP)\, Laboratory excercises 
 (VL)\, [S6]
DTSTART;TZID=Europe/Ljubljana:20240531T133000
DTEND;TZID=Europe/Ljubljana:20240531T153000
DTSTAMP:20260419T202418Z
UID:fs-AFLABS-URNIK:srecanje:9180-2024-05-31 13:30:00+02:00
DESCRIPTION:Predmet: Refrigeration and heat pumps - PAP (HTTP)\, Laborator
 y excercises (VL)\, [S6]\nLetniki: Process engineering (PAP-2)\nIzvajalci:
  Luka Lorbek\, Urban Tomc\nProstor: Laboratoriy LAHDE K-1A-I
END:VEVENT
BEGIN:VEVENT
SUMMARY:Refrigeration and Heat Pumps - MAG (RHPE)\, Laboratory excercises 
 (VL)
DTSTART;TZID=Europe/Ljubljana:20240531T153000
DTEND;TZID=Europe/Ljubljana:20240531T173000
DTSTAMP:20260419T202418Z
UID:fs-AFLABS-URNIK:srecanje:9243-2024-05-31 15:30:00+02:00
DESCRIPTION:Predmet: Refrigeration and Heat Pumps - MAG (RHPE)\, Laborator
 y excercises (VL)\nLetniki: Erasmus (Erasmus)\nIzvajalci: Urban Tomc\nPros
 tor: Laboratoriy LAHDE K-1A-I
END:VEVENT
BEGIN:VEVENT
SUMMARY:HTTP - seminarji
DTSTART;TZID=Europe/Ljubljana:20240529T093000
DTEND;TZID=Europe/Ljubljana:20240529T113000
DTSTAMP:20260419T202418Z
UID:fs-AFLABS-URNIK:rezervacija:3434
ATTENDEE:Process engineering (PAP-2)
CATEGORIES:Reservation
COLOR:royalblue
DESCRIPTION:Predmeti: Refrigeration and heat pumps - PAP (HTTP)\nLetniki: 
 Process engineering (PAP-2)\nIzvajalci: Urban Tomc\nProstori: Lecture hall
  II/3A
LOCATION:Lecture hall II/3A
ORGANIZER:Urban Tomc
X-WR-TIMEZONE:Europe/Ljubljana
END:VEVENT
BEGIN:VEVENT
SUMMARY:HTTP - nadomeščanje predavanj
DTSTART;TZID=Europe/Ljubljana:20240528T153000
DTEND;TZID=Europe/Ljubljana:20240528T173000
DTSTAMP:20260419T202418Z
UID:fs-AFLABS-URNIK:rezervacija:3509
ATTENDEE:Process engineering (PAP-2)
CATEGORIES:Reservation
COLOR:royalblue
DESCRIPTION:Predmeti: Refrigeration and heat pumps - PAP (HTTP)\nLetniki: 
 Process engineering (PAP-2)\nIzvajalci: Urban Tomc\nProstori: Lecture hall
  IV/3A
LOCATION:Lecture hall IV/3A
ORGANIZER:Urban Tomc
X-WR-TIMEZONE:Europe/Ljubljana
END:VEVENT
BEGIN:VEVENT
SUMMARY:HTTM in HTTP zagovori
DTSTART;TZID=Europe/Ljubljana:20240620T180000
DTEND;TZID=Europe/Ljubljana:20240620T190000
DTSTAMP:20260419T202418Z
UID:fs-AFLABS-URNIK:rezervacija:3544
ATTENDEE:Process engineering (MAG-1)
ATTENDEE:Process engineering (PAP-2)
CATEGORIES:Reservation
COLOR:royalblue
DESCRIPTION:Predmeti: Refrigeration and heat pumps - PAP (HTTP)\, Refriger
 ation and heat pumps - MAG (HTTM)\nLetniki: Process engineering (MAG-1)\, 
 Process engineering (PAP-2)\nIzvajalci: Urban Tomc\nProstori: Lecture hall
  V/8
LOCATION:Lecture hall V/8
ORGANIZER:Urban Tomc
X-WR-TIMEZONE:Europe/Ljubljana
END:VEVENT
BEGIN:VEVENT
SUMMARY:HTTP - seminarji in zagovori
DTSTART;TZID=Europe/Ljubljana:20240604T110000
DTEND;TZID=Europe/Ljubljana:20240604T140000
DTSTAMP:20260419T202418Z
UID:fs-AFLABS-URNIK:rezervacija:4790
ATTENDEE:Process engineering (PAP-2)
CATEGORIES:Reservation
COLOR:royalblue
DESCRIPTION:Predmeti: Refrigeration and heat pumps - PAP (HTTP)\nLetniki: 
 Process engineering (PAP-2)\nIzvajalci: Urban Tomc\nProstori: Lecture hall
  III/3B
LOCATION:Lecture hall III/3B
ORGANIZER:Urban Tomc
X-WR-TIMEZONE:Europe/Ljubljana
END:VEVENT
BEGIN:VEVENT
SUMMARY:HTTM - zagovori
DTSTART;TZID=Europe/Ljubljana:20240606T170000
DTEND;TZID=Europe/Ljubljana:20240606T180000
DTSTAMP:20260419T202418Z
UID:fs-AFLABS-URNIK:rezervacija:4899
ATTENDEE:Process engineering (MAG-1)
CATEGORIES:Reservation
COLOR:royalblue
DESCRIPTION:Predmeti: Refrigeration and heat pumps - MAG (HTTM)\nLetniki: 
 Process engineering (MAG-1)\nIzvajalci: Urban Tomc\nProstori: Lecture hall
  V/2
LOCATION:Lecture hall V/2
ORGANIZER:Urban Tomc
X-WR-TIMEZONE:Europe/Ljubljana
END:VEVENT
END:VCALENDAR
