BEGIN:VCALENDAR
VERSION:2.0
PRODID:-//AFLabs urnik izvoz - fs//aflabs.si//SI
NAME:UL FS Urnik
X-WR-CALNAME:UL FS Urnik
DTSTAMP:20260425T200029Z
REFRESH-INTERVAL:PT1H
SOURCE:https://urnik.fs.uni-lj.si/en/teacher/882/?day=2026-02-02&export=1
URL:https://urnik.fs.uni-lj.si/en/teacher/882/?day=2026-02-02&export=1
X-PUBLISHED-TTL:PT1H
X-WR-TIMEZONE:Europe/Ljubljana
BEGIN:VTIMEZONE
TZID:Europe/Ljubljana
BEGIN:DAYLIGHT
DTSTART:20260329T020000
RDATE:20260329T020000
RDATE:20270328T020000
TZNAME:CEST
TZOFFSETFROM:+0100
TZOFFSETTO:+0200
END:DAYLIGHT
BEGIN:STANDARD
DTSTART:20261025T030000
RDATE:20261025T030000
RDATE:20271031T030000
TZNAME:CET
TZOFFSETFROM:+0200
TZOFFSETTO:+0100
END:STANDARD
END:VTIMEZONE
BEGIN:VEVENT
SUMMARY:Refrigeration and heat pumps - PAP (HTTP)\, Lectures (P)
DTSTART;TZID=Europe/Ljubljana:20260217T133000
DTEND;TZID=Europe/Ljubljana:20260217T153000
DTSTAMP:20260425T200029Z
UID:fs-AFLABS-URNIK:srecanje:425-2026-02-17 13:30:00+01:00
DESCRIPTION:Predmet: Refrigeration and heat pumps - PAP (HTTP)\, Lectures 
 (P)\nLetniki: Process engineering (PAP-2)\nIzvajalci: Andrej Kitanovski\, 
 Urban Tomc\nProstor: Lecture hall IV/3A
END:VEVENT
BEGIN:VEVENT
SUMMARY:Refrigeration and heat pumps - PAP (HTTP)\, Lectures (P)
DTSTART;TZID=Europe/Ljubljana:20260224T133000
DTEND;TZID=Europe/Ljubljana:20260224T153000
DTSTAMP:20260425T200029Z
UID:fs-AFLABS-URNIK:srecanje:425-2026-02-24 13:30:00+01:00
DESCRIPTION:Predmet: Refrigeration and heat pumps - PAP (HTTP)\, Lectures 
 (P)\nLetniki: Process engineering (PAP-2)\nIzvajalci: Andrej Kitanovski\, 
 Urban Tomc\nProstor: Lecture hall IV/3A
END:VEVENT
BEGIN:VEVENT
SUMMARY:Refrigeration and heat pumps - PAP (HTTP)\, Lectures (P)
DTSTART;TZID=Europe/Ljubljana:20260303T133000
DTEND;TZID=Europe/Ljubljana:20260303T153000
DTSTAMP:20260425T200029Z
UID:fs-AFLABS-URNIK:srecanje:425-2026-03-03 13:30:00+01:00
DESCRIPTION:Predmet: Refrigeration and heat pumps - PAP (HTTP)\, Lectures 
 (P)\nLetniki: Process engineering (PAP-2)\nIzvajalci: Andrej Kitanovski\, 
 Urban Tomc\nProstor: Lecture hall IV/3A
END:VEVENT
BEGIN:VEVENT
SUMMARY:Refrigeration and heat pumps - PAP (HTTP)\, Lecture exercises (VP)
 \, [S1]
DTSTART;TZID=Europe/Ljubljana:20260218T093000
DTEND;TZID=Europe/Ljubljana:20260218T113000
DTSTAMP:20260425T200029Z
UID:fs-AFLABS-URNIK:srecanje:16438-2026-02-18 09:30:00+01:00
DESCRIPTION:Predmet: Refrigeration and heat pumps - PAP (HTTP)\, Lecture e
 xercises (VP)\, [S1]\nLetniki: Process engineering (PAP-2)\nIzvajalci: Urb
 an Tomc\nProstor: Lecture hall III/3B
END:VEVENT
BEGIN:VEVENT
SUMMARY:Refrigeration and heat pumps - PAP (HTTP)\, Lecture exercises (VP)
 \, [S1]
DTSTART;TZID=Europe/Ljubljana:20260304T093000
DTEND;TZID=Europe/Ljubljana:20260304T113000
DTSTAMP:20260425T200029Z
UID:fs-AFLABS-URNIK:srecanje:16438-2026-03-04 09:30:00+01:00
DESCRIPTION:Predmet: Refrigeration and heat pumps - PAP (HTTP)\, Lecture e
 xercises (VP)\, [S1]\nLetniki: Process engineering (PAP-2)\nIzvajalci: Urb
 an Tomc\nProstor: Lecture hall III/3B
END:VEVENT
BEGIN:VEVENT
SUMMARY:Refrigeration and heat pumps - MAG (HTTM)\, Lecture exercises (VP)
 \, [S1]
DTSTART;TZID=Europe/Ljubljana:20260219T100000
DTEND;TZID=Europe/Ljubljana:20260219T120000
DTSTAMP:20260425T200029Z
UID:fs-AFLABS-URNIK:srecanje:9506-2026-02-19 10:00:00+01:00
DESCRIPTION:Predmet: Refrigeration and heat pumps - MAG (HTTM)\, Lecture e
 xercises (VP)\, [S1]\nLetniki: Process engineering (MAG-1)\nIzvajalci: Kat
 ja Klinar\, Urban Tomc\nProstor: Lecture hall III/4
END:VEVENT
BEGIN:VEVENT
SUMMARY:Refrigeration and heat pumps - MAG (HTTM)\, Lecture exercises (VP)
 \, [S1]
DTSTART;TZID=Europe/Ljubljana:20260305T100000
DTEND;TZID=Europe/Ljubljana:20260305T120000
DTSTAMP:20260425T200029Z
UID:fs-AFLABS-URNIK:srecanje:9506-2026-03-05 10:00:00+01:00
DESCRIPTION:Predmet: Refrigeration and heat pumps - MAG (HTTM)\, Lecture e
 xercises (VP)\, [S1]\nLetniki: Process engineering (MAG-1)\nIzvajalci: Kat
 ja Klinar\, Urban Tomc\nProstor: Lecture hall III/4
END:VEVENT
BEGIN:VEVENT
SUMMARY:Refrigeration and heat pumps - MAG (HTTM)\, Lecture exercises (VP)
 \, [S2]
DTSTART;TZID=Europe/Ljubljana:20260219T120000
DTEND;TZID=Europe/Ljubljana:20260219T140000
DTSTAMP:20260425T200029Z
UID:fs-AFLABS-URNIK:srecanje:16401-2026-02-19 12:00:00+01:00
DESCRIPTION:Predmet: Refrigeration and heat pumps - MAG (HTTM)\, Lecture e
 xercises (VP)\, [S2]\nLetniki: Process engineering (MAG-1)\nIzvajalci: Kat
 ja Klinar\, Urban Tomc\nProstor: Lecture hall II/3A
END:VEVENT
BEGIN:VEVENT
SUMMARY:Refrigeration and heat pumps - MAG (HTTM)\, Lecture exercises (VP)
 \, [S2]
DTSTART;TZID=Europe/Ljubljana:20260305T120000
DTEND;TZID=Europe/Ljubljana:20260305T140000
DTSTAMP:20260425T200029Z
UID:fs-AFLABS-URNIK:srecanje:16401-2026-03-05 12:00:00+01:00
DESCRIPTION:Predmet: Refrigeration and heat pumps - MAG (HTTM)\, Lecture e
 xercises (VP)\, [S2]\nLetniki: Process engineering (MAG-1)\nIzvajalci: Kat
 ja Klinar\, Urban Tomc\nProstor: Lecture hall II/3A
END:VEVENT
BEGIN:VEVENT
SUMMARY:Refrigeration and Heat Pumps - MAG (RHPE)\, Lecture exercises (VP)
 \, [S1]
DTSTART;TZID=Europe/Ljubljana:20260220T140000
DTEND;TZID=Europe/Ljubljana:20260220T160000
DTSTAMP:20260425T200029Z
UID:fs-AFLABS-URNIK:srecanje:17667-2026-02-20 14:00:00+01:00
DESCRIPTION:Predmet: Refrigeration and Heat Pumps - MAG (RHPE)\, Lecture e
 xercises (VP)\, [S1]\nLetniki: Erasmus (Erasmus)\nIzvajalci: Katja Klinar\
 , Urban Tomc\nProstor: Lecture hall IV/3B
END:VEVENT
BEGIN:VEVENT
SUMMARY:Refrigeration and Heat Pumps - MAG (RHPE)\, Lecture exercises (VP)
 \, [S1]
DTSTART;TZID=Europe/Ljubljana:20260306T140000
DTEND;TZID=Europe/Ljubljana:20260306T160000
DTSTAMP:20260425T200029Z
UID:fs-AFLABS-URNIK:srecanje:17667-2026-03-06 14:00:00+01:00
DESCRIPTION:Predmet: Refrigeration and Heat Pumps - MAG (RHPE)\, Lecture e
 xercises (VP)\, [S1]\nLetniki: Erasmus (Erasmus)\nIzvajalci: Katja Klinar\
 , Urban Tomc\nProstor: Lecture hall IV/3B
END:VEVENT
BEGIN:VEVENT
SUMMARY:Refrigeration and heat pumps - MAG (HTTM)\, Laboratory excercises 
 (VL)\, [S1]
DTSTART;TZID=Europe/Ljubljana:20260224T100000
DTEND;TZID=Europe/Ljubljana:20260224T120000
DTSTAMP:20260425T200029Z
UID:fs-AFLABS-URNIK:srecanje:17175-2026-02-24 10:00:00+01:00
DESCRIPTION:Predmet: Refrigeration and heat pumps - MAG (HTTM)\, Laborator
 y excercises (VL)\, [S1]\nLetniki: Process engineering (MAG-1)\nIzvajalci:
  Katja Klinar\, Urban Tomc\nProstor: Laboratory LAHDE K-1A-II
END:VEVENT
BEGIN:VEVENT
SUMMARY:Refrigeration and heat pumps - MAG (HTTM)\, Laboratory excercises 
 (VL)\, [S2]
DTSTART;TZID=Europe/Ljubljana:20260224T120000
DTEND;TZID=Europe/Ljubljana:20260224T140000
DTSTAMP:20260425T200029Z
UID:fs-AFLABS-URNIK:srecanje:17177-2026-02-24 12:00:00+01:00
DESCRIPTION:Predmet: Refrigeration and heat pumps - MAG (HTTM)\, Laborator
 y excercises (VL)\, [S2]\nLetniki: Process engineering (MAG-1)\nIzvajalci:
  Katja Klinar\, Urban Tomc\nProstor: Laboratory LAHDE K-1A-II
END:VEVENT
BEGIN:VEVENT
SUMMARY:Refrigeration and heat pumps - MAG (HTTM)\, Laboratory excercises 
 (VL)\, [S3]
DTSTART;TZID=Europe/Ljubljana:20260224T140000
DTEND;TZID=Europe/Ljubljana:20260224T160000
DTSTAMP:20260425T200029Z
UID:fs-AFLABS-URNIK:srecanje:17179-2026-02-24 14:00:00+01:00
DESCRIPTION:Predmet: Refrigeration and heat pumps - MAG (HTTM)\, Laborator
 y excercises (VL)\, [S3]\nLetniki: Process engineering (MAG-1)\nIzvajalci:
  Katja Klinar\, Urban Tomc\nProstor: Laboratory LAHDE K-1A-II
END:VEVENT
BEGIN:VEVENT
SUMMARY:Refrigeration and heat pumps - PAP (HTTP)\, Laboratory excercises 
 (VL)\, [S1]
DTSTART;TZID=Europe/Ljubljana:20260225T093000
DTEND;TZID=Europe/Ljubljana:20260225T113000
DTSTAMP:20260425T200029Z
UID:fs-AFLABS-URNIK:srecanje:17059-2026-02-25 09:30:00+01:00
DESCRIPTION:Predmet: Refrigeration and heat pumps - PAP (HTTP)\, Laborator
 y excercises (VL)\, [S1]\nLetniki: Process engineering (PAP-2)\nIzvajalci:
  Urban Tomc\, Katja Vozel\nProstor: Laboratory LAHDE K-1A-II
END:VEVENT
BEGIN:VEVENT
SUMMARY:Refrigeration and heat pumps - PAP (HTTP)\, Laboratory excercises 
 (VL)\, [S2]
DTSTART;TZID=Europe/Ljubljana:20260225T133000
DTEND;TZID=Europe/Ljubljana:20260225T153000
DTSTAMP:20260425T200029Z
UID:fs-AFLABS-URNIK:srecanje:17060-2026-02-25 13:30:00+01:00
DESCRIPTION:Predmet: Refrigeration and heat pumps - PAP (HTTP)\, Laborator
 y excercises (VL)\, [S2]\nLetniki: Process engineering (PAP-2)\nIzvajalci:
  Urban Tomc\, Katja Vozel\nProstor: Laboratory LAHDE K-1A-II
END:VEVENT
BEGIN:VEVENT
SUMMARY:Refrigeration and heat pumps - MAG (HTTM)\, Laboratory excercises 
 (VL)\, [S4]
DTSTART;TZID=Europe/Ljubljana:20260226T080000
DTEND;TZID=Europe/Ljubljana:20260226T100000
DTSTAMP:20260425T200029Z
UID:fs-AFLABS-URNIK:srecanje:17180-2026-02-26 08:00:00+01:00
DESCRIPTION:Predmet: Refrigeration and heat pumps - MAG (HTTM)\, Laborator
 y excercises (VL)\, [S4]\nLetniki: Process engineering (MAG-1)\nIzvajalci:
  Katja Klinar\, Urban Tomc\nProstor: Laboratory LAHDE K-1A-II
END:VEVENT
BEGIN:VEVENT
SUMMARY:Refrigeration and heat pumps - MAG (HTTM)\, Laboratory excercises 
 (VL)\, [S5]
DTSTART;TZID=Europe/Ljubljana:20260226T100000
DTEND;TZID=Europe/Ljubljana:20260226T120000
DTSTAMP:20260425T200029Z
UID:fs-AFLABS-URNIK:srecanje:17181-2026-02-26 10:00:00+01:00
DESCRIPTION:Predmet: Refrigeration and heat pumps - MAG (HTTM)\, Laborator
 y excercises (VL)\, [S5]\nLetniki: Process engineering (MAG-1)\nIzvajalci:
  Katja Klinar\, Urban Tomc\nProstor: Laboratory LAHDE K-1A-II
END:VEVENT
BEGIN:VEVENT
SUMMARY:Refrigeration and heat pumps - MAG (HTTM)\, Laboratory excercises 
 (VL)\, [S6]
DTSTART;TZID=Europe/Ljubljana:20260226T120000
DTEND;TZID=Europe/Ljubljana:20260226T140000
DTSTAMP:20260425T200029Z
UID:fs-AFLABS-URNIK:srecanje:17182-2026-02-26 12:00:00+01:00
DESCRIPTION:Predmet: Refrigeration and heat pumps - MAG (HTTM)\, Laborator
 y excercises (VL)\, [S6]\nLetniki: Process engineering (MAG-1)\nIzvajalci:
  Katja Klinar\, Urban Tomc\nProstor: Laboratory LAHDE K-1A-II
END:VEVENT
BEGIN:VEVENT
SUMMARY:Refrigeration and heat pumps - MAG (HTTM)\, Laboratory excercises 
 (VL)\, [S7]
DTSTART;TZID=Europe/Ljubljana:20260226T140000
DTEND;TZID=Europe/Ljubljana:20260226T160000
DTSTAMP:20260425T200029Z
UID:fs-AFLABS-URNIK:srecanje:17183-2026-02-26 14:00:00+01:00
DESCRIPTION:Predmet: Refrigeration and heat pumps - MAG (HTTM)\, Laborator
 y excercises (VL)\, [S7]\nLetniki: Process engineering (MAG-1)\nIzvajalci:
  Katja Klinar\, Urban Tomc\nProstor: Laboratory LAHDE K-1A-II
END:VEVENT
BEGIN:VEVENT
SUMMARY:Refrigeration and heat pumps - PAP (HTTP)\, Laboratory excercises 
 (VL)\, [S3]
DTSTART;TZID=Europe/Ljubljana:20260227T093000
DTEND;TZID=Europe/Ljubljana:20260227T113000
DTSTAMP:20260425T200029Z
UID:fs-AFLABS-URNIK:srecanje:17061-2026-02-27 09:30:00+01:00
DESCRIPTION:Predmet: Refrigeration and heat pumps - PAP (HTTP)\, Laborator
 y excercises (VL)\, [S3]\nLetniki: Process engineering (PAP-2)\nIzvajalci:
  Urban Tomc\, Katja Vozel\nProstor: Laboratory LAHDE K-1A-II
END:VEVENT
BEGIN:VEVENT
SUMMARY:Refrigeration and heat pumps - PAP (HTTP)\, Laboratory excercises 
 (VL)\, [S4]
DTSTART;TZID=Europe/Ljubljana:20260227T113000
DTEND;TZID=Europe/Ljubljana:20260227T133000
DTSTAMP:20260425T200029Z
UID:fs-AFLABS-URNIK:srecanje:17062-2026-02-27 11:30:00+01:00
DESCRIPTION:Predmet: Refrigeration and heat pumps - PAP (HTTP)\, Laborator
 y excercises (VL)\, [S4]\nLetniki: Process engineering (PAP-2)\nIzvajalci:
  Urban Tomc\, Katja Vozel\nProstor: Laboratory LAHDE K-1A-II
END:VEVENT
BEGIN:VEVENT
SUMMARY:Refrigeration and Heat Pumps - MAG (RHPE)\, Laboratory excercises 
 (VL)\, [S1]
DTSTART;TZID=Europe/Ljubljana:20260227T140000
DTEND;TZID=Europe/Ljubljana:20260227T160000
DTSTAMP:20260425T200029Z
UID:fs-AFLABS-URNIK:srecanje:17668-2026-02-27 14:00:00+01:00
DESCRIPTION:Predmet: Refrigeration and Heat Pumps - MAG (RHPE)\, Laborator
 y excercises (VL)\, [S1]\nLetniki: Erasmus (Erasmus)\nIzvajalci: Katja Kli
 nar\, Urban Tomc\nProstor: Laboratoriy LAHDE K-1A-I
END:VEVENT
BEGIN:VEVENT
SUMMARY:PTSP - vpogled izpitov
DTSTART;TZID=Europe/Ljubljana:20260129T103000
DTEND;TZID=Europe/Ljubljana:20260129T113000
DTSTAMP:20260425T200029Z
UID:fs-AFLABS-URNIK:rezervacija:13616
ATTENDEE:Aircraft design and maintenance (PAP-2)
ATTENDEE:Airline transport pilot (PAP-2)
ATTENDEE:Design of machines and devices (PAP-2)
ATTENDEE:Energy engineering (PAP-2)
ATTENDEE:Konstruiranje strojev in naprav (PAP-2)
ATTENDEE:Mechatronics (PAP-2)
ATTENDEE:Process engineering (PAP-2)
ATTENDEE:Production engineering (PAP-2)
ATTENDEE:Production technologies (PAP-2)
CATEGORIES:Reservation
COLOR:royalblue
DESCRIPTION:Predmeti: Heat and mass transfer (PTSP)\nLetniki: Aircraft des
 ign and maintenance (PAP-2)\, Airline transport pilot (PAP-2)\, Design of 
 machines and devices (PAP-2)\, Energy engineering (PAP-2)\, Mechatronics (
 PAP-2)\, Process engineering (PAP-2)\, Production engineering (PAP-2)\, Pr
 oduction technologies (PAP-2)\, Konstruiranje strojev in naprav (PAP-2)\nI
 zvajalci: Urban Tomc\nProstori: Lecture hall III/3A
LOCATION:Lecture hall III/3A
ORGANIZER:Urban Tomc
X-WR-TIMEZONE:Europe/Ljubljana
END:VEVENT
BEGIN:VEVENT
SUMMARY:sestanek EU projekti
DTSTART;TZID=Europe/Ljubljana:20260213T120000
DTEND;TZID=Europe/Ljubljana:20260213T130000
DTSTAMP:20260425T200029Z
UID:fs-AFLABS-URNIK:rezervacija:13683
CATEGORIES:Reservation
COLOR:royalblue
DESCRIPTION:Predmeti: \nLetniki: \nIzvajalci: Jernej Kovač\, Urban Tomc\n
 Prostori: Conference room
LOCATION:Conference room
ORGANIZER:Jernej Kovač, Urban Tomc
X-WR-TIMEZONE:Europe/Ljubljana
END:VEVENT
BEGIN:VEVENT
SUMMARY:PTSP - vpogled izpita
DTSTART;TZID=Europe/Ljubljana:20260213T130000
DTEND;TZID=Europe/Ljubljana:20260213T133000
DTSTAMP:20260425T200029Z
UID:fs-AFLABS-URNIK:rezervacija:13731
ATTENDEE:Aircraft design and maintenance (PAP-2)
ATTENDEE:Airline transport pilot (PAP-2)
ATTENDEE:Design of machines and devices (PAP-2)
ATTENDEE:Energy engineering (PAP-2)
ATTENDEE:Konstruiranje strojev in naprav (PAP-2)
ATTENDEE:Mechatronics (PAP-2)
ATTENDEE:Process engineering (PAP-2)
ATTENDEE:Production engineering (PAP-2)
ATTENDEE:Production technologies (PAP-2)
CATEGORIES:Reservation
COLOR:royalblue
DESCRIPTION:Predmeti: Heat and mass transfer (PTSP)\nLetniki: Aircraft des
 ign and maintenance (PAP-2)\, Airline transport pilot (PAP-2)\, Design of 
 machines and devices (PAP-2)\, Energy engineering (PAP-2)\, Mechatronics (
 PAP-2)\, Process engineering (PAP-2)\, Production engineering (PAP-2)\, Pr
 oduction technologies (PAP-2)\, Konstruiranje strojev in naprav (PAP-2)\nI
 zvajalci: Urban Tomc\nProstori: Lecture hall III/3A
LOCATION:Lecture hall III/3A
ORGANIZER:Urban Tomc
X-WR-TIMEZONE:Europe/Ljubljana
END:VEVENT
BEGIN:VEVENT
SUMMARY:lahde
DTSTART;TZID=Europe/Ljubljana:20260225T140000
DTEND;TZID=Europe/Ljubljana:20260225T150000
DTSTAMP:20260425T200029Z
UID:fs-AFLABS-URNIK:rezervacija:13949
CATEGORIES:Reservation
COLOR:royalblue
DESCRIPTION:Predmeti: \nLetniki: \nIzvajalci: Urban Tomc\nProstori: Confer
 ence room
LOCATION:Conference room
ORGANIZER:Urban Tomc
X-WR-TIMEZONE:Europe/Ljubljana
END:VEVENT
BEGIN:VEVENT
SUMMARY:Lahde
DTSTART;TZID=Europe/Ljubljana:20260306T130000
DTEND;TZID=Europe/Ljubljana:20260306T140000
DTSTAMP:20260425T200029Z
UID:fs-AFLABS-URNIK:rezervacija:13968
CATEGORIES:Reservation
COLOR:royalblue
DESCRIPTION:Predmeti: \nLetniki: \nIzvajalci: Urban Tomc\nProstori: Confer
 ence room
LOCATION:Conference room
ORGANIZER:Urban Tomc
X-WR-TIMEZONE:Europe/Ljubljana
END:VEVENT
BEGIN:VEVENT
SUMMARY:Lahde
DTSTART;TZID=Europe/Ljubljana:20260309T120000
DTEND;TZID=Europe/Ljubljana:20260309T130000
DTSTAMP:20260425T200029Z
UID:fs-AFLABS-URNIK:rezervacija:14014
CATEGORIES:Reservation
COLOR:royalblue
DESCRIPTION:Predmeti: \nLetniki: \nIzvajalci: Urban Tomc\nProstori: Confer
 ence room
LOCATION:Conference room
ORGANIZER:Urban Tomc
X-WR-TIMEZONE:Europe/Ljubljana
END:VEVENT
END:VCALENDAR
