BEGIN:VCALENDAR
VERSION:2.0
PRODID:-//AFLabs urnik izvoz - fs//aflabs.si//SI
NAME:UL FS Urnik
X-WR-CALNAME:UL FS Urnik
DTSTAMP:20260425T205129Z
REFRESH-INTERVAL:PT1H
SOURCE:https://urnik.fs.uni-lj.si/en/teacher/891/?day=2024-10-07&export=1
URL:https://urnik.fs.uni-lj.si/en/teacher/891/?day=2024-10-07&export=1
X-PUBLISHED-TTL:PT1H
X-WR-TIMEZONE:Europe/Ljubljana
BEGIN:VTIMEZONE
TZID:Europe/Ljubljana
BEGIN:DAYLIGHT
DTSTART:20260329T020000
RDATE:20260329T020000
RDATE:20270328T020000
TZNAME:CEST
TZOFFSETFROM:+0100
TZOFFSETTO:+0200
END:DAYLIGHT
BEGIN:STANDARD
DTSTART:20261025T030000
RDATE:20261025T030000
RDATE:20271031T030000
TZNAME:CET
TZOFFSETFROM:+0200
TZOFFSETTO:+0100
END:STANDARD
END:VTIMEZONE
BEGIN:VEVENT
SUMMARY:Heat exchangers (PRTM)\, Laboratory excercises (VL)\, [S2]
DTSTART;TZID=Europe/Ljubljana:20241115T100000
DTEND;TZID=Europe/Ljubljana:20241115T120000
DTSTAMP:20260425T205129Z
UID:fs-AFLABS-URNIK:srecanje:7200-2024-11-15 10:00:00+01:00
DESCRIPTION:Predmet: Heat exchangers (PRTM)\, Laboratory excercises (VL)\,
  [S2]\nLetniki: Process engineering (MAG-2)\nIzvajalci: Gregor Bobovnik\, 
 Samo Jereb\, Matic Može\, Andrej Svete\, Jaka Tušek\, Matevž Zupančič
 \nProstor: Laboratory LMPS P-1
END:VEVENT
BEGIN:VEVENT
SUMMARY:Heat exchangers (PRTM)\, Laboratory excercises (VL)\, [S2]
DTSTART;TZID=Europe/Ljubljana:20241122T100000
DTEND;TZID=Europe/Ljubljana:20241122T120000
DTSTAMP:20260425T205129Z
UID:fs-AFLABS-URNIK:srecanje:7200-2024-11-22 10:00:00+01:00
DESCRIPTION:Predmet: Heat exchangers (PRTM)\, Laboratory excercises (VL)\,
  [S2]\nLetniki: Process engineering (MAG-2)\nIzvajalci: Gregor Bobovnik\, 
 Samo Jereb\, Matic Može\, Andrej Svete\, Jaka Tušek\, Matevž Zupančič
 \nProstor: Laboratory LMPS P-1
END:VEVENT
BEGIN:VEVENT
SUMMARY:Heat exchangers (PRTM)\, Laboratory excercises (VL)\, [S2]
DTSTART;TZID=Europe/Ljubljana:20241129T100000
DTEND;TZID=Europe/Ljubljana:20241129T120000
DTSTAMP:20260425T205129Z
UID:fs-AFLABS-URNIK:srecanje:7200-2024-11-29 10:00:00+01:00
DESCRIPTION:Predmet: Heat exchangers (PRTM)\, Laboratory excercises (VL)\,
  [S2]\nLetniki: Process engineering (MAG-2)\nIzvajalci: Gregor Bobovnik\, 
 Samo Jereb\, Matic Može\, Andrej Svete\, Jaka Tušek\, Matevž Zupančič
 \nProstor: Laboratory LMPS P-1
END:VEVENT
BEGIN:VEVENT
SUMMARY:Heat exchangers (PRTM)\, Laboratory excercises (VL)\, [S2]
DTSTART;TZID=Europe/Ljubljana:20241206T100000
DTEND;TZID=Europe/Ljubljana:20241206T120000
DTSTAMP:20260425T205129Z
UID:fs-AFLABS-URNIK:srecanje:7200-2024-12-06 10:00:00+01:00
DESCRIPTION:Predmet: Heat exchangers (PRTM)\, Laboratory excercises (VL)\,
  [S2]\nLetniki: Process engineering (MAG-2)\nIzvajalci: Gregor Bobovnik\, 
 Samo Jereb\, Matic Može\, Andrej Svete\, Jaka Tušek\, Matevž Zupančič
 \nProstor: Laboratory LMPS P-1
END:VEVENT
BEGIN:VEVENT
SUMMARY:Heat exchangers (PRTM)\, Laboratory excercises (VL)\, [S2]
DTSTART;TZID=Europe/Ljubljana:20241220T100000
DTEND;TZID=Europe/Ljubljana:20241220T120000
DTSTAMP:20260425T205129Z
UID:fs-AFLABS-URNIK:srecanje:7200-2024-12-20 10:00:00+01:00
DESCRIPTION:Predmet: Heat exchangers (PRTM)\, Laboratory excercises (VL)\,
  [S2]\nLetniki: Process engineering (MAG-2)\nIzvajalci: Gregor Bobovnik\, 
 Samo Jereb\, Matic Može\, Andrej Svete\, Jaka Tušek\, Matevž Zupančič
 \nProstor: Laboratory LMPS P-1
END:VEVENT
BEGIN:VEVENT
SUMMARY:Heat exchangers (PRTM)\, Laboratory excercises (VL)\, [S2]
DTSTART;TZID=Europe/Ljubljana:20241227T100000
DTEND;TZID=Europe/Ljubljana:20241227T120000
DTSTAMP:20260425T205129Z
UID:fs-AFLABS-URNIK:srecanje:7200-2024-12-27 10:00:00+01:00
DESCRIPTION:Predmet: Heat exchangers (PRTM)\, Laboratory excercises (VL)\,
  [S2]\nLetniki: Process engineering (MAG-2)\nIzvajalci: Gregor Bobovnik\, 
 Samo Jereb\, Matic Može\, Andrej Svete\, Jaka Tušek\, Matevž Zupančič
 \nProstor: Laboratory LMPS P-1
END:VEVENT
BEGIN:VEVENT
SUMMARY:Heat exchangers (PRTM)\, Laboratory excercises (VL)\, [S2]
DTSTART;TZID=Europe/Ljubljana:20250110T100000
DTEND;TZID=Europe/Ljubljana:20250110T120000
DTSTAMP:20260425T205129Z
UID:fs-AFLABS-URNIK:srecanje:7200-2025-01-10 10:00:00+01:00
DESCRIPTION:Predmet: Heat exchangers (PRTM)\, Laboratory excercises (VL)\,
  [S2]\nLetniki: Process engineering (MAG-2)\nIzvajalci: Gregor Bobovnik\, 
 Samo Jereb\, Matic Može\, Andrej Svete\, Jaka Tušek\, Matevž Zupančič
 \nProstor: Laboratory LMPS P-1
END:VEVENT
BEGIN:VEVENT
SUMMARY:Heat exchangers (PRTM)\, Laboratory excercises (VL)\, [S2]
DTSTART;TZID=Europe/Ljubljana:20250117T100000
DTEND;TZID=Europe/Ljubljana:20250117T120000
DTSTAMP:20260425T205129Z
UID:fs-AFLABS-URNIK:srecanje:7200-2025-01-17 10:00:00+01:00
DESCRIPTION:Predmet: Heat exchangers (PRTM)\, Laboratory excercises (VL)\,
  [S2]\nLetniki: Process engineering (MAG-2)\nIzvajalci: Gregor Bobovnik\, 
 Samo Jereb\, Matic Može\, Andrej Svete\, Jaka Tušek\, Matevž Zupančič
 \nProstor: Laboratory LMPS P-1
END:VEVENT
BEGIN:VEVENT
SUMMARY:sestanek
DTSTART;TZID=Europe/Ljubljana:20241023T120000
DTEND;TZID=Europe/Ljubljana:20241023T170000
DTSTAMP:20260425T205129Z
UID:fs-AFLABS-URNIK:rezervacija:8059
CATEGORIES:Reservation
COLOR:royalblue
DESCRIPTION:Predmeti: \nLetniki: \nIzvajalci: Jaka Tušek\nProstori: Confe
 rence room
LOCATION:Conference room
ORGANIZER:Jaka Tušek
X-WR-TIMEZONE:Europe/Ljubljana
END:VEVENT
BEGIN:VEVENT
SUMMARY:sestanek
DTSTART;TZID=Europe/Ljubljana:20241024T073000
DTEND;TZID=Europe/Ljubljana:20241024T133000
DTSTAMP:20260425T205129Z
UID:fs-AFLABS-URNIK:rezervacija:8060
CATEGORIES:Reservation
COLOR:royalblue
DESCRIPTION:Predmeti: \nLetniki: \nIzvajalci: Jaka Tušek\nProstori: Confe
 rence room
LOCATION:Conference room
ORGANIZER:Jaka Tušek
X-WR-TIMEZONE:Europe/Ljubljana
END:VEVENT
END:VCALENDAR
