BEGIN:VCALENDAR
VERSION:2.0
PRODID:-//AFLabs urnik izvoz - fs//aflabs.si//SI
NAME:UL FS Urnik
X-WR-CALNAME:UL FS Urnik
DTSTAMP:20260425T202317Z
REFRESH-INTERVAL:PT1H
SOURCE:https://urnik.fs.uni-lj.si/en/teacher/891/?day=2026-01-05&export=1
URL:https://urnik.fs.uni-lj.si/en/teacher/891/?day=2026-01-05&export=1
X-PUBLISHED-TTL:PT1H
X-WR-TIMEZONE:Europe/Ljubljana
BEGIN:VTIMEZONE
TZID:Europe/Ljubljana
BEGIN:DAYLIGHT
DTSTART:20260329T020000
RDATE:20260329T020000
RDATE:20270328T020000
TZNAME:CEST
TZOFFSETFROM:+0100
TZOFFSETTO:+0200
END:DAYLIGHT
BEGIN:STANDARD
DTSTART:20261025T030000
RDATE:20261025T030000
RDATE:20271031T030000
TZNAME:CET
TZOFFSETFROM:+0200
TZOFFSETTO:+0100
END:STANDARD
END:VTIMEZONE
BEGIN:VEVENT
SUMMARY:Advanced strength of materials (VSTM)\, Lectures (P)
DTSTART;TZID=Europe/Ljubljana:20250929T080000
DTEND;TZID=Europe/Ljubljana:20250929T100000
DTSTAMP:20260425T202317Z
UID:fs-AFLABS-URNIK:srecanje:2648-2025-09-29 08:00:00+02:00
DESCRIPTION:Predmet: Advanced strength of materials (VSTM)\, Lectures (P)\
 nLetniki: Mechanics (MAG-1)\nIzvajalci: Miha Brojan\, Jaka Tušek\nProstor
 : Lecture hall II/5
END:VEVENT
BEGIN:VEVENT
SUMMARY:Advanced strength of materials (VSTM)\, Lectures (P)
DTSTART;TZID=Europe/Ljubljana:20251006T080000
DTEND;TZID=Europe/Ljubljana:20251006T100000
DTSTAMP:20260425T202317Z
UID:fs-AFLABS-URNIK:srecanje:2648-2025-10-06 08:00:00+02:00
DESCRIPTION:Predmet: Advanced strength of materials (VSTM)\, Lectures (P)\
 nLetniki: Mechanics (MAG-1)\nIzvajalci: Miha Brojan\, Jaka Tušek\nProstor
 : Lecture hall II/5
END:VEVENT
BEGIN:VEVENT
SUMMARY:Advanced strength of materials (VSTM)\, Lectures (P)
DTSTART;TZID=Europe/Ljubljana:20251013T080000
DTEND;TZID=Europe/Ljubljana:20251013T100000
DTSTAMP:20260425T202317Z
UID:fs-AFLABS-URNIK:srecanje:2648-2025-10-13 08:00:00+02:00
DESCRIPTION:Predmet: Advanced strength of materials (VSTM)\, Lectures (P)\
 nLetniki: Mechanics (MAG-1)\nIzvajalci: Miha Brojan\, Jaka Tušek\nProstor
 : Lecture hall II/5
END:VEVENT
BEGIN:VEVENT
SUMMARY:Advanced strength of materials (VSTM)\, Lectures (P)
DTSTART;TZID=Europe/Ljubljana:20251020T080000
DTEND;TZID=Europe/Ljubljana:20251020T100000
DTSTAMP:20260425T202317Z
UID:fs-AFLABS-URNIK:srecanje:2648-2025-10-20 08:00:00+02:00
DESCRIPTION:Predmet: Advanced strength of materials (VSTM)\, Lectures (P)\
 nLetniki: Mechanics (MAG-1)\nIzvajalci: Miha Brojan\, Jaka Tušek\nProstor
 : Lecture hall II/5
END:VEVENT
BEGIN:VEVENT
SUMMARY:Advanced strength of materials (VSTM)\, Lectures (P)
DTSTART;TZID=Europe/Ljubljana:20251027T080000
DTEND;TZID=Europe/Ljubljana:20251027T100000
DTSTAMP:20260425T202317Z
UID:fs-AFLABS-URNIK:srecanje:2648-2025-10-27 08:00:00+01:00
DESCRIPTION:Predmet: Advanced strength of materials (VSTM)\, Lectures (P)\
 nLetniki: Mechanics (MAG-1)\nIzvajalci: Miha Brojan\, Jaka Tušek\nProstor
 : Lecture hall II/5
END:VEVENT
BEGIN:VEVENT
SUMMARY:Advanced strength of materials (VSTM)\, Lectures (P)
DTSTART;TZID=Europe/Ljubljana:20251103T080000
DTEND;TZID=Europe/Ljubljana:20251103T100000
DTSTAMP:20260425T202317Z
UID:fs-AFLABS-URNIK:srecanje:2648-2025-11-03 08:00:00+01:00
DESCRIPTION:Predmet: Advanced strength of materials (VSTM)\, Lectures (P)\
 nLetniki: Mechanics (MAG-1)\nIzvajalci: Miha Brojan\, Jaka Tušek\nProstor
 : Lecture hall II/5
END:VEVENT
BEGIN:VEVENT
SUMMARY:Advanced strength of materials (VSTM)\, Lectures (P)
DTSTART;TZID=Europe/Ljubljana:20251110T080000
DTEND;TZID=Europe/Ljubljana:20251110T100000
DTSTAMP:20260425T202317Z
UID:fs-AFLABS-URNIK:srecanje:2648-2025-11-10 08:00:00+01:00
DESCRIPTION:Predmet: Advanced strength of materials (VSTM)\, Lectures (P)\
 nLetniki: Mechanics (MAG-1)\nIzvajalci: Miha Brojan\, Jaka Tušek\nProstor
 : Lecture hall II/5
END:VEVENT
BEGIN:VEVENT
SUMMARY:Advanced strength of materials (VSTM)\, Lectures (P)
DTSTART;TZID=Europe/Ljubljana:20251117T080000
DTEND;TZID=Europe/Ljubljana:20251117T100000
DTSTAMP:20260425T202317Z
UID:fs-AFLABS-URNIK:srecanje:2648-2025-11-17 08:00:00+01:00
DESCRIPTION:Predmet: Advanced strength of materials (VSTM)\, Lectures (P)\
 nLetniki: Mechanics (MAG-1)\nIzvajalci: Miha Brojan\, Jaka Tušek\nProstor
 : Lecture hall II/5
END:VEVENT
BEGIN:VEVENT
SUMMARY:Advanced strength of materials (VSTM)\, Lectures (P)
DTSTART;TZID=Europe/Ljubljana:20251124T080000
DTEND;TZID=Europe/Ljubljana:20251124T100000
DTSTAMP:20260425T202317Z
UID:fs-AFLABS-URNIK:srecanje:2648-2025-11-24 08:00:00+01:00
DESCRIPTION:Predmet: Advanced strength of materials (VSTM)\, Lectures (P)\
 nLetniki: Mechanics (MAG-1)\nIzvajalci: Miha Brojan\, Jaka Tušek\nProstor
 : Lecture hall II/5
END:VEVENT
BEGIN:VEVENT
SUMMARY:Advanced strength of materials (VSTM)\, Lectures (P)
DTSTART;TZID=Europe/Ljubljana:20251201T080000
DTEND;TZID=Europe/Ljubljana:20251201T100000
DTSTAMP:20260425T202317Z
UID:fs-AFLABS-URNIK:srecanje:2648-2025-12-01 08:00:00+01:00
DESCRIPTION:Predmet: Advanced strength of materials (VSTM)\, Lectures (P)\
 nLetniki: Mechanics (MAG-1)\nIzvajalci: Miha Brojan\, Jaka Tušek\nProstor
 : Lecture hall II/5
END:VEVENT
BEGIN:VEVENT
SUMMARY:Advanced strength of materials (VSTM)\, Lectures (P)
DTSTART;TZID=Europe/Ljubljana:20251208T080000
DTEND;TZID=Europe/Ljubljana:20251208T100000
DTSTAMP:20260425T202317Z
UID:fs-AFLABS-URNIK:srecanje:2648-2025-12-08 08:00:00+01:00
DESCRIPTION:Predmet: Advanced strength of materials (VSTM)\, Lectures (P)\
 nLetniki: Mechanics (MAG-1)\nIzvajalci: Miha Brojan\, Jaka Tušek\nProstor
 : Lecture hall II/5
END:VEVENT
BEGIN:VEVENT
SUMMARY:Advanced strength of materials (VSTM)\, Lectures (P)
DTSTART;TZID=Europe/Ljubljana:20251215T080000
DTEND;TZID=Europe/Ljubljana:20251215T100000
DTSTAMP:20260425T202317Z
UID:fs-AFLABS-URNIK:srecanje:2648-2025-12-15 08:00:00+01:00
DESCRIPTION:Predmet: Advanced strength of materials (VSTM)\, Lectures (P)\
 nLetniki: Mechanics (MAG-1)\nIzvajalci: Miha Brojan\, Jaka Tušek\nProstor
 : Lecture hall II/5
END:VEVENT
BEGIN:VEVENT
SUMMARY:Advanced strength of materials (VSTM)\, Lectures (P)
DTSTART;TZID=Europe/Ljubljana:20251222T080000
DTEND;TZID=Europe/Ljubljana:20251222T100000
DTSTAMP:20260425T202317Z
UID:fs-AFLABS-URNIK:srecanje:2648-2025-12-22 08:00:00+01:00
DESCRIPTION:Predmet: Advanced strength of materials (VSTM)\, Lectures (P)\
 nLetniki: Mechanics (MAG-1)\nIzvajalci: Miha Brojan\, Jaka Tušek\nProstor
 : Lecture hall II/5
END:VEVENT
BEGIN:VEVENT
SUMMARY:Advanced strength of materials (VSTM)\, Lectures (P)
DTSTART;TZID=Europe/Ljubljana:20260105T080000
DTEND;TZID=Europe/Ljubljana:20260105T100000
DTSTAMP:20260425T202317Z
UID:fs-AFLABS-URNIK:srecanje:2648-2026-01-05 08:00:00+01:00
DESCRIPTION:Predmet: Advanced strength of materials (VSTM)\, Lectures (P)\
 nLetniki: Mechanics (MAG-1)\nIzvajalci: Miha Brojan\, Jaka Tušek\nProstor
 : Lecture hall II/5
END:VEVENT
BEGIN:VEVENT
SUMMARY:Advanced strength of materials (VSTM)\, Lectures (P)
DTSTART;TZID=Europe/Ljubljana:20260112T080000
DTEND;TZID=Europe/Ljubljana:20260112T100000
DTSTAMP:20260425T202317Z
UID:fs-AFLABS-URNIK:srecanje:2648-2026-01-12 08:00:00+01:00
DESCRIPTION:Predmet: Advanced strength of materials (VSTM)\, Lectures (P)\
 nLetniki: Mechanics (MAG-1)\nIzvajalci: Miha Brojan\, Jaka Tušek\nProstor
 : Lecture hall II/5
END:VEVENT
BEGIN:VEVENT
SUMMARY:Advanced Strength of Materials (ASME)\, Lectures (P)
DTSTART;TZID=Europe/Ljubljana:20250930T100000
DTEND;TZID=Europe/Ljubljana:20250930T120000
DTSTAMP:20260425T202317Z
UID:fs-AFLABS-URNIK:srecanje:17587-2025-09-30 10:00:00+02:00
DESCRIPTION:Predmet: Advanced Strength of Materials (ASME)\, Lectures (P)\
 nLetniki: Erasmus (Erasmus)\nIzvajalci: Miha Brojan\, Jaka Tušek\nProstor
 : Lecture hall III/4
END:VEVENT
BEGIN:VEVENT
SUMMARY:Advanced Strength of Materials (ASME)\, Lectures (P)
DTSTART;TZID=Europe/Ljubljana:20251007T100000
DTEND;TZID=Europe/Ljubljana:20251007T120000
DTSTAMP:20260425T202317Z
UID:fs-AFLABS-URNIK:srecanje:17587-2025-10-07 10:00:00+02:00
DESCRIPTION:Predmet: Advanced Strength of Materials (ASME)\, Lectures (P)\
 nLetniki: Erasmus (Erasmus)\nIzvajalci: Miha Brojan\, Jaka Tušek\nProstor
 : Lecture hall III/4
END:VEVENT
BEGIN:VEVENT
SUMMARY:Advanced Strength of Materials (ASME)\, Lectures (P)
DTSTART;TZID=Europe/Ljubljana:20251014T100000
DTEND;TZID=Europe/Ljubljana:20251014T120000
DTSTAMP:20260425T202317Z
UID:fs-AFLABS-URNIK:srecanje:17587-2025-10-14 10:00:00+02:00
DESCRIPTION:Predmet: Advanced Strength of Materials (ASME)\, Lectures (P)\
 nLetniki: Erasmus (Erasmus)\nIzvajalci: Miha Brojan\, Jaka Tušek\nProstor
 : Lecture hall III/4
END:VEVENT
BEGIN:VEVENT
SUMMARY:Advanced Strength of Materials (ASME)\, Lectures (P)
DTSTART;TZID=Europe/Ljubljana:20251021T100000
DTEND;TZID=Europe/Ljubljana:20251021T120000
DTSTAMP:20260425T202317Z
UID:fs-AFLABS-URNIK:srecanje:17587-2025-10-21 10:00:00+02:00
DESCRIPTION:Predmet: Advanced Strength of Materials (ASME)\, Lectures (P)\
 nLetniki: Erasmus (Erasmus)\nIzvajalci: Miha Brojan\, Jaka Tušek\nProstor
 : Lecture hall III/4
END:VEVENT
BEGIN:VEVENT
SUMMARY:Advanced Strength of Materials (ASME)\, Lectures (P)
DTSTART;TZID=Europe/Ljubljana:20251028T100000
DTEND;TZID=Europe/Ljubljana:20251028T120000
DTSTAMP:20260425T202317Z
UID:fs-AFLABS-URNIK:srecanje:17587-2025-10-28 10:00:00+01:00
DESCRIPTION:Predmet: Advanced Strength of Materials (ASME)\, Lectures (P)\
 nLetniki: Erasmus (Erasmus)\nIzvajalci: Miha Brojan\, Jaka Tušek\nProstor
 : Lecture hall III/4
END:VEVENT
BEGIN:VEVENT
SUMMARY:Advanced Strength of Materials (ASME)\, Lectures (P)
DTSTART;TZID=Europe/Ljubljana:20251104T100000
DTEND;TZID=Europe/Ljubljana:20251104T120000
DTSTAMP:20260425T202317Z
UID:fs-AFLABS-URNIK:srecanje:17587-2025-11-04 10:00:00+01:00
DESCRIPTION:Predmet: Advanced Strength of Materials (ASME)\, Lectures (P)\
 nLetniki: Erasmus (Erasmus)\nIzvajalci: Miha Brojan\, Jaka Tušek\nProstor
 : Lecture hall III/4
END:VEVENT
BEGIN:VEVENT
SUMMARY:Advanced Strength of Materials (ASME)\, Lectures (P)
DTSTART;TZID=Europe/Ljubljana:20251111T100000
DTEND;TZID=Europe/Ljubljana:20251111T120000
DTSTAMP:20260425T202317Z
UID:fs-AFLABS-URNIK:srecanje:17587-2025-11-11 10:00:00+01:00
DESCRIPTION:Predmet: Advanced Strength of Materials (ASME)\, Lectures (P)\
 nLetniki: Erasmus (Erasmus)\nIzvajalci: Miha Brojan\, Jaka Tušek\nProstor
 : Lecture hall III/4
END:VEVENT
BEGIN:VEVENT
SUMMARY:Advanced Strength of Materials (ASME)\, Lectures (P)
DTSTART;TZID=Europe/Ljubljana:20251118T100000
DTEND;TZID=Europe/Ljubljana:20251118T120000
DTSTAMP:20260425T202317Z
UID:fs-AFLABS-URNIK:srecanje:17587-2025-11-18 10:00:00+01:00
DESCRIPTION:Predmet: Advanced Strength of Materials (ASME)\, Lectures (P)\
 nLetniki: Erasmus (Erasmus)\nIzvajalci: Miha Brojan\, Jaka Tušek\nProstor
 : Lecture hall III/4
END:VEVENT
BEGIN:VEVENT
SUMMARY:Advanced Strength of Materials (ASME)\, Lectures (P)
DTSTART;TZID=Europe/Ljubljana:20251125T100000
DTEND;TZID=Europe/Ljubljana:20251125T120000
DTSTAMP:20260425T202317Z
UID:fs-AFLABS-URNIK:srecanje:17587-2025-11-25 10:00:00+01:00
DESCRIPTION:Predmet: Advanced Strength of Materials (ASME)\, Lectures (P)\
 nLetniki: Erasmus (Erasmus)\nIzvajalci: Miha Brojan\, Jaka Tušek\nProstor
 : Lecture hall III/4
END:VEVENT
BEGIN:VEVENT
SUMMARY:Advanced Strength of Materials (ASME)\, Lectures (P)
DTSTART;TZID=Europe/Ljubljana:20251202T100000
DTEND;TZID=Europe/Ljubljana:20251202T120000
DTSTAMP:20260425T202317Z
UID:fs-AFLABS-URNIK:srecanje:17587-2025-12-02 10:00:00+01:00
DESCRIPTION:Predmet: Advanced Strength of Materials (ASME)\, Lectures (P)\
 nLetniki: Erasmus (Erasmus)\nIzvajalci: Miha Brojan\, Jaka Tušek\nProstor
 : Lecture hall III/4
END:VEVENT
BEGIN:VEVENT
SUMMARY:Advanced Strength of Materials (ASME)\, Lectures (P)
DTSTART;TZID=Europe/Ljubljana:20251209T100000
DTEND;TZID=Europe/Ljubljana:20251209T120000
DTSTAMP:20260425T202317Z
UID:fs-AFLABS-URNIK:srecanje:17587-2025-12-09 10:00:00+01:00
DESCRIPTION:Predmet: Advanced Strength of Materials (ASME)\, Lectures (P)\
 nLetniki: Erasmus (Erasmus)\nIzvajalci: Miha Brojan\, Jaka Tušek\nProstor
 : Lecture hall III/4
END:VEVENT
BEGIN:VEVENT
SUMMARY:Advanced Strength of Materials (ASME)\, Lectures (P)
DTSTART;TZID=Europe/Ljubljana:20251216T100000
DTEND;TZID=Europe/Ljubljana:20251216T120000
DTSTAMP:20260425T202317Z
UID:fs-AFLABS-URNIK:srecanje:17587-2025-12-16 10:00:00+01:00
DESCRIPTION:Predmet: Advanced Strength of Materials (ASME)\, Lectures (P)\
 nLetniki: Erasmus (Erasmus)\nIzvajalci: Miha Brojan\, Jaka Tušek\nProstor
 : Lecture hall III/4
END:VEVENT
BEGIN:VEVENT
SUMMARY:Advanced Strength of Materials (ASME)\, Lectures (P)
DTSTART;TZID=Europe/Ljubljana:20251223T100000
DTEND;TZID=Europe/Ljubljana:20251223T120000
DTSTAMP:20260425T202317Z
UID:fs-AFLABS-URNIK:srecanje:17587-2025-12-23 10:00:00+01:00
DESCRIPTION:Predmet: Advanced Strength of Materials (ASME)\, Lectures (P)\
 nLetniki: Erasmus (Erasmus)\nIzvajalci: Miha Brojan\, Jaka Tušek\nProstor
 : Lecture hall III/4
END:VEVENT
BEGIN:VEVENT
SUMMARY:Advanced Strength of Materials (ASME)\, Lectures (P)
DTSTART;TZID=Europe/Ljubljana:20260106T100000
DTEND;TZID=Europe/Ljubljana:20260106T120000
DTSTAMP:20260425T202317Z
UID:fs-AFLABS-URNIK:srecanje:17587-2026-01-06 10:00:00+01:00
DESCRIPTION:Predmet: Advanced Strength of Materials (ASME)\, Lectures (P)\
 nLetniki: Erasmus (Erasmus)\nIzvajalci: Miha Brojan\, Jaka Tušek\nProstor
 : Lecture hall III/4
END:VEVENT
BEGIN:VEVENT
SUMMARY:Advanced Strength of Materials (ASME)\, Lectures (P)
DTSTART;TZID=Europe/Ljubljana:20260113T100000
DTEND;TZID=Europe/Ljubljana:20260113T120000
DTSTAMP:20260425T202317Z
UID:fs-AFLABS-URNIK:srecanje:17587-2026-01-13 10:00:00+01:00
DESCRIPTION:Predmet: Advanced Strength of Materials (ASME)\, Lectures (P)\
 nLetniki: Erasmus (Erasmus)\nIzvajalci: Miha Brojan\, Jaka Tušek\nProstor
 : Lecture hall III/4
END:VEVENT
BEGIN:VEVENT
SUMMARY:Sestanek
DTSTART;TZID=Europe/Ljubljana:20260129T130000
DTEND;TZID=Europe/Ljubljana:20260129T143000
DTSTAMP:20260425T202317Z
UID:fs-AFLABS-URNIK:rezervacija:13620
CATEGORIES:Reservation
COLOR:royalblue
DESCRIPTION:Predmeti: \nLetniki: \nIzvajalci: Dekanat FS\, Jaka Tušek\, A
 ndrej Žerovnik\nProstori: Conference room
LOCATION:Conference room
ORGANIZER:Dekanat FS, Jaka Tušek, Andrej Žerovnik
X-WR-TIMEZONE:Europe/Ljubljana
END:VEVENT
BEGIN:VEVENT
SUMMARY:Sestanek -izvedba
DTSTART;TZID=Europe/Ljubljana:20251015T120000
DTEND;TZID=Europe/Ljubljana:20251015T130000
DTSTAMP:20260425T202317Z
UID:fs-AFLABS-URNIK:rezervacija:11291
CATEGORIES:Reservation
COLOR:royalblue
DESCRIPTION:Predmeti: \nLetniki: \nIzvajalci: Uroš Trdan\, Jaka Tušek\nP
 rostori: Conference room
LOCATION:Conference room
ORGANIZER:Uroš Trdan, Jaka Tušek
X-WR-TIMEZONE:Europe/Ljubljana
END:VEVENT
END:VCALENDAR
