BEGIN:VCALENDAR
VERSION:2.0
PRODID:-//AFLabs urnik izvoz - fs//aflabs.si//SI
NAME:UL FS Urnik
X-WR-CALNAME:UL FS Urnik
DTSTAMP:20260423T153859Z
REFRESH-INTERVAL:PT1H
SOURCE:https://urnik.fs.uni-lj.si/en/teacher/895/?day=2026-06-01&export=1
URL:https://urnik.fs.uni-lj.si/en/teacher/895/?day=2026-06-01&export=1
X-PUBLISHED-TTL:PT1H
X-WR-TIMEZONE:Europe/Ljubljana
BEGIN:VTIMEZONE
TZID:Europe/Ljubljana
BEGIN:DAYLIGHT
DTSTART:20260329T020000
RDATE:20260329T020000
RDATE:20270328T020000
TZNAME:CEST
TZOFFSETFROM:+0100
TZOFFSETTO:+0200
END:DAYLIGHT
BEGIN:STANDARD
DTSTART:20261025T030000
RDATE:20261025T030000
RDATE:20271031T030000
TZNAME:CET
TZOFFSETFROM:+0200
TZOFFSETTO:+0100
END:STANDARD
END:VTIMEZONE
BEGIN:VEVENT
SUMMARY:Non-metallic materials - PAP (NKMP)\, Laboratory excercises (VL)\,
  [S7]
DTSTART;TZID=Europe/Ljubljana:20260504T073000
DTEND;TZID=Europe/Ljubljana:20260504T090000
DTSTAMP:20260423T153859Z
UID:fs-AFLABS-URNIK:srecanje:16217-2026-05-04 07:30:00+02:00
DESCRIPTION:Predmet: Non-metallic materials - PAP (NKMP)\, Laboratory exce
 rcises (VL)\, [S7]\nLetniki: PAP-1 (PAP-1)\nIzvajalci: Alen Oseli\, Andrii
  Vakulka\nProstor: Laboratory CEM F13-3/K1.4.2
END:VEVENT
BEGIN:VEVENT
SUMMARY:Non-metallic materials - PAP (NKMP)\, Laboratory excercises (VL)\,
  [S15]
DTSTART;TZID=Europe/Ljubljana:20260504T103000
DTEND;TZID=Europe/Ljubljana:20260504T123000
DTSTAMP:20260423T153859Z
UID:fs-AFLABS-URNIK:srecanje:16219-2026-05-04 10:30:00+02:00
DESCRIPTION:Predmet: Non-metallic materials - PAP (NKMP)\, Laboratory exce
 rcises (VL)\, [S15]\nLetniki: PAP-1 (PAP-1)\nIzvajalci: Alen Oseli\, Andri
 i Vakulka\nProstor: Laboratory CEM F13-3/K1.4.2
END:VEVENT
BEGIN:VEVENT
SUMMARY:Non-metallic materials - PAP (NKMP)\, Laboratory excercises (VL)\,
  [S13]
DTSTART;TZID=Europe/Ljubljana:20260504T160000
DTEND;TZID=Europe/Ljubljana:20260504T180000
DTSTAMP:20260423T153859Z
UID:fs-AFLABS-URNIK:srecanje:16221-2026-05-04 16:00:00+02:00
DESCRIPTION:Predmet: Non-metallic materials - PAP (NKMP)\, Laboratory exce
 rcises (VL)\, [S13]\nLetniki: PAP-1 (PAP-1)\nIzvajalci: Andrii Vakulka\nPr
 ostor: Laboratory CEM F13-3/K1.4.2
END:VEVENT
BEGIN:VEVENT
SUMMARY:Non-metallic materials - PAP (NKMP)\, Laboratory excercises (VL)\,
  [S11]
DTSTART;TZID=Europe/Ljubljana:20260505T153000
DTEND;TZID=Europe/Ljubljana:20260505T173000
DTSTAMP:20260423T153859Z
UID:fs-AFLABS-URNIK:srecanje:16223-2026-05-05 15:30:00+02:00
DESCRIPTION:Predmet: Non-metallic materials - PAP (NKMP)\, Laboratory exce
 rcises (VL)\, [S11]\nLetniki: PAP-1 (PAP-1)\nIzvajalci: Alen Oseli\, Andri
 i Vakulka\nProstor: Laboratory CEM F13-3/K1.4.2
END:VEVENT
BEGIN:VEVENT
SUMMARY:Non-metallic materials - PAP (NKMP)\, Laboratory excercises (VL)\,
  [S9]
DTSTART;TZID=Europe/Ljubljana:20260506T083000
DTEND;TZID=Europe/Ljubljana:20260506T103000
DTSTAMP:20260423T153859Z
UID:fs-AFLABS-URNIK:srecanje:16231-2026-05-06 08:30:00+02:00
DESCRIPTION:Predmet: Non-metallic materials - PAP (NKMP)\, Laboratory exce
 rcises (VL)\, [S9]\nLetniki: PAP-1 (PAP-1)\nIzvajalci: Alen Oseli\, Andrii
  Vakulka\nProstor: Laboratory CEM F13-3/K1.4.2
END:VEVENT
BEGIN:VEVENT
SUMMARY:Non-metallic materials - PAP (NKMP)\, Laboratory excercises (VL)\,
  [S6]
DTSTART;TZID=Europe/Ljubljana:20260506T103000
DTEND;TZID=Europe/Ljubljana:20260506T123000
DTSTAMP:20260423T153859Z
UID:fs-AFLABS-URNIK:srecanje:16232-2026-05-06 10:30:00+02:00
DESCRIPTION:Predmet: Non-metallic materials - PAP (NKMP)\, Laboratory exce
 rcises (VL)\, [S6]\nLetniki: PAP-1 (PAP-1)\nIzvajalci: Alen Oseli\, Andrii
  Vakulka\nProstor: Laboratory CEM F13-3/K1.4.2
END:VEVENT
BEGIN:VEVENT
SUMMARY:Non-metallic materials - PAP (NKMP)\, Laboratory excercises (VL)\,
  [S5]
DTSTART;TZID=Europe/Ljubljana:20260507T143000
DTEND;TZID=Europe/Ljubljana:20260507T163000
DTSTAMP:20260423T153859Z
UID:fs-AFLABS-URNIK:srecanje:16225-2026-05-07 14:30:00+02:00
DESCRIPTION:Predmet: Non-metallic materials - PAP (NKMP)\, Laboratory exce
 rcises (VL)\, [S5]\nLetniki: PAP-1 (PAP-1)\nIzvajalci: Alen Oseli\, Andrii
  Vakulka\nProstor: Laboratory CEM F13-3/K1.4.2
END:VEVENT
END:VCALENDAR
