BEGIN:VCALENDAR
VERSION:2.0
PRODID:-//AFLabs urnik izvoz - fs//aflabs.si//SI
NAME:UL FS Urnik
X-WR-CALNAME:UL FS Urnik
DTSTAMP:20260419T141010Z
REFRESH-INTERVAL:PT1H
SOURCE:https://urnik.fs.uni-lj.si/en/teacher/896/?day=2024-08-26&export=1
URL:https://urnik.fs.uni-lj.si/en/teacher/896/?day=2024-08-26&export=1
X-PUBLISHED-TTL:PT1H
X-WR-TIMEZONE:Europe/Ljubljana
BEGIN:VTIMEZONE
TZID:Europe/Ljubljana
BEGIN:DAYLIGHT
DTSTART:20260329T020000
RDATE:20260329T020000
RDATE:20270328T020000
TZNAME:CEST
TZOFFSETFROM:+0100
TZOFFSETTO:+0200
END:DAYLIGHT
BEGIN:STANDARD
DTSTART:20261025T030000
RDATE:20261025T030000
RDATE:20271031T030000
TZNAME:CET
TZOFFSETFROM:+0200
TZOFFSETTO:+0100
END:STANDARD
END:VTIMEZONE
BEGIN:VEVENT
SUMMARY:Izpit: Izdelovalne tehnologije 2
DTSTART;TZID=Europe/Ljubljana:20240812T120000
DTEND;TZID=Europe/Ljubljana:20240812T140000
DTSTAMP:20260419T141010Z
UID:fs-AFLABS-URNIK:rezervacija:5408
ATTENDEE:RRP-3 (RRP-3)
CATEGORIES:Reservation
COLOR:royalblue
DESCRIPTION:Predmeti: Manufacturing technologies 2 (IT2R)\nLetniki: RRP-3 
 (RRP-3)\nIzvajalci: Joško Valentinčič\nProstori: Lecture hall II/5
LOCATION:Lecture hall II/5
ORGANIZER:Joško Valentinčič
X-WR-TIMEZONE:Europe/Ljubljana
END:VEVENT
BEGIN:VEVENT
SUMMARY:Izpit: Izdelovalne tehnologije 2 (2048)
DTSTART;TZID=Europe/Ljubljana:20240816T120000
DTEND;TZID=Europe/Ljubljana:20240816T140000
DTSTAMP:20260419T141010Z
UID:fs-AFLABS-URNIK:rezervacija:5503
CATEGORIES:Reservation
COLOR:royalblue
DESCRIPTION:Predmeti: \nLetniki: \nIzvajalci: Joško Valentinčič\nProsto
 ri: Lecture hall II/2
LOCATION:Lecture hall II/2
ORGANIZER:Joško Valentinčič
X-WR-TIMEZONE:Europe/Ljubljana
END:VEVENT
BEGIN:VEVENT
SUMMARY:Izpit: Alternativne tehnologije (3074)
DTSTART;TZID=Europe/Ljubljana:20240820T080000
DTEND;TZID=Europe/Ljubljana:20240820T100000
DTSTAMP:20260419T141010Z
UID:fs-AFLABS-URNIK:rezervacija:5586
CATEGORIES:Reservation
COLOR:royalblue
DESCRIPTION:Predmeti: \nLetniki: \nIzvajalci: Joško Valentinčič\nProsto
 ri: Lecture hall II/3A
LOCATION:Lecture hall II/3A
ORGANIZER:Joško Valentinčič
X-WR-TIMEZONE:Europe/Ljubljana
END:VEVENT
BEGIN:VEVENT
SUMMARY:Izpit: Nekonvencionalni izdelovalni procesi
DTSTART;TZID=Europe/Ljubljana:20240820T100000
DTEND;TZID=Europe/Ljubljana:20240820T120000
DTSTAMP:20260419T141010Z
UID:fs-AFLABS-URNIK:rezervacija:5587
ATTENDEE:Production technologies (PAP-2)
CATEGORIES:Reservation
COLOR:royalblue
DESCRIPTION:Predmeti: Non-traditional manufacturing processes (NIPP)\nLetn
 iki: Production technologies (PAP-2)\nIzvajalci: Joško Valentinčič\nPro
 stori: Lecture hall II/3B
LOCATION:Lecture hall II/3B
ORGANIZER:Joško Valentinčič
X-WR-TIMEZONE:Europe/Ljubljana
END:VEVENT
BEGIN:VEVENT
SUMMARY:Izpit: Preoblikovanje nekovinskih gradiv (6221)
DTSTART;TZID=Europe/Ljubljana:20240821T140000
DTEND;TZID=Europe/Ljubljana:20240821T160000
DTSTAMP:20260419T141010Z
UID:fs-AFLABS-URNIK:rezervacija:5616
CATEGORIES:Reservation
COLOR:royalblue
DESCRIPTION:Predmeti: \nLetniki: \nIzvajalci: Joško Valentinčič\nProsto
 ri: Lecture hall II/5
LOCATION:Lecture hall II/5
ORGANIZER:Joško Valentinčič
X-WR-TIMEZONE:Europe/Ljubljana
END:VEVENT
BEGIN:VEVENT
SUMMARY:Izpit: Mikroizdelovalne tehnologije
DTSTART;TZID=Europe/Ljubljana:20240823T100000
DTEND;TZID=Europe/Ljubljana:20240823T120000
DTSTAMP:20260419T141010Z
UID:fs-AFLABS-URNIK:rezervacija:5690
ATTENDEE:Production engineering (MAG-1)
CATEGORIES:Reservation
COLOR:royalblue
DESCRIPTION:Predmeti: Micromanufacturing technologies (MITM)\nLetniki: Pro
 duction engineering (MAG-1)\nIzvajalci: Joško Valentinčič\nProstori: Le
 cture hall III/4
LOCATION:Lecture hall III/4
ORGANIZER:Joško Valentinčič
X-WR-TIMEZONE:Europe/Ljubljana
END:VEVENT
BEGIN:VEVENT
SUMMARY:Izpit: Nekonvencionalni procesi (6028)
DTSTART;TZID=Europe/Ljubljana:20240823T100000
DTEND;TZID=Europe/Ljubljana:20240823T120000
DTSTAMP:20260419T141010Z
UID:fs-AFLABS-URNIK:rezervacija:5691
CATEGORIES:Reservation
COLOR:royalblue
DESCRIPTION:Predmeti: \nLetniki: \nIzvajalci: Joško Valentinčič\nProsto
 ri: Lecture hall III/4
LOCATION:Lecture hall III/4
ORGANIZER:Joško Valentinčič
X-WR-TIMEZONE:Europe/Ljubljana
END:VEVENT
END:VCALENDAR
