BEGIN:VCALENDAR
VERSION:2.0
PRODID:-//AFLabs urnik izvoz - fs//aflabs.si//SI
NAME:UL FS Urnik
X-WR-CALNAME:UL FS Urnik
DTSTAMP:20260419T123824Z
REFRESH-INTERVAL:PT1H
SOURCE:https://urnik.fs.uni-lj.si/en/teacher/896/?day=2025-01-13&export=1
URL:https://urnik.fs.uni-lj.si/en/teacher/896/?day=2025-01-13&export=1
X-PUBLISHED-TTL:PT1H
X-WR-TIMEZONE:Europe/Ljubljana
BEGIN:VTIMEZONE
TZID:Europe/Ljubljana
BEGIN:DAYLIGHT
DTSTART:20260329T020000
RDATE:20260329T020000
RDATE:20270328T020000
TZNAME:CEST
TZOFFSETFROM:+0100
TZOFFSETTO:+0200
END:DAYLIGHT
BEGIN:STANDARD
DTSTART:20261025T030000
RDATE:20261025T030000
RDATE:20271031T030000
TZNAME:CET
TZOFFSETFROM:+0200
TZOFFSETTO:+0100
END:STANDARD
END:VTIMEZONE
BEGIN:VEVENT
SUMMARY:Micromanufacturing technologies (MITM)\, Lectures (P)
DTSTART;TZID=Europe/Ljubljana:20241002T100000
DTEND;TZID=Europe/Ljubljana:20241002T120000
DTSTAMP:20260419T123824Z
UID:fs-AFLABS-URNIK:srecanje:6961-2024-10-02 10:00:00+02:00
DESCRIPTION:Predmet: Micromanufacturing technologies (MITM)\, Lectures (P)
 \nLetniki: Production engineering (MAG-1)\nIzvajalci: Joško Valentinčič
 \nProstor: Lecture hall III/2
END:VEVENT
BEGIN:VEVENT
SUMMARY:Micromanufacturing technologies (MITM)\, Lectures (P)
DTSTART;TZID=Europe/Ljubljana:20241009T100000
DTEND;TZID=Europe/Ljubljana:20241009T120000
DTSTAMP:20260419T123824Z
UID:fs-AFLABS-URNIK:srecanje:6961-2024-10-09 10:00:00+02:00
DESCRIPTION:Predmet: Micromanufacturing technologies (MITM)\, Lectures (P)
 \nLetniki: Production engineering (MAG-1)\nIzvajalci: Joško Valentinčič
 \nProstor: Lecture hall III/2
END:VEVENT
BEGIN:VEVENT
SUMMARY:Micromanufacturing technologies (MITM)\, Lectures (P)
DTSTART;TZID=Europe/Ljubljana:20241016T100000
DTEND;TZID=Europe/Ljubljana:20241016T120000
DTSTAMP:20260419T123824Z
UID:fs-AFLABS-URNIK:srecanje:6961-2024-10-16 10:00:00+02:00
DESCRIPTION:Predmet: Micromanufacturing technologies (MITM)\, Lectures (P)
 \nLetniki: Production engineering (MAG-1)\nIzvajalci: Joško Valentinčič
 \nProstor: Lecture hall III/2
END:VEVENT
BEGIN:VEVENT
SUMMARY:Micromanufacturing technologies (MITM)\, Lectures (P)
DTSTART;TZID=Europe/Ljubljana:20241023T100000
DTEND;TZID=Europe/Ljubljana:20241023T120000
DTSTAMP:20260419T123824Z
UID:fs-AFLABS-URNIK:srecanje:6961-2024-10-23 10:00:00+02:00
DESCRIPTION:Predmet: Micromanufacturing technologies (MITM)\, Lectures (P)
 \nLetniki: Production engineering (MAG-1)\nIzvajalci: Joško Valentinčič
 \nProstor: Lecture hall III/2
END:VEVENT
BEGIN:VEVENT
SUMMARY:Micromanufacturing technologies (MITM)\, Lectures (P)
DTSTART;TZID=Europe/Ljubljana:20241030T100000
DTEND;TZID=Europe/Ljubljana:20241030T120000
DTSTAMP:20260419T123824Z
UID:fs-AFLABS-URNIK:srecanje:6961-2024-10-30 10:00:00+01:00
DESCRIPTION:Predmet: Micromanufacturing technologies (MITM)\, Lectures (P)
 \nLetniki: Production engineering (MAG-1)\nIzvajalci: Joško Valentinčič
 \nProstor: Lecture hall III/2
END:VEVENT
BEGIN:VEVENT
SUMMARY:Micromanufacturing technologies (MITM)\, Lectures (P)
DTSTART;TZID=Europe/Ljubljana:20241106T100000
DTEND;TZID=Europe/Ljubljana:20241106T120000
DTSTAMP:20260419T123824Z
UID:fs-AFLABS-URNIK:srecanje:6961-2024-11-06 10:00:00+01:00
DESCRIPTION:Predmet: Micromanufacturing technologies (MITM)\, Lectures (P)
 \nLetniki: Production engineering (MAG-1)\nIzvajalci: Joško Valentinčič
 \nProstor: Lecture hall III/2
END:VEVENT
BEGIN:VEVENT
SUMMARY:Micromanufacturing technologies (MITM)\, Lectures (P)
DTSTART;TZID=Europe/Ljubljana:20241113T100000
DTEND;TZID=Europe/Ljubljana:20241113T120000
DTSTAMP:20260419T123824Z
UID:fs-AFLABS-URNIK:srecanje:6961-2024-11-13 10:00:00+01:00
DESCRIPTION:Predmet: Micromanufacturing technologies (MITM)\, Lectures (P)
 \nLetniki: Production engineering (MAG-1)\nIzvajalci: Joško Valentinčič
 \nProstor: Lecture hall III/2
END:VEVENT
BEGIN:VEVENT
SUMMARY:Micromanufacturing technologies (MITM)\, Lectures (P)
DTSTART;TZID=Europe/Ljubljana:20241120T100000
DTEND;TZID=Europe/Ljubljana:20241120T120000
DTSTAMP:20260419T123824Z
UID:fs-AFLABS-URNIK:srecanje:6961-2024-11-20 10:00:00+01:00
DESCRIPTION:Predmet: Micromanufacturing technologies (MITM)\, Lectures (P)
 \nLetniki: Production engineering (MAG-1)\nIzvajalci: Joško Valentinčič
 \nProstor: Lecture hall III/2
END:VEVENT
BEGIN:VEVENT
SUMMARY:Micromanufacturing technologies (MITM)\, Lectures (P)
DTSTART;TZID=Europe/Ljubljana:20241127T100000
DTEND;TZID=Europe/Ljubljana:20241127T120000
DTSTAMP:20260419T123824Z
UID:fs-AFLABS-URNIK:srecanje:6961-2024-11-27 10:00:00+01:00
DESCRIPTION:Predmet: Micromanufacturing technologies (MITM)\, Lectures (P)
 \nLetniki: Production engineering (MAG-1)\nIzvajalci: Joško Valentinčič
 \nProstor: Lecture hall III/2
END:VEVENT
BEGIN:VEVENT
SUMMARY:Micromanufacturing technologies (MITM)\, Lectures (P)
DTSTART;TZID=Europe/Ljubljana:20241204T100000
DTEND;TZID=Europe/Ljubljana:20241204T120000
DTSTAMP:20260419T123824Z
UID:fs-AFLABS-URNIK:srecanje:6961-2024-12-04 10:00:00+01:00
DESCRIPTION:Predmet: Micromanufacturing technologies (MITM)\, Lectures (P)
 \nLetniki: Production engineering (MAG-1)\nIzvajalci: Joško Valentinčič
 \nProstor: Lecture hall III/2
END:VEVENT
BEGIN:VEVENT
SUMMARY:Micromanufacturing technologies (MITM)\, Lectures (P)
DTSTART;TZID=Europe/Ljubljana:20241211T100000
DTEND;TZID=Europe/Ljubljana:20241211T120000
DTSTAMP:20260419T123824Z
UID:fs-AFLABS-URNIK:srecanje:6961-2024-12-11 10:00:00+01:00
DESCRIPTION:Predmet: Micromanufacturing technologies (MITM)\, Lectures (P)
 \nLetniki: Production engineering (MAG-1)\nIzvajalci: Joško Valentinčič
 \nProstor: Lecture hall III/2
END:VEVENT
BEGIN:VEVENT
SUMMARY:Micromanufacturing technologies (MITM)\, Lectures (P)
DTSTART;TZID=Europe/Ljubljana:20241218T100000
DTEND;TZID=Europe/Ljubljana:20241218T120000
DTSTAMP:20260419T123824Z
UID:fs-AFLABS-URNIK:srecanje:6961-2024-12-18 10:00:00+01:00
DESCRIPTION:Predmet: Micromanufacturing technologies (MITM)\, Lectures (P)
 \nLetniki: Production engineering (MAG-1)\nIzvajalci: Joško Valentinčič
 \nProstor: Lecture hall III/2
END:VEVENT
BEGIN:VEVENT
SUMMARY:Micromanufacturing technologies (MITM)\, Lectures (P)
DTSTART;TZID=Europe/Ljubljana:20241225T100000
DTEND;TZID=Europe/Ljubljana:20241225T120000
DTSTAMP:20260419T123824Z
UID:fs-AFLABS-URNIK:srecanje:6961-2024-12-25 10:00:00+01:00
DESCRIPTION:Predmet: Micromanufacturing technologies (MITM)\, Lectures (P)
 \nLetniki: Production engineering (MAG-1)\nIzvajalci: Joško Valentinčič
 \nProstor: Lecture hall III/2
END:VEVENT
BEGIN:VEVENT
SUMMARY:Micromanufacturing technologies (MITM)\, Lectures (P)
DTSTART;TZID=Europe/Ljubljana:20250108T100000
DTEND;TZID=Europe/Ljubljana:20250108T120000
DTSTAMP:20260419T123824Z
UID:fs-AFLABS-URNIK:srecanje:6961-2025-01-08 10:00:00+01:00
DESCRIPTION:Predmet: Micromanufacturing technologies (MITM)\, Lectures (P)
 \nLetniki: Production engineering (MAG-1)\nIzvajalci: Joško Valentinčič
 \nProstor: Lecture hall III/2
END:VEVENT
BEGIN:VEVENT
SUMMARY:Micromanufacturing technologies (MITM)\, Lectures (P)
DTSTART;TZID=Europe/Ljubljana:20250115T100000
DTEND;TZID=Europe/Ljubljana:20250115T120000
DTSTAMP:20260419T123824Z
UID:fs-AFLABS-URNIK:srecanje:6961-2025-01-15 10:00:00+01:00
DESCRIPTION:Predmet: Micromanufacturing technologies (MITM)\, Lectures (P)
 \nLetniki: Production engineering (MAG-1)\nIzvajalci: Joško Valentinčič
 \nProstor: Lecture hall III/2
END:VEVENT
BEGIN:VEVENT
SUMMARY:Manufacturing technologies 2 (IT2R)\, Lectures (P)
DTSTART;TZID=Europe/Ljubljana:20241007T120000
DTEND;TZID=Europe/Ljubljana:20241007T150000
DTSTAMP:20260419T123824Z
UID:fs-AFLABS-URNIK:srecanje:6699-2024-10-07 12:00:00+02:00
DESCRIPTION:Predmet: Manufacturing technologies 2 (IT2R)\, Lectures (P)\nL
 etniki: RRP-3 (RRP-3)\nIzvajalci: Damjan Klobčar\, Joško Valentinčič\n
 Prostor: Lecture hall IV/4
END:VEVENT
BEGIN:VEVENT
SUMMARY:Manufacturing technologies 2 (IT2R)\, Lectures (P)
DTSTART;TZID=Europe/Ljubljana:20241014T120000
DTEND;TZID=Europe/Ljubljana:20241014T150000
DTSTAMP:20260419T123824Z
UID:fs-AFLABS-URNIK:srecanje:6699-2024-10-14 12:00:00+02:00
DESCRIPTION:Predmet: Manufacturing technologies 2 (IT2R)\, Lectures (P)\nL
 etniki: RRP-3 (RRP-3)\nIzvajalci: Damjan Klobčar\, Joško Valentinčič\n
 Prostor: Lecture hall IV/4
END:VEVENT
BEGIN:VEVENT
SUMMARY:Manufacturing technologies 2 (IT2R)\, Lectures (P)
DTSTART;TZID=Europe/Ljubljana:20241021T120000
DTEND;TZID=Europe/Ljubljana:20241021T150000
DTSTAMP:20260419T123824Z
UID:fs-AFLABS-URNIK:srecanje:6699-2024-10-21 12:00:00+02:00
DESCRIPTION:Predmet: Manufacturing technologies 2 (IT2R)\, Lectures (P)\nL
 etniki: RRP-3 (RRP-3)\nIzvajalci: Damjan Klobčar\, Joško Valentinčič\n
 Prostor: Lecture hall IV/4
END:VEVENT
BEGIN:VEVENT
SUMMARY:Manufacturing technologies 2 (IT2R)\, Lectures (P)
DTSTART;TZID=Europe/Ljubljana:20241104T120000
DTEND;TZID=Europe/Ljubljana:20241104T150000
DTSTAMP:20260419T123824Z
UID:fs-AFLABS-URNIK:srecanje:6699-2024-11-04 12:00:00+01:00
DESCRIPTION:Predmet: Manufacturing technologies 2 (IT2R)\, Lectures (P)\nL
 etniki: RRP-3 (RRP-3)\nIzvajalci: Damjan Klobčar\, Joško Valentinčič\n
 Prostor: Lecture hall IV/4
END:VEVENT
BEGIN:VEVENT
SUMMARY:Manufacturing technologies 2 (IT2R)\, Lectures (P)
DTSTART;TZID=Europe/Ljubljana:20241111T120000
DTEND;TZID=Europe/Ljubljana:20241111T150000
DTSTAMP:20260419T123824Z
UID:fs-AFLABS-URNIK:srecanje:6699-2024-11-11 12:00:00+01:00
DESCRIPTION:Predmet: Manufacturing technologies 2 (IT2R)\, Lectures (P)\nL
 etniki: RRP-3 (RRP-3)\nIzvajalci: Damjan Klobčar\, Joško Valentinčič\n
 Prostor: Lecture hall IV/4
END:VEVENT
BEGIN:VEVENT
SUMMARY:Manufacturing technologies 2 (IT2R)\, Lectures (P)
DTSTART;TZID=Europe/Ljubljana:20241118T120000
DTEND;TZID=Europe/Ljubljana:20241118T150000
DTSTAMP:20260419T123824Z
UID:fs-AFLABS-URNIK:srecanje:6699-2024-11-18 12:00:00+01:00
DESCRIPTION:Predmet: Manufacturing technologies 2 (IT2R)\, Lectures (P)\nL
 etniki: RRP-3 (RRP-3)\nIzvajalci: Damjan Klobčar\, Joško Valentinčič\n
 Prostor: Lecture hall IV/4
END:VEVENT
BEGIN:VEVENT
SUMMARY:Manufacturing technologies 2 (IT2R)\, Lectures (P)
DTSTART;TZID=Europe/Ljubljana:20241125T120000
DTEND;TZID=Europe/Ljubljana:20241125T150000
DTSTAMP:20260419T123824Z
UID:fs-AFLABS-URNIK:srecanje:6699-2024-11-25 12:00:00+01:00
DESCRIPTION:Predmet: Manufacturing technologies 2 (IT2R)\, Lectures (P)\nL
 etniki: RRP-3 (RRP-3)\nIzvajalci: Damjan Klobčar\, Joško Valentinčič\n
 Prostor: Lecture hall IV/4
END:VEVENT
BEGIN:VEVENT
SUMMARY:Manufacturing technologies 2 (IT2R)\, Lectures (P)
DTSTART;TZID=Europe/Ljubljana:20241202T120000
DTEND;TZID=Europe/Ljubljana:20241202T150000
DTSTAMP:20260419T123824Z
UID:fs-AFLABS-URNIK:srecanje:6699-2024-12-02 12:00:00+01:00
DESCRIPTION:Predmet: Manufacturing technologies 2 (IT2R)\, Lectures (P)\nL
 etniki: RRP-3 (RRP-3)\nIzvajalci: Damjan Klobčar\, Joško Valentinčič\n
 Prostor: Lecture hall IV/4
END:VEVENT
BEGIN:VEVENT
SUMMARY:Manufacturing technologies 2 (IT2R)\, Lectures (P)
DTSTART;TZID=Europe/Ljubljana:20241209T120000
DTEND;TZID=Europe/Ljubljana:20241209T150000
DTSTAMP:20260419T123824Z
UID:fs-AFLABS-URNIK:srecanje:6699-2024-12-09 12:00:00+01:00
DESCRIPTION:Predmet: Manufacturing technologies 2 (IT2R)\, Lectures (P)\nL
 etniki: RRP-3 (RRP-3)\nIzvajalci: Damjan Klobčar\, Joško Valentinčič\n
 Prostor: Lecture hall IV/4
END:VEVENT
BEGIN:VEVENT
SUMMARY:Manufacturing technologies 2 (IT2R)\, Lectures (P)
DTSTART;TZID=Europe/Ljubljana:20241216T120000
DTEND;TZID=Europe/Ljubljana:20241216T150000
DTSTAMP:20260419T123824Z
UID:fs-AFLABS-URNIK:srecanje:6699-2024-12-16 12:00:00+01:00
DESCRIPTION:Predmet: Manufacturing technologies 2 (IT2R)\, Lectures (P)\nL
 etniki: RRP-3 (RRP-3)\nIzvajalci: Damjan Klobčar\, Joško Valentinčič\n
 Prostor: Lecture hall IV/4
END:VEVENT
BEGIN:VEVENT
SUMMARY:Manufacturing technologies 2 (IT2R)\, Lectures (P)
DTSTART;TZID=Europe/Ljubljana:20241223T120000
DTEND;TZID=Europe/Ljubljana:20241223T150000
DTSTAMP:20260419T123824Z
UID:fs-AFLABS-URNIK:srecanje:6699-2024-12-23 12:00:00+01:00
DESCRIPTION:Predmet: Manufacturing technologies 2 (IT2R)\, Lectures (P)\nL
 etniki: RRP-3 (RRP-3)\nIzvajalci: Damjan Klobčar\, Joško Valentinčič\n
 Prostor: Lecture hall IV/4
END:VEVENT
BEGIN:VEVENT
SUMMARY:Manufacturing technologies 2 (IT2R)\, Lectures (P)
DTSTART;TZID=Europe/Ljubljana:20250106T120000
DTEND;TZID=Europe/Ljubljana:20250106T150000
DTSTAMP:20260419T123824Z
UID:fs-AFLABS-URNIK:srecanje:6699-2025-01-06 12:00:00+01:00
DESCRIPTION:Predmet: Manufacturing technologies 2 (IT2R)\, Lectures (P)\nL
 etniki: RRP-3 (RRP-3)\nIzvajalci: Damjan Klobčar\, Joško Valentinčič\n
 Prostor: Lecture hall IV/4
END:VEVENT
BEGIN:VEVENT
SUMMARY:Manufacturing technologies 2 (IT2R)\, Lectures (P)
DTSTART;TZID=Europe/Ljubljana:20250113T120000
DTEND;TZID=Europe/Ljubljana:20250113T150000
DTSTAMP:20260419T123824Z
UID:fs-AFLABS-URNIK:srecanje:6699-2025-01-13 12:00:00+01:00
DESCRIPTION:Predmet: Manufacturing technologies 2 (IT2R)\, Lectures (P)\nL
 etniki: RRP-3 (RRP-3)\nIzvajalci: Damjan Klobčar\, Joško Valentinčič\n
 Prostor: Lecture hall IV/4
END:VEVENT
BEGIN:VEVENT
SUMMARY:Manufacturing technologies 2 (IT2R)\, Lectures (P)
DTSTART;TZID=Europe/Ljubljana:20250120T120000
DTEND;TZID=Europe/Ljubljana:20250120T150000
DTSTAMP:20260419T123824Z
UID:fs-AFLABS-URNIK:srecanje:6699-2025-01-20 12:00:00+01:00
DESCRIPTION:Predmet: Manufacturing technologies 2 (IT2R)\, Lectures (P)\nL
 etniki: RRP-3 (RRP-3)\nIzvajalci: Damjan Klobčar\, Joško Valentinčič\n
 Prostor: Lecture hall IV/4
END:VEVENT
BEGIN:VEVENT
SUMMARY:Izpit: Preoblikovanje nekovinskih gradiv (6221)
DTSTART;TZID=Europe/Ljubljana:20250210T140000
DTEND;TZID=Europe/Ljubljana:20250210T160000
DTSTAMP:20260419T123824Z
UID:fs-AFLABS-URNIK:rezervacija:7372
CATEGORIES:Reservation
COLOR:royalblue
DESCRIPTION:Predmeti: \nLetniki: \nIzvajalci: Joško Valentinčič\nProsto
 ri: Lecture hall V/2
LOCATION:Lecture hall V/2
ORGANIZER:Joško Valentinčič
X-WR-TIMEZONE:Europe/Ljubljana
END:VEVENT
BEGIN:VEVENT
SUMMARY:Izpit: Izdelovalne tehnologije 2 (2048)
DTSTART;TZID=Europe/Ljubljana:20250207T130000
DTEND;TZID=Europe/Ljubljana:20250207T150000
DTSTAMP:20260419T123824Z
UID:fs-AFLABS-URNIK:rezervacija:6736
CATEGORIES:Reservation
COLOR:royalblue
DESCRIPTION:Predmeti: \nLetniki: \nIzvajalci: Joško Valentinčič\nProsto
 ri: Lecture hall IV/4
LOCATION:Lecture hall IV/4
ORGANIZER:Joško Valentinčič
X-WR-TIMEZONE:Europe/Ljubljana
END:VEVENT
BEGIN:VEVENT
SUMMARY:Izpit: Mikroizdelovalne tehnologije (6044-M) [dve oceni]
DTSTART;TZID=Europe/Ljubljana:20250127T100000
DTEND;TZID=Europe/Ljubljana:20250127T120000
DTSTAMP:20260419T123824Z
UID:fs-AFLABS-URNIK:rezervacija:7047
CATEGORIES:Reservation
COLOR:royalblue
DESCRIPTION:Predmeti: \nLetniki: \nIzvajalci: Joško Valentinčič\nProsto
 ri: Lecture hall IV/2
LOCATION:Lecture hall IV/2
ORGANIZER:Joško Valentinčič
X-WR-TIMEZONE:Europe/Ljubljana
END:VEVENT
BEGIN:VEVENT
SUMMARY:Izpit: Izdelovalne tehnologije 2 (2029-U) [dve oceni]
DTSTART;TZID=Europe/Ljubljana:20250124T080000
DTEND;TZID=Europe/Ljubljana:20250124T100000
DTSTAMP:20260419T123824Z
UID:fs-AFLABS-URNIK:rezervacija:6732
CATEGORIES:Reservation
COLOR:royalblue
DESCRIPTION:Predmeti: \nLetniki: \nIzvajalci: Joško Valentinčič\nProsto
 ri: Lecture hall V/2\, Lecture hall V/8
LOCATION:Lecture hall V/2\, Lecture hall V/8
ORGANIZER:Joško Valentinčič
X-WR-TIMEZONE:Europe/Ljubljana
END:VEVENT
BEGIN:VEVENT
SUMMARY:Meta
DTSTART;TZID=Europe/Ljubljana:20241122T100000
DTEND;TZID=Europe/Ljubljana:20241122T113000
DTSTAMP:20260419T123824Z
UID:fs-AFLABS-URNIK:rezervacija:8606
CATEGORIES:Reservation
COLOR:royalblue
DESCRIPTION:Predmeti: \nLetniki: \nIzvajalci: Joško Valentinčič\nProsto
 ri: Lecture hall I/4A
LOCATION:Lecture hall I/4A
ORGANIZER:Joško Valentinčič
X-WR-TIMEZONE:Europe/Ljubljana
END:VEVENT
BEGIN:VEVENT
SUMMARY:Izpit: Mikroizdelovalne tehnologije (6044-M)
DTSTART;TZID=Europe/Ljubljana:20250210T140000
DTEND;TZID=Europe/Ljubljana:20250210T160000
DTSTAMP:20260419T123824Z
UID:fs-AFLABS-URNIK:rezervacija:7045
CATEGORIES:Reservation
COLOR:royalblue
DESCRIPTION:Predmeti: \nLetniki: \nIzvajalci: Joško Valentinčič\nProsto
 ri: Lecture hall V/2
LOCATION:Lecture hall V/2
ORGANIZER:Joško Valentinčič
X-WR-TIMEZONE:Europe/Ljubljana
END:VEVENT
BEGIN:VEVENT
SUMMARY:Meta
DTSTART;TZID=Europe/Ljubljana:20241025T100000
DTEND;TZID=Europe/Ljubljana:20241025T113000
DTSTAMP:20260419T123824Z
UID:fs-AFLABS-URNIK:rezervacija:8327
CATEGORIES:Reservation
COLOR:royalblue
DESCRIPTION:Predmeti: \nLetniki: \nIzvajalci: Joško Valentinčič\nProsto
 ri: Lecture hall II/3A
LOCATION:Lecture hall II/3A
ORGANIZER:Joško Valentinčič
X-WR-TIMEZONE:Europe/Ljubljana
END:VEVENT
BEGIN:VEVENT
SUMMARY:Meta
DTSTART;TZID=Europe/Ljubljana:20241115T080000
DTEND;TZID=Europe/Ljubljana:20241115T093000
DTSTAMP:20260419T123824Z
UID:fs-AFLABS-URNIK:rezervacija:8563
CATEGORIES:Reservation
COLOR:royalblue
DESCRIPTION:Predmeti: \nLetniki: \nIzvajalci: Joško Valentinčič\nProsto
 ri: Lecture hall II/5
LOCATION:Lecture hall II/5
ORGANIZER:Joško Valentinčič
X-WR-TIMEZONE:Europe/Ljubljana
END:VEVENT
BEGIN:VEVENT
SUMMARY:Izpit: Mikroizdelovalne tehnologije (6044-M)
DTSTART;TZID=Europe/Ljubljana:20250127T100000
DTEND;TZID=Europe/Ljubljana:20250127T120000
DTSTAMP:20260419T123824Z
UID:fs-AFLABS-URNIK:rezervacija:7044
CATEGORIES:Reservation
COLOR:royalblue
DESCRIPTION:Predmeti: \nLetniki: \nIzvajalci: Joško Valentinčič\nProsto
 ri: Lecture hall IV/2
LOCATION:Lecture hall IV/2
ORGANIZER:Joško Valentinčič
X-WR-TIMEZONE:Europe/Ljubljana
END:VEVENT
BEGIN:VEVENT
SUMMARY:Izpit: Alternativne tehnologije (3074)
DTSTART;TZID=Europe/Ljubljana:20250207T130000
DTEND;TZID=Europe/Ljubljana:20250207T150000
DTSTAMP:20260419T123824Z
UID:fs-AFLABS-URNIK:rezervacija:6401
CATEGORIES:Reservation
COLOR:royalblue
DESCRIPTION:Predmeti: \nLetniki: \nIzvajalci: Joško Valentinčič\nProsto
 ri: Lecture hall IV/4
LOCATION:Lecture hall IV/4
ORGANIZER:Joško Valentinčič
X-WR-TIMEZONE:Europe/Ljubljana
END:VEVENT
BEGIN:VEVENT
SUMMARY:Izpit: Izdelovalne tehnologije 2 (2029-U) [dve oceni]
DTSTART;TZID=Europe/Ljubljana:20250207T130000
DTEND;TZID=Europe/Ljubljana:20250207T150000
DTSTAMP:20260419T123824Z
UID:fs-AFLABS-URNIK:rezervacija:6733
CATEGORIES:Reservation
COLOR:royalblue
DESCRIPTION:Predmeti: \nLetniki: \nIzvajalci: Joško Valentinčič\nProsto
 ri: Lecture hall IV/4
LOCATION:Lecture hall IV/4
ORGANIZER:Joško Valentinčič
X-WR-TIMEZONE:Europe/Ljubljana
END:VEVENT
BEGIN:VEVENT
SUMMARY:Predavanja
DTSTART;TZID=Europe/Ljubljana:20241108T100000
DTEND;TZID=Europe/Ljubljana:20241108T113000
DTSTAMP:20260419T123824Z
UID:fs-AFLABS-URNIK:rezervacija:8368
CATEGORIES:Reservation
COLOR:royalblue
DESCRIPTION:Predmeti: \nLetniki: \nIzvajalci: Joško Valentinčič\nProsto
 ri: Lecture hall III/3A
LOCATION:Lecture hall III/3A
ORGANIZER:Joško Valentinčič
X-WR-TIMEZONE:Europe/Ljubljana
END:VEVENT
BEGIN:VEVENT
SUMMARY:Izpit: Mikroizdelovalne tehnologije (6044-M) [dve oceni]
DTSTART;TZID=Europe/Ljubljana:20250210T140000
DTEND;TZID=Europe/Ljubljana:20250210T160000
DTSTAMP:20260419T123824Z
UID:fs-AFLABS-URNIK:rezervacija:7048
CATEGORIES:Reservation
COLOR:royalblue
DESCRIPTION:Predmeti: \nLetniki: \nIzvajalci: Joško Valentinčič\nProsto
 ri: Lecture hall V/2
LOCATION:Lecture hall V/2
ORGANIZER:Joško Valentinčič
X-WR-TIMEZONE:Europe/Ljubljana
END:VEVENT
END:VCALENDAR
