BEGIN:VCALENDAR
VERSION:2.0
PRODID:-//AFLabs urnik izvoz - fs//aflabs.si//SI
NAME:UL FS Urnik
X-WR-CALNAME:UL FS Urnik
DTSTAMP:20260419T220608Z
REFRESH-INTERVAL:PT1H
SOURCE:https://urnik.fs.uni-lj.si/en/teacher/896/?day=2026-01-26&export=1
URL:https://urnik.fs.uni-lj.si/en/teacher/896/?day=2026-01-26&export=1
X-PUBLISHED-TTL:PT1H
X-WR-TIMEZONE:Europe/Ljubljana
BEGIN:VTIMEZONE
TZID:Europe/Ljubljana
BEGIN:DAYLIGHT
DTSTART:20260329T020000
RDATE:20260329T020000
RDATE:20270328T020000
TZNAME:CEST
TZOFFSETFROM:+0100
TZOFFSETTO:+0200
END:DAYLIGHT
BEGIN:STANDARD
DTSTART:20261025T030000
RDATE:20261025T030000
RDATE:20271031T030000
TZNAME:CET
TZOFFSETFROM:+0200
TZOFFSETTO:+0100
END:STANDARD
END:VTIMEZONE
BEGIN:VEVENT
SUMMARY:Technologies in production 1 (TP1P)\, Lectures (P)
DTSTART;TZID=Europe/Ljubljana:20260219T093000
DTEND;TZID=Europe/Ljubljana:20260219T123000
DTSTAMP:20260419T220608Z
UID:fs-AFLABS-URNIK:srecanje:15275-2026-02-19 09:30:00+01:00
DESCRIPTION:Predmet: Technologies in production 1 (TP1P)\, Lectures (P)\nL
 etniki: PAP-1 (PAP-1)\nIzvajalci: Franci Pušavec\, Joško Valentinčič\n
 Prostor: Lecture hall V/8
END:VEVENT
BEGIN:VEVENT
SUMMARY:Technologies in production 1 (TP1P)\, Lectures (P)
DTSTART;TZID=Europe/Ljubljana:20260226T093000
DTEND;TZID=Europe/Ljubljana:20260226T123000
DTSTAMP:20260419T220608Z
UID:fs-AFLABS-URNIK:srecanje:15275-2026-02-26 09:30:00+01:00
DESCRIPTION:Predmet: Technologies in production 1 (TP1P)\, Lectures (P)\nL
 etniki: PAP-1 (PAP-1)\nIzvajalci: Franci Pušavec\, Joško Valentinčič\n
 Prostor: Lecture hall V/8
END:VEVENT
BEGIN:VEVENT
SUMMARY:Non-traditional manufacturing processes (NIPP)\, Lectures (P)
DTSTART;TZID=Europe/Ljubljana:20260220T113000
DTEND;TZID=Europe/Ljubljana:20260220T133000
DTSTAMP:20260419T220608Z
UID:fs-AFLABS-URNIK:srecanje:16440-2026-02-20 11:30:00+01:00
DESCRIPTION:Predmet: Non-traditional manufacturing processes (NIPP)\, Lect
 ures (P)\nLetniki: Production technologies (PAP-2)\nIzvajalci: Andrej Leba
 r\, Joško Valentinčič\nProstor: Lecture hall II/3A
END:VEVENT
BEGIN:VEVENT
SUMMARY:Non-traditional manufacturing processes (NIPP)\, Lectures (P)
DTSTART;TZID=Europe/Ljubljana:20260227T113000
DTEND;TZID=Europe/Ljubljana:20260227T133000
DTSTAMP:20260419T220608Z
UID:fs-AFLABS-URNIK:srecanje:16440-2026-02-27 11:30:00+01:00
DESCRIPTION:Predmet: Non-traditional manufacturing processes (NIPP)\, Lect
 ures (P)\nLetniki: Production technologies (PAP-2)\nIzvajalci: Andrej Leba
 r\, Joško Valentinčič\nProstor: Lecture hall II/3A
END:VEVENT
BEGIN:VEVENT
SUMMARY:Izpit: Micromanufacturing Technologies
DTSTART;TZID=Europe/Ljubljana:20260209T140000
DTEND;TZID=Europe/Ljubljana:20260209T160000
DTSTAMP:20260419T220608Z
UID:fs-AFLABS-URNIK:rezervacija:11456
ATTENDEE:Erasmus (Erasmus)
CATEGORIES:Reservation
COLOR:royalblue
DESCRIPTION:Predmeti: Micromanufacturing Technologies (MMTE)\nLetniki: Era
 smus (Erasmus)\nIzvajalci: Joško Valentinčič\nProstori: Lecture hall V/
 2
LOCATION:Lecture hall V/2
ORGANIZER:Joško Valentinčič
X-WR-TIMEZONE:Europe/Ljubljana
END:VEVENT
BEGIN:VEVENT
SUMMARY:Izpit: Mikroizdelovalne tehnologije
DTSTART;TZID=Europe/Ljubljana:20260209T140000
DTEND;TZID=Europe/Ljubljana:20260209T160000
DTSTAMP:20260419T220608Z
UID:fs-AFLABS-URNIK:rezervacija:11461
ATTENDEE:Production engineering (MAG-1)
CATEGORIES:Reservation
COLOR:royalblue
DESCRIPTION:Predmeti: Micromanufacturing technologies (MITM)\nLetniki: Pro
 duction engineering (MAG-1)\nIzvajalci: Joško Valentinčič\nProstori: Le
 cture hall V/2
LOCATION:Lecture hall V/2
ORGANIZER:Joško Valentinčič
X-WR-TIMEZONE:Europe/Ljubljana
END:VEVENT
BEGIN:VEVENT
SUMMARY:Izpit: Mikroizdelovalne tehnologije
DTSTART;TZID=Europe/Ljubljana:20260209T140000
DTEND;TZID=Europe/Ljubljana:20260209T160000
DTSTAMP:20260419T220608Z
UID:fs-AFLABS-URNIK:rezervacija:11462
ATTENDEE:Production engineering (MAG-1)
CATEGORIES:Reservation
COLOR:royalblue
DESCRIPTION:Predmeti: Micromanufacturing technologies (MITM)\nLetniki: Pro
 duction engineering (MAG-1)\nIzvajalci: Joško Valentinčič\nProstori: Le
 cture hall V/2
LOCATION:Lecture hall V/2
ORGANIZER:Joško Valentinčič
X-WR-TIMEZONE:Europe/Ljubljana
END:VEVENT
BEGIN:VEVENT
SUMMARY:Izpit: Micromanufacturing Technologies
DTSTART;TZID=Europe/Ljubljana:20260126T100000
DTEND;TZID=Europe/Ljubljana:20260126T120000
DTSTAMP:20260419T220608Z
UID:fs-AFLABS-URNIK:rezervacija:12225
ATTENDEE:Erasmus (Erasmus)
CATEGORIES:Reservation
COLOR:royalblue
DESCRIPTION:Predmeti: Micromanufacturing Technologies (MMTE)\nLetniki: Era
 smus (Erasmus)\nIzvajalci: Joško Valentinčič\nProstori: Lecture hall IV
 /2
LOCATION:Lecture hall IV/2
ORGANIZER:Joško Valentinčič
X-WR-TIMEZONE:Europe/Ljubljana
END:VEVENT
BEGIN:VEVENT
SUMMARY:Izpit: Mikroizdelovalne tehnologije
DTSTART;TZID=Europe/Ljubljana:20260126T100000
DTEND;TZID=Europe/Ljubljana:20260126T120000
DTSTAMP:20260419T220608Z
UID:fs-AFLABS-URNIK:rezervacija:12227
ATTENDEE:Production engineering (MAG-1)
CATEGORIES:Reservation
COLOR:royalblue
DESCRIPTION:Predmeti: Micromanufacturing technologies (MITM)\nLetniki: Pro
 duction engineering (MAG-1)\nIzvajalci: Joško Valentinčič\nProstori: Le
 cture hall IV/2
LOCATION:Lecture hall IV/2
ORGANIZER:Joško Valentinčič
X-WR-TIMEZONE:Europe/Ljubljana
END:VEVENT
BEGIN:VEVENT
SUMMARY:Izpit: Mikroizdelovalne tehnologije
DTSTART;TZID=Europe/Ljubljana:20260126T100000
DTEND;TZID=Europe/Ljubljana:20260126T120000
DTSTAMP:20260419T220608Z
UID:fs-AFLABS-URNIK:rezervacija:12228
ATTENDEE:Production engineering (MAG-1)
CATEGORIES:Reservation
COLOR:royalblue
DESCRIPTION:Predmeti: Micromanufacturing technologies (MITM)\nLetniki: Pro
 duction engineering (MAG-1)\nIzvajalci: Joško Valentinčič\nProstori: Le
 cture hall IV/2
LOCATION:Lecture hall IV/2
ORGANIZER:Joško Valentinčič
X-WR-TIMEZONE:Europe/Ljubljana
END:VEVENT
BEGIN:VEVENT
SUMMARY:Izpit: Alternativne tehnologije
DTSTART;TZID=Europe/Ljubljana:20260206T130000
DTEND;TZID=Europe/Ljubljana:20260206T150000
DTSTAMP:20260419T220608Z
UID:fs-AFLABS-URNIK:rezervacija:12603
ATTENDEE:Proizvodno strojništvo - Proizvodne tehnologije (PAP-3)
CATEGORIES:Reservation
COLOR:royalblue
DESCRIPTION:Predmeti: Alternative Technologies (3074)\nLetniki: Proizvodno
  strojništvo - Proizvodne tehnologije (PAP-3)\nIzvajalci: Joško Valentin
 čič\nProstori: Lecture hall IV/4
LOCATION:Lecture hall IV/4
ORGANIZER:Joško Valentinčič
X-WR-TIMEZONE:Europe/Ljubljana
END:VEVENT
BEGIN:VEVENT
SUMMARY:Izpit: Izdelovalne tehnologije 2
DTSTART;TZID=Europe/Ljubljana:20260206T130000
DTEND;TZID=Europe/Ljubljana:20260206T150000
DTSTAMP:20260419T220608Z
UID:fs-AFLABS-URNIK:rezervacija:12605
ATTENDEE:RRP-3 (RRP-3)
CATEGORIES:Reservation
COLOR:royalblue
DESCRIPTION:Predmeti: Manufacturing Technologies 2 (2048)\nLetniki: RRP-3 
 (RRP-3)\nIzvajalci: Joško Valentinčič\nProstori: Lecture hall IV/4
LOCATION:Lecture hall IV/4
ORGANIZER:Joško Valentinčič
X-WR-TIMEZONE:Europe/Ljubljana
END:VEVENT
END:VCALENDAR
