BEGIN:VCALENDAR
VERSION:2.0
PRODID:-//AFLabs urnik izvoz - fs//aflabs.si//SI
NAME:UL FS Urnik
X-WR-CALNAME:UL FS Urnik
DTSTAMP:20260425T205414Z
REFRESH-INTERVAL:PT1H
SOURCE:https://urnik.fs.uni-lj.si/en/teacher/904/?day=2025-05-05&export=1
URL:https://urnik.fs.uni-lj.si/en/teacher/904/?day=2025-05-05&export=1
X-PUBLISHED-TTL:PT1H
X-WR-TIMEZONE:Europe/Ljubljana
BEGIN:VTIMEZONE
TZID:Europe/Ljubljana
BEGIN:DAYLIGHT
DTSTART:20260329T020000
RDATE:20260329T020000
RDATE:20270328T020000
TZNAME:CEST
TZOFFSETFROM:+0100
TZOFFSETTO:+0200
END:DAYLIGHT
BEGIN:STANDARD
DTSTART:20261025T030000
RDATE:20261025T030000
RDATE:20271031T030000
TZNAME:CET
TZOFFSETFROM:+0200
TZOFFSETTO:+0100
END:STANDARD
END:VTIMEZONE
BEGIN:VEVENT
SUMMARY:Refrigeration and heat pumps - PAP (HTTP)\, Laboratory excercises 
 (VL)\, [S1]
DTSTART;TZID=Europe/Ljubljana:20250226T093000
DTEND;TZID=Europe/Ljubljana:20250226T113000
DTSTAMP:20260425T205414Z
UID:fs-AFLABS-URNIK:srecanje:9509-2025-02-26 09:30:00+01:00
DESCRIPTION:Predmet: Refrigeration and heat pumps - PAP (HTTP)\, Laborator
 y excercises (VL)\, [S1]\nLetniki: Process engineering (PAP-2)\nIzvajalci:
  Matevž Cimermančič\, Urban Tomc\, Katja Vozel\nProstor: Laboratoriy LA
 HDE K-1A-I
END:VEVENT
BEGIN:VEVENT
SUMMARY:Refrigeration and heat pumps - PAP (HTTP)\, Laboratory excercises 
 (VL)\, [S1]
DTSTART;TZID=Europe/Ljubljana:20250312T093000
DTEND;TZID=Europe/Ljubljana:20250312T113000
DTSTAMP:20260425T205414Z
UID:fs-AFLABS-URNIK:srecanje:9509-2025-03-12 09:30:00+01:00
DESCRIPTION:Predmet: Refrigeration and heat pumps - PAP (HTTP)\, Laborator
 y excercises (VL)\, [S1]\nLetniki: Process engineering (PAP-2)\nIzvajalci:
  Matevž Cimermančič\, Urban Tomc\, Katja Vozel\nProstor: Laboratoriy LA
 HDE K-1A-I
END:VEVENT
BEGIN:VEVENT
SUMMARY:Refrigeration and heat pumps - PAP (HTTP)\, Laboratory excercises 
 (VL)\, [S1]
DTSTART;TZID=Europe/Ljubljana:20250326T093000
DTEND;TZID=Europe/Ljubljana:20250326T113000
DTSTAMP:20260425T205414Z
UID:fs-AFLABS-URNIK:srecanje:9509-2025-03-26 09:30:00+01:00
DESCRIPTION:Predmet: Refrigeration and heat pumps - PAP (HTTP)\, Laborator
 y excercises (VL)\, [S1]\nLetniki: Process engineering (PAP-2)\nIzvajalci:
  Matevž Cimermančič\, Urban Tomc\, Katja Vozel\nProstor: Laboratoriy LA
 HDE K-1A-I
END:VEVENT
BEGIN:VEVENT
SUMMARY:Refrigeration and heat pumps - PAP (HTTP)\, Laboratory excercises 
 (VL)\, [S1]
DTSTART;TZID=Europe/Ljubljana:20250409T093000
DTEND;TZID=Europe/Ljubljana:20250409T113000
DTSTAMP:20260425T205414Z
UID:fs-AFLABS-URNIK:srecanje:9509-2025-04-09 09:30:00+02:00
DESCRIPTION:Predmet: Refrigeration and heat pumps - PAP (HTTP)\, Laborator
 y excercises (VL)\, [S1]\nLetniki: Process engineering (PAP-2)\nIzvajalci:
  Matevž Cimermančič\, Urban Tomc\, Katja Vozel\nProstor: Laboratoriy LA
 HDE K-1A-I
END:VEVENT
BEGIN:VEVENT
SUMMARY:Refrigeration and heat pumps - PAP (HTTP)\, Laboratory excercises 
 (VL)\, [S1]
DTSTART;TZID=Europe/Ljubljana:20250423T093000
DTEND;TZID=Europe/Ljubljana:20250423T113000
DTSTAMP:20260425T205414Z
UID:fs-AFLABS-URNIK:srecanje:9509-2025-04-23 09:30:00+02:00
DESCRIPTION:Predmet: Refrigeration and heat pumps - PAP (HTTP)\, Laborator
 y excercises (VL)\, [S1]\nLetniki: Process engineering (PAP-2)\nIzvajalci:
  Matevž Cimermančič\, Urban Tomc\, Katja Vozel\nProstor: Laboratoriy LA
 HDE K-1A-I
END:VEVENT
BEGIN:VEVENT
SUMMARY:Refrigeration and heat pumps - PAP (HTTP)\, Laboratory excercises 
 (VL)\, [S1]
DTSTART;TZID=Europe/Ljubljana:20250430T093000
DTEND;TZID=Europe/Ljubljana:20250430T113000
DTSTAMP:20260425T205414Z
UID:fs-AFLABS-URNIK:srecanje:9509-2025-04-30 09:30:00+02:00
DESCRIPTION:Predmet: Refrigeration and heat pumps - PAP (HTTP)\, Laborator
 y excercises (VL)\, [S1]\nLetniki: Process engineering (PAP-2)\nIzvajalci:
  Matevž Cimermančič\, Urban Tomc\, Katja Vozel\nProstor: Laboratoriy LA
 HDE K-1A-I
END:VEVENT
BEGIN:VEVENT
SUMMARY:Refrigeration and heat pumps - PAP (HTTP)\, Laboratory excercises 
 (VL)\, [S1]
DTSTART;TZID=Europe/Ljubljana:20250507T093000
DTEND;TZID=Europe/Ljubljana:20250507T113000
DTSTAMP:20260425T205414Z
UID:fs-AFLABS-URNIK:srecanje:9509-2025-05-07 09:30:00+02:00
DESCRIPTION:Predmet: Refrigeration and heat pumps - PAP (HTTP)\, Laborator
 y excercises (VL)\, [S1]\nLetniki: Process engineering (PAP-2)\nIzvajalci:
  Matevž Cimermančič\, Urban Tomc\, Katja Vozel\nProstor: Laboratoriy LA
 HDE K-1A-I
END:VEVENT
BEGIN:VEVENT
SUMMARY:Refrigeration and heat pumps - PAP (HTTP)\, Laboratory excercises 
 (VL)\, [S1]
DTSTART;TZID=Europe/Ljubljana:20250514T093000
DTEND;TZID=Europe/Ljubljana:20250514T113000
DTSTAMP:20260425T205414Z
UID:fs-AFLABS-URNIK:srecanje:9509-2025-05-14 09:30:00+02:00
DESCRIPTION:Predmet: Refrigeration and heat pumps - PAP (HTTP)\, Laborator
 y excercises (VL)\, [S1]\nLetniki: Process engineering (PAP-2)\nIzvajalci:
  Matevž Cimermančič\, Urban Tomc\, Katja Vozel\nProstor: Laboratoriy LA
 HDE K-1A-I
END:VEVENT
BEGIN:VEVENT
SUMMARY:Refrigeration and heat pumps - PAP (HTTP)\, Laboratory excercises 
 (VL)\, [S1]
DTSTART;TZID=Europe/Ljubljana:20250521T093000
DTEND;TZID=Europe/Ljubljana:20250521T113000
DTSTAMP:20260425T205414Z
UID:fs-AFLABS-URNIK:srecanje:9509-2025-05-21 09:30:00+02:00
DESCRIPTION:Predmet: Refrigeration and heat pumps - PAP (HTTP)\, Laborator
 y excercises (VL)\, [S1]\nLetniki: Process engineering (PAP-2)\nIzvajalci:
  Matevž Cimermančič\, Urban Tomc\, Katja Vozel\nProstor: Laboratoriy LA
 HDE K-1A-I
END:VEVENT
BEGIN:VEVENT
SUMMARY:Refrigeration and heat pumps - PAP (HTTP)\, Laboratory excercises 
 (VL)\, [S1]
DTSTART;TZID=Europe/Ljubljana:20250528T093000
DTEND;TZID=Europe/Ljubljana:20250528T113000
DTSTAMP:20260425T205414Z
UID:fs-AFLABS-URNIK:srecanje:9509-2025-05-28 09:30:00+02:00
DESCRIPTION:Predmet: Refrigeration and heat pumps - PAP (HTTP)\, Laborator
 y excercises (VL)\, [S1]\nLetniki: Process engineering (PAP-2)\nIzvajalci:
  Matevž Cimermančič\, Urban Tomc\, Katja Vozel\nProstor: Laboratoriy LA
 HDE K-1A-I
END:VEVENT
BEGIN:VEVENT
SUMMARY:Refrigeration and heat pumps - PAP (HTTP)\, Laboratory excercises 
 (VL)\, [S2]
DTSTART;TZID=Europe/Ljubljana:20250226T153000
DTEND;TZID=Europe/Ljubljana:20250226T173000
DTSTAMP:20260425T205414Z
UID:fs-AFLABS-URNIK:srecanje:9510-2025-02-26 15:30:00+01:00
DESCRIPTION:Predmet: Refrigeration and heat pumps - PAP (HTTP)\, Laborator
 y excercises (VL)\, [S2]\nLetniki: Process engineering (PAP-2)\nIzvajalci:
  Matevž Cimermančič\, Urban Tomc\, Katja Vozel\nProstor: Laboratoriy LA
 HDE K-1A-I
END:VEVENT
BEGIN:VEVENT
SUMMARY:Refrigeration and heat pumps - PAP (HTTP)\, Laboratory excercises 
 (VL)\, [S2]
DTSTART;TZID=Europe/Ljubljana:20250312T153000
DTEND;TZID=Europe/Ljubljana:20250312T173000
DTSTAMP:20260425T205414Z
UID:fs-AFLABS-URNIK:srecanje:9510-2025-03-12 15:30:00+01:00
DESCRIPTION:Predmet: Refrigeration and heat pumps - PAP (HTTP)\, Laborator
 y excercises (VL)\, [S2]\nLetniki: Process engineering (PAP-2)\nIzvajalci:
  Matevž Cimermančič\, Urban Tomc\, Katja Vozel\nProstor: Laboratoriy LA
 HDE K-1A-I
END:VEVENT
BEGIN:VEVENT
SUMMARY:Refrigeration and heat pumps - PAP (HTTP)\, Laboratory excercises 
 (VL)\, [S2]
DTSTART;TZID=Europe/Ljubljana:20250326T153000
DTEND;TZID=Europe/Ljubljana:20250326T173000
DTSTAMP:20260425T205414Z
UID:fs-AFLABS-URNIK:srecanje:9510-2025-03-26 15:30:00+01:00
DESCRIPTION:Predmet: Refrigeration and heat pumps - PAP (HTTP)\, Laborator
 y excercises (VL)\, [S2]\nLetniki: Process engineering (PAP-2)\nIzvajalci:
  Matevž Cimermančič\, Urban Tomc\, Katja Vozel\nProstor: Laboratoriy LA
 HDE K-1A-I
END:VEVENT
BEGIN:VEVENT
SUMMARY:Refrigeration and heat pumps - PAP (HTTP)\, Laboratory excercises 
 (VL)\, [S2]
DTSTART;TZID=Europe/Ljubljana:20250409T153000
DTEND;TZID=Europe/Ljubljana:20250409T173000
DTSTAMP:20260425T205414Z
UID:fs-AFLABS-URNIK:srecanje:9510-2025-04-09 15:30:00+02:00
DESCRIPTION:Predmet: Refrigeration and heat pumps - PAP (HTTP)\, Laborator
 y excercises (VL)\, [S2]\nLetniki: Process engineering (PAP-2)\nIzvajalci:
  Matevž Cimermančič\, Urban Tomc\, Katja Vozel\nProstor: Laboratoriy LA
 HDE K-1A-I
END:VEVENT
BEGIN:VEVENT
SUMMARY:Refrigeration and heat pumps - PAP (HTTP)\, Laboratory excercises 
 (VL)\, [S2]
DTSTART;TZID=Europe/Ljubljana:20250423T153000
DTEND;TZID=Europe/Ljubljana:20250423T173000
DTSTAMP:20260425T205414Z
UID:fs-AFLABS-URNIK:srecanje:9510-2025-04-23 15:30:00+02:00
DESCRIPTION:Predmet: Refrigeration and heat pumps - PAP (HTTP)\, Laborator
 y excercises (VL)\, [S2]\nLetniki: Process engineering (PAP-2)\nIzvajalci:
  Matevž Cimermančič\, Urban Tomc\, Katja Vozel\nProstor: Laboratoriy LA
 HDE K-1A-I
END:VEVENT
BEGIN:VEVENT
SUMMARY:Refrigeration and heat pumps - PAP (HTTP)\, Laboratory excercises 
 (VL)\, [S2]
DTSTART;TZID=Europe/Ljubljana:20250430T153000
DTEND;TZID=Europe/Ljubljana:20250430T173000
DTSTAMP:20260425T205414Z
UID:fs-AFLABS-URNIK:srecanje:9510-2025-04-30 15:30:00+02:00
DESCRIPTION:Predmet: Refrigeration and heat pumps - PAP (HTTP)\, Laborator
 y excercises (VL)\, [S2]\nLetniki: Process engineering (PAP-2)\nIzvajalci:
  Matevž Cimermančič\, Urban Tomc\, Katja Vozel\nProstor: Laboratoriy LA
 HDE K-1A-I
END:VEVENT
BEGIN:VEVENT
SUMMARY:Refrigeration and heat pumps - PAP (HTTP)\, Laboratory excercises 
 (VL)\, [S2]
DTSTART;TZID=Europe/Ljubljana:20250507T153000
DTEND;TZID=Europe/Ljubljana:20250507T173000
DTSTAMP:20260425T205414Z
UID:fs-AFLABS-URNIK:srecanje:9510-2025-05-07 15:30:00+02:00
DESCRIPTION:Predmet: Refrigeration and heat pumps - PAP (HTTP)\, Laborator
 y excercises (VL)\, [S2]\nLetniki: Process engineering (PAP-2)\nIzvajalci:
  Matevž Cimermančič\, Urban Tomc\, Katja Vozel\nProstor: Laboratoriy LA
 HDE K-1A-I
END:VEVENT
BEGIN:VEVENT
SUMMARY:Refrigeration and heat pumps - PAP (HTTP)\, Laboratory excercises 
 (VL)\, [S2]
DTSTART;TZID=Europe/Ljubljana:20250514T153000
DTEND;TZID=Europe/Ljubljana:20250514T173000
DTSTAMP:20260425T205414Z
UID:fs-AFLABS-URNIK:srecanje:9510-2025-05-14 15:30:00+02:00
DESCRIPTION:Predmet: Refrigeration and heat pumps - PAP (HTTP)\, Laborator
 y excercises (VL)\, [S2]\nLetniki: Process engineering (PAP-2)\nIzvajalci:
  Matevž Cimermančič\, Urban Tomc\, Katja Vozel\nProstor: Laboratoriy LA
 HDE K-1A-I
END:VEVENT
BEGIN:VEVENT
SUMMARY:Refrigeration and heat pumps - PAP (HTTP)\, Laboratory excercises 
 (VL)\, [S2]
DTSTART;TZID=Europe/Ljubljana:20250521T153000
DTEND;TZID=Europe/Ljubljana:20250521T173000
DTSTAMP:20260425T205414Z
UID:fs-AFLABS-URNIK:srecanje:9510-2025-05-21 15:30:00+02:00
DESCRIPTION:Predmet: Refrigeration and heat pumps - PAP (HTTP)\, Laborator
 y excercises (VL)\, [S2]\nLetniki: Process engineering (PAP-2)\nIzvajalci:
  Matevž Cimermančič\, Urban Tomc\, Katja Vozel\nProstor: Laboratoriy LA
 HDE K-1A-I
END:VEVENT
BEGIN:VEVENT
SUMMARY:Refrigeration and heat pumps - PAP (HTTP)\, Laboratory excercises 
 (VL)\, [S2]
DTSTART;TZID=Europe/Ljubljana:20250528T153000
DTEND;TZID=Europe/Ljubljana:20250528T173000
DTSTAMP:20260425T205414Z
UID:fs-AFLABS-URNIK:srecanje:9510-2025-05-28 15:30:00+02:00
DESCRIPTION:Predmet: Refrigeration and heat pumps - PAP (HTTP)\, Laborator
 y excercises (VL)\, [S2]\nLetniki: Process engineering (PAP-2)\nIzvajalci:
  Matevž Cimermančič\, Urban Tomc\, Katja Vozel\nProstor: Laboratoriy LA
 HDE K-1A-I
END:VEVENT
BEGIN:VEVENT
SUMMARY:Refrigeration and heat pumps - PAP (HTTP)\, Laboratory excercises 
 (VL)\, [S3]
DTSTART;TZID=Europe/Ljubljana:20250228T073000
DTEND;TZID=Europe/Ljubljana:20250228T093000
DTSTAMP:20260425T205414Z
UID:fs-AFLABS-URNIK:srecanje:9511-2025-02-28 07:30:00+01:00
DESCRIPTION:Predmet: Refrigeration and heat pumps - PAP (HTTP)\, Laborator
 y excercises (VL)\, [S3]\nLetniki: Process engineering (PAP-2)\nIzvajalci:
  Matevž Cimermančič\, Urban Tomc\, Katja Vozel\nProstor: Laboratoriy LA
 HDE K-1A-I
END:VEVENT
BEGIN:VEVENT
SUMMARY:Refrigeration and heat pumps - PAP (HTTP)\, Laboratory excercises 
 (VL)\, [S3]
DTSTART;TZID=Europe/Ljubljana:20250314T073000
DTEND;TZID=Europe/Ljubljana:20250314T093000
DTSTAMP:20260425T205414Z
UID:fs-AFLABS-URNIK:srecanje:9511-2025-03-14 07:30:00+01:00
DESCRIPTION:Predmet: Refrigeration and heat pumps - PAP (HTTP)\, Laborator
 y excercises (VL)\, [S3]\nLetniki: Process engineering (PAP-2)\nIzvajalci:
  Matevž Cimermančič\, Urban Tomc\, Katja Vozel\nProstor: Laboratoriy LA
 HDE K-1A-I
END:VEVENT
BEGIN:VEVENT
SUMMARY:Refrigeration and heat pumps - PAP (HTTP)\, Laboratory excercises 
 (VL)\, [S3]
DTSTART;TZID=Europe/Ljubljana:20250328T073000
DTEND;TZID=Europe/Ljubljana:20250328T093000
DTSTAMP:20260425T205414Z
UID:fs-AFLABS-URNIK:srecanje:9511-2025-03-28 07:30:00+01:00
DESCRIPTION:Predmet: Refrigeration and heat pumps - PAP (HTTP)\, Laborator
 y excercises (VL)\, [S3]\nLetniki: Process engineering (PAP-2)\nIzvajalci:
  Matevž Cimermančič\, Urban Tomc\, Katja Vozel\nProstor: Laboratoriy LA
 HDE K-1A-I
END:VEVENT
BEGIN:VEVENT
SUMMARY:Refrigeration and heat pumps - PAP (HTTP)\, Laboratory excercises 
 (VL)\, [S3]
DTSTART;TZID=Europe/Ljubljana:20250411T073000
DTEND;TZID=Europe/Ljubljana:20250411T093000
DTSTAMP:20260425T205414Z
UID:fs-AFLABS-URNIK:srecanje:9511-2025-04-11 07:30:00+02:00
DESCRIPTION:Predmet: Refrigeration and heat pumps - PAP (HTTP)\, Laborator
 y excercises (VL)\, [S3]\nLetniki: Process engineering (PAP-2)\nIzvajalci:
  Matevž Cimermančič\, Urban Tomc\, Katja Vozel\nProstor: Laboratoriy LA
 HDE K-1A-I
END:VEVENT
BEGIN:VEVENT
SUMMARY:Refrigeration and heat pumps - PAP (HTTP)\, Laboratory excercises 
 (VL)\, [S3]
DTSTART;TZID=Europe/Ljubljana:20250425T073000
DTEND;TZID=Europe/Ljubljana:20250425T093000
DTSTAMP:20260425T205414Z
UID:fs-AFLABS-URNIK:srecanje:9511-2025-04-25 07:30:00+02:00
DESCRIPTION:Predmet: Refrigeration and heat pumps - PAP (HTTP)\, Laborator
 y excercises (VL)\, [S3]\nLetniki: Process engineering (PAP-2)\nIzvajalci:
  Matevž Cimermančič\, Urban Tomc\, Katja Vozel\nProstor: Laboratoriy LA
 HDE K-1A-I
END:VEVENT
BEGIN:VEVENT
SUMMARY:Refrigeration and heat pumps - PAP (HTTP)\, Laboratory excercises 
 (VL)\, [S3]
DTSTART;TZID=Europe/Ljubljana:20250502T073000
DTEND;TZID=Europe/Ljubljana:20250502T093000
DTSTAMP:20260425T205414Z
UID:fs-AFLABS-URNIK:srecanje:9511-2025-05-02 07:30:00+02:00
DESCRIPTION:Predmet: Refrigeration and heat pumps - PAP (HTTP)\, Laborator
 y excercises (VL)\, [S3]\nLetniki: Process engineering (PAP-2)\nIzvajalci:
  Matevž Cimermančič\, Urban Tomc\, Katja Vozel\nProstor: Laboratoriy LA
 HDE K-1A-I
END:VEVENT
BEGIN:VEVENT
SUMMARY:Refrigeration and heat pumps - PAP (HTTP)\, Laboratory excercises 
 (VL)\, [S3]
DTSTART;TZID=Europe/Ljubljana:20250509T073000
DTEND;TZID=Europe/Ljubljana:20250509T093000
DTSTAMP:20260425T205414Z
UID:fs-AFLABS-URNIK:srecanje:9511-2025-05-09 07:30:00+02:00
DESCRIPTION:Predmet: Refrigeration and heat pumps - PAP (HTTP)\, Laborator
 y excercises (VL)\, [S3]\nLetniki: Process engineering (PAP-2)\nIzvajalci:
  Matevž Cimermančič\, Urban Tomc\, Katja Vozel\nProstor: Laboratoriy LA
 HDE K-1A-I
END:VEVENT
BEGIN:VEVENT
SUMMARY:Refrigeration and heat pumps - PAP (HTTP)\, Laboratory excercises 
 (VL)\, [S3]
DTSTART;TZID=Europe/Ljubljana:20250516T073000
DTEND;TZID=Europe/Ljubljana:20250516T093000
DTSTAMP:20260425T205414Z
UID:fs-AFLABS-URNIK:srecanje:9511-2025-05-16 07:30:00+02:00
DESCRIPTION:Predmet: Refrigeration and heat pumps - PAP (HTTP)\, Laborator
 y excercises (VL)\, [S3]\nLetniki: Process engineering (PAP-2)\nIzvajalci:
  Matevž Cimermančič\, Urban Tomc\, Katja Vozel\nProstor: Laboratoriy LA
 HDE K-1A-I
END:VEVENT
BEGIN:VEVENT
SUMMARY:Refrigeration and heat pumps - PAP (HTTP)\, Laboratory excercises 
 (VL)\, [S3]
DTSTART;TZID=Europe/Ljubljana:20250523T073000
DTEND;TZID=Europe/Ljubljana:20250523T093000
DTSTAMP:20260425T205414Z
UID:fs-AFLABS-URNIK:srecanje:9511-2025-05-23 07:30:00+02:00
DESCRIPTION:Predmet: Refrigeration and heat pumps - PAP (HTTP)\, Laborator
 y excercises (VL)\, [S3]\nLetniki: Process engineering (PAP-2)\nIzvajalci:
  Matevž Cimermančič\, Urban Tomc\, Katja Vozel\nProstor: Laboratoriy LA
 HDE K-1A-I
END:VEVENT
BEGIN:VEVENT
SUMMARY:Refrigeration and heat pumps - PAP (HTTP)\, Laboratory excercises 
 (VL)\, [S3]
DTSTART;TZID=Europe/Ljubljana:20250530T073000
DTEND;TZID=Europe/Ljubljana:20250530T093000
DTSTAMP:20260425T205414Z
UID:fs-AFLABS-URNIK:srecanje:9511-2025-05-30 07:30:00+02:00
DESCRIPTION:Predmet: Refrigeration and heat pumps - PAP (HTTP)\, Laborator
 y excercises (VL)\, [S3]\nLetniki: Process engineering (PAP-2)\nIzvajalci:
  Matevž Cimermančič\, Urban Tomc\, Katja Vozel\nProstor: Laboratoriy LA
 HDE K-1A-I
END:VEVENT
BEGIN:VEVENT
SUMMARY:Refrigeration and heat pumps - PAP (HTTP)\, Laboratory excercises 
 (VL)\, [S4]
DTSTART;TZID=Europe/Ljubljana:20250228T093000
DTEND;TZID=Europe/Ljubljana:20250228T113000
DTSTAMP:20260425T205414Z
UID:fs-AFLABS-URNIK:srecanje:9512-2025-02-28 09:30:00+01:00
DESCRIPTION:Predmet: Refrigeration and heat pumps - PAP (HTTP)\, Laborator
 y excercises (VL)\, [S4]\nLetniki: Process engineering (PAP-2)\nIzvajalci:
  Matevž Cimermančič\, Urban Tomc\, Katja Vozel\nProstor: Laboratoriy LA
 HDE K-1A-I
END:VEVENT
BEGIN:VEVENT
SUMMARY:Refrigeration and heat pumps - PAP (HTTP)\, Laboratory excercises 
 (VL)\, [S4]
DTSTART;TZID=Europe/Ljubljana:20250314T093000
DTEND;TZID=Europe/Ljubljana:20250314T113000
DTSTAMP:20260425T205414Z
UID:fs-AFLABS-URNIK:srecanje:9512-2025-03-14 09:30:00+01:00
DESCRIPTION:Predmet: Refrigeration and heat pumps - PAP (HTTP)\, Laborator
 y excercises (VL)\, [S4]\nLetniki: Process engineering (PAP-2)\nIzvajalci:
  Matevž Cimermančič\, Urban Tomc\, Katja Vozel\nProstor: Laboratoriy LA
 HDE K-1A-I
END:VEVENT
BEGIN:VEVENT
SUMMARY:Refrigeration and heat pumps - PAP (HTTP)\, Laboratory excercises 
 (VL)\, [S4]
DTSTART;TZID=Europe/Ljubljana:20250328T093000
DTEND;TZID=Europe/Ljubljana:20250328T113000
DTSTAMP:20260425T205414Z
UID:fs-AFLABS-URNIK:srecanje:9512-2025-03-28 09:30:00+01:00
DESCRIPTION:Predmet: Refrigeration and heat pumps - PAP (HTTP)\, Laborator
 y excercises (VL)\, [S4]\nLetniki: Process engineering (PAP-2)\nIzvajalci:
  Matevž Cimermančič\, Urban Tomc\, Katja Vozel\nProstor: Laboratoriy LA
 HDE K-1A-I
END:VEVENT
BEGIN:VEVENT
SUMMARY:Refrigeration and heat pumps - PAP (HTTP)\, Laboratory excercises 
 (VL)\, [S4]
DTSTART;TZID=Europe/Ljubljana:20250411T093000
DTEND;TZID=Europe/Ljubljana:20250411T113000
DTSTAMP:20260425T205414Z
UID:fs-AFLABS-URNIK:srecanje:9512-2025-04-11 09:30:00+02:00
DESCRIPTION:Predmet: Refrigeration and heat pumps - PAP (HTTP)\, Laborator
 y excercises (VL)\, [S4]\nLetniki: Process engineering (PAP-2)\nIzvajalci:
  Matevž Cimermančič\, Urban Tomc\, Katja Vozel\nProstor: Laboratoriy LA
 HDE K-1A-I
END:VEVENT
BEGIN:VEVENT
SUMMARY:Refrigeration and heat pumps - PAP (HTTP)\, Laboratory excercises 
 (VL)\, [S4]
DTSTART;TZID=Europe/Ljubljana:20250425T093000
DTEND;TZID=Europe/Ljubljana:20250425T113000
DTSTAMP:20260425T205414Z
UID:fs-AFLABS-URNIK:srecanje:9512-2025-04-25 09:30:00+02:00
DESCRIPTION:Predmet: Refrigeration and heat pumps - PAP (HTTP)\, Laborator
 y excercises (VL)\, [S4]\nLetniki: Process engineering (PAP-2)\nIzvajalci:
  Matevž Cimermančič\, Urban Tomc\, Katja Vozel\nProstor: Laboratoriy LA
 HDE K-1A-I
END:VEVENT
BEGIN:VEVENT
SUMMARY:Refrigeration and heat pumps - PAP (HTTP)\, Laboratory excercises 
 (VL)\, [S4]
DTSTART;TZID=Europe/Ljubljana:20250502T093000
DTEND;TZID=Europe/Ljubljana:20250502T113000
DTSTAMP:20260425T205414Z
UID:fs-AFLABS-URNIK:srecanje:9512-2025-05-02 09:30:00+02:00
DESCRIPTION:Predmet: Refrigeration and heat pumps - PAP (HTTP)\, Laborator
 y excercises (VL)\, [S4]\nLetniki: Process engineering (PAP-2)\nIzvajalci:
  Matevž Cimermančič\, Urban Tomc\, Katja Vozel\nProstor: Laboratoriy LA
 HDE K-1A-I
END:VEVENT
BEGIN:VEVENT
SUMMARY:Refrigeration and heat pumps - PAP (HTTP)\, Laboratory excercises 
 (VL)\, [S4]
DTSTART;TZID=Europe/Ljubljana:20250509T093000
DTEND;TZID=Europe/Ljubljana:20250509T113000
DTSTAMP:20260425T205414Z
UID:fs-AFLABS-URNIK:srecanje:9512-2025-05-09 09:30:00+02:00
DESCRIPTION:Predmet: Refrigeration and heat pumps - PAP (HTTP)\, Laborator
 y excercises (VL)\, [S4]\nLetniki: Process engineering (PAP-2)\nIzvajalci:
  Matevž Cimermančič\, Urban Tomc\, Katja Vozel\nProstor: Laboratoriy LA
 HDE K-1A-I
END:VEVENT
BEGIN:VEVENT
SUMMARY:Refrigeration and heat pumps - PAP (HTTP)\, Laboratory excercises 
 (VL)\, [S4]
DTSTART;TZID=Europe/Ljubljana:20250516T093000
DTEND;TZID=Europe/Ljubljana:20250516T113000
DTSTAMP:20260425T205414Z
UID:fs-AFLABS-URNIK:srecanje:9512-2025-05-16 09:30:00+02:00
DESCRIPTION:Predmet: Refrigeration and heat pumps - PAP (HTTP)\, Laborator
 y excercises (VL)\, [S4]\nLetniki: Process engineering (PAP-2)\nIzvajalci:
  Matevž Cimermančič\, Urban Tomc\, Katja Vozel\nProstor: Laboratoriy LA
 HDE K-1A-I
END:VEVENT
BEGIN:VEVENT
SUMMARY:Refrigeration and heat pumps - PAP (HTTP)\, Laboratory excercises 
 (VL)\, [S4]
DTSTART;TZID=Europe/Ljubljana:20250523T093000
DTEND;TZID=Europe/Ljubljana:20250523T113000
DTSTAMP:20260425T205414Z
UID:fs-AFLABS-URNIK:srecanje:9512-2025-05-23 09:30:00+02:00
DESCRIPTION:Predmet: Refrigeration and heat pumps - PAP (HTTP)\, Laborator
 y excercises (VL)\, [S4]\nLetniki: Process engineering (PAP-2)\nIzvajalci:
  Matevž Cimermančič\, Urban Tomc\, Katja Vozel\nProstor: Laboratoriy LA
 HDE K-1A-I
END:VEVENT
BEGIN:VEVENT
SUMMARY:Refrigeration and heat pumps - PAP (HTTP)\, Laboratory excercises 
 (VL)\, [S4]
DTSTART;TZID=Europe/Ljubljana:20250530T093000
DTEND;TZID=Europe/Ljubljana:20250530T113000
DTSTAMP:20260425T205414Z
UID:fs-AFLABS-URNIK:srecanje:9512-2025-05-30 09:30:00+02:00
DESCRIPTION:Predmet: Refrigeration and heat pumps - PAP (HTTP)\, Laborator
 y excercises (VL)\, [S4]\nLetniki: Process engineering (PAP-2)\nIzvajalci:
  Matevž Cimermančič\, Urban Tomc\, Katja Vozel\nProstor: Laboratoriy LA
 HDE K-1A-I
END:VEVENT
BEGIN:VEVENT
SUMMARY:Sestanek TD
DTSTART;TZID=Europe/Ljubljana:20250423T100000
DTEND;TZID=Europe/Ljubljana:20250423T110000
DTSTAMP:20260425T205414Z
UID:fs-AFLABS-URNIK:rezervacija:9941
CATEGORIES:Reservation
COLOR:royalblue
DESCRIPTION:Predmeti: \nLetniki: \nIzvajalci: Darja Gačnik\, Katja Vozel\
 nProstori: Conference room
LOCATION:Conference room
ORGANIZER:Darja Gačnik, Katja Vozel
X-WR-TIMEZONE:Europe/Ljubljana
END:VEVENT
BEGIN:VEVENT
SUMMARY:Sestanek TD
DTSTART;TZID=Europe/Ljubljana:20250507T100000
DTEND;TZID=Europe/Ljubljana:20250507T110000
DTSTAMP:20260425T205414Z
UID:fs-AFLABS-URNIK:rezervacija:9942
CATEGORIES:Reservation
COLOR:royalblue
DESCRIPTION:Predmeti: \nLetniki: \nIzvajalci: Darja Gačnik\, Katja Vozel\
 nProstori: Conference room
LOCATION:Conference room
ORGANIZER:Darja Gačnik, Katja Vozel
X-WR-TIMEZONE:Europe/Ljubljana
END:VEVENT
BEGIN:VEVENT
SUMMARY:Sestanek toplotne diode
DTSTART;TZID=Europe/Ljubljana:20250304T100000
DTEND;TZID=Europe/Ljubljana:20250304T103000
DTSTAMP:20260425T205414Z
UID:fs-AFLABS-URNIK:rezervacija:9492
CATEGORIES:Reservation
COLOR:royalblue
DESCRIPTION:Predmeti: \nLetniki: \nIzvajalci: Darja Gačnik\, Katja Klinar
 \, Katja Vozel\nProstori: Conference room
LOCATION:Conference room
ORGANIZER:Darja Gačnik, Katja Klinar, Katja Vozel
X-WR-TIMEZONE:Europe/Ljubljana
END:VEVENT
END:VCALENDAR
