BEGIN:VCALENDAR
VERSION:2.0
PRODID:-//AFLabs urnik izvoz - fs//aflabs.si//SI
NAME:UL FS Urnik
X-WR-CALNAME:UL FS Urnik
DTSTAMP:20260426T034302Z
REFRESH-INTERVAL:PT1H
SOURCE:https://urnik.fs.uni-lj.si/en/teacher/908/?day=2024-02-12&export=1
URL:https://urnik.fs.uni-lj.si/en/teacher/908/?day=2024-02-12&export=1
X-PUBLISHED-TTL:PT1H
X-WR-TIMEZONE:Europe/Ljubljana
BEGIN:VTIMEZONE
TZID:Europe/Ljubljana
BEGIN:DAYLIGHT
DTSTART:20260329T020000
RDATE:20260329T020000
RDATE:20270328T020000
TZNAME:CEST
TZOFFSETFROM:+0100
TZOFFSETTO:+0200
END:DAYLIGHT
BEGIN:STANDARD
DTSTART:20261025T030000
RDATE:20261025T030000
RDATE:20271031T030000
TZNAME:CET
TZOFFSETFROM:+0200
TZOFFSETTO:+0100
END:STANDARD
END:VTIMEZONE
BEGIN:VEVENT
SUMMARY:Computer aided modelling of geometry (RMGP)\, Lectures (P)
DTSTART;TZID=Europe/Ljubljana:20240220T133000
DTEND;TZID=Europe/Ljubljana:20240220T153000
DTSTAMP:20260426T034302Z
UID:fs-AFLABS-URNIK:srecanje:3809-2024-02-20 13:30:00+01:00
DESCRIPTION:Predmet: Computer aided modelling of geometry (RMGP)\, Lecture
 s (P)\nLetniki: PAP-1 (PAP-1)\nIzvajalci: Leon Kos\, Nikola Vukašinović\
 , Damijan Zorko\nProstor: Lecture hall V/8
END:VEVENT
BEGIN:VEVENT
SUMMARY:Computer aided modelling of geometry (RMGP)\, Lectures (P)
DTSTART;TZID=Europe/Ljubljana:20240227T133000
DTEND;TZID=Europe/Ljubljana:20240227T153000
DTSTAMP:20260426T034302Z
UID:fs-AFLABS-URNIK:srecanje:3809-2024-02-27 13:30:00+01:00
DESCRIPTION:Predmet: Computer aided modelling of geometry (RMGP)\, Lecture
 s (P)\nLetniki: PAP-1 (PAP-1)\nIzvajalci: Leon Kos\, Nikola Vukašinović\
 , Damijan Zorko\nProstor: Lecture hall V/8
END:VEVENT
BEGIN:VEVENT
SUMMARY:Computer aided modelling of geometry (RMGP)\, Lectures (P)
DTSTART;TZID=Europe/Ljubljana:20240305T133000
DTEND;TZID=Europe/Ljubljana:20240305T153000
DTSTAMP:20260426T034302Z
UID:fs-AFLABS-URNIK:srecanje:3809-2024-03-05 13:30:00+01:00
DESCRIPTION:Predmet: Computer aided modelling of geometry (RMGP)\, Lecture
 s (P)\nLetniki: PAP-1 (PAP-1)\nIzvajalci: Leon Kos\, Nikola Vukašinović\
 , Damijan Zorko\nProstor: Lecture hall V/8
END:VEVENT
BEGIN:VEVENT
SUMMARY:Computer aided modelling of geometry (RMGP)\, Lectures (P)
DTSTART;TZID=Europe/Ljubljana:20240312T133000
DTEND;TZID=Europe/Ljubljana:20240312T153000
DTSTAMP:20260426T034302Z
UID:fs-AFLABS-URNIK:srecanje:3809-2024-03-12 13:30:00+01:00
DESCRIPTION:Predmet: Computer aided modelling of geometry (RMGP)\, Lecture
 s (P)\nLetniki: PAP-1 (PAP-1)\nIzvajalci: Leon Kos\, Nikola Vukašinović\
 , Damijan Zorko\nProstor: Lecture hall V/8
END:VEVENT
BEGIN:VEVENT
SUMMARY:Engineering reporting - PAP (PVSP)\, Lectures (P)
DTSTART;TZID=Europe/Ljubljana:20240222T073000
DTEND;TZID=Europe/Ljubljana:20240222T083000
DTSTAMP:20260426T034302Z
UID:fs-AFLABS-URNIK:srecanje:3784-2024-02-22 07:30:00+01:00
DESCRIPTION:Predmet: Engineering reporting - PAP (PVSP)\, Lectures (P)\nLe
 tniki: PAP-1 (PAP-1)\nIzvajalci: Miha Brojan\, Franc Majdič\, Rok Vrabič
 \, Nikola Vukašinović\nProstor: Lecture hall V/8
END:VEVENT
BEGIN:VEVENT
SUMMARY:Engineering reporting - PAP (PVSP)\, Lectures (P)
DTSTART;TZID=Europe/Ljubljana:20240229T073000
DTEND;TZID=Europe/Ljubljana:20240229T083000
DTSTAMP:20260426T034302Z
UID:fs-AFLABS-URNIK:srecanje:3784-2024-02-29 07:30:00+01:00
DESCRIPTION:Predmet: Engineering reporting - PAP (PVSP)\, Lectures (P)\nLe
 tniki: PAP-1 (PAP-1)\nIzvajalci: Miha Brojan\, Franc Majdič\, Rok Vrabič
 \, Nikola Vukašinović\nProstor: Lecture hall V/8
END:VEVENT
BEGIN:VEVENT
SUMMARY:Engineering reporting - PAP (PVSP)\, Lectures (P)
DTSTART;TZID=Europe/Ljubljana:20240307T073000
DTEND;TZID=Europe/Ljubljana:20240307T083000
DTSTAMP:20260426T034302Z
UID:fs-AFLABS-URNIK:srecanje:3784-2024-03-07 07:30:00+01:00
DESCRIPTION:Predmet: Engineering reporting - PAP (PVSP)\, Lectures (P)\nLe
 tniki: PAP-1 (PAP-1)\nIzvajalci: Miha Brojan\, Franc Majdič\, Rok Vrabič
 \, Nikola Vukašinović\nProstor: Lecture hall V/8
END:VEVENT
BEGIN:VEVENT
SUMMARY:Engineering reporting - PAP (PVSP)\, Lectures (P)
DTSTART;TZID=Europe/Ljubljana:20240314T073000
DTEND;TZID=Europe/Ljubljana:20240314T083000
DTSTAMP:20260426T034302Z
UID:fs-AFLABS-URNIK:srecanje:3784-2024-03-14 07:30:00+01:00
DESCRIPTION:Predmet: Engineering reporting - PAP (PVSP)\, Lectures (P)\nLe
 tniki: PAP-1 (PAP-1)\nIzvajalci: Miha Brojan\, Franc Majdič\, Rok Vrabič
 \, Nikola Vukašinović\nProstor: Lecture hall V/8
END:VEVENT
BEGIN:VEVENT
SUMMARY:Engineerig Design Methodology - RRP (MTKR)\, Lectures (P)
DTSTART;TZID=Europe/Ljubljana:20240223T080000
DTEND;TZID=Europe/Ljubljana:20240223T100000
DTSTAMP:20260426T034302Z
UID:fs-AFLABS-URNIK:srecanje:8048-2024-02-23 08:00:00+01:00
DESCRIPTION:Predmet: Engineerig Design Methodology - RRP (MTKR)\, Lectures
  (P)\nLetniki: RRP-2 (RRP-2)\nIzvajalci: Janez Benedičič\, Nikola Vukaš
 inović\nProstor: Lecture hall V/2
END:VEVENT
BEGIN:VEVENT
SUMMARY:Engineerig Design Methodology - RRP (MTKR)\, Lectures (P)
DTSTART;TZID=Europe/Ljubljana:20240301T080000
DTEND;TZID=Europe/Ljubljana:20240301T100000
DTSTAMP:20260426T034302Z
UID:fs-AFLABS-URNIK:srecanje:8048-2024-03-01 08:00:00+01:00
DESCRIPTION:Predmet: Engineerig Design Methodology - RRP (MTKR)\, Lectures
  (P)\nLetniki: RRP-2 (RRP-2)\nIzvajalci: Janez Benedičič\, Nikola Vukaš
 inović\nProstor: Lecture hall V/2
END:VEVENT
BEGIN:VEVENT
SUMMARY:Engineerig Design Methodology - RRP (MTKR)\, Lectures (P)
DTSTART;TZID=Europe/Ljubljana:20240308T080000
DTEND;TZID=Europe/Ljubljana:20240308T100000
DTSTAMP:20260426T034302Z
UID:fs-AFLABS-URNIK:srecanje:8048-2024-03-08 08:00:00+01:00
DESCRIPTION:Predmet: Engineerig Design Methodology - RRP (MTKR)\, Lectures
  (P)\nLetniki: RRP-2 (RRP-2)\nIzvajalci: Janez Benedičič\, Nikola Vukaš
 inović\nProstor: Lecture hall V/2
END:VEVENT
BEGIN:VEVENT
SUMMARY:Engineerig Design Methodology - RRP (MTKR)\, Lectures (P)
DTSTART;TZID=Europe/Ljubljana:20240315T080000
DTEND;TZID=Europe/Ljubljana:20240315T100000
DTSTAMP:20260426T034302Z
UID:fs-AFLABS-URNIK:srecanje:8048-2024-03-15 08:00:00+01:00
DESCRIPTION:Predmet: Engineerig Design Methodology - RRP (MTKR)\, Lectures
  (P)\nLetniki: RRP-2 (RRP-2)\nIzvajalci: Janez Benedičič\, Nikola Vukaš
 inović\nProstor: Lecture hall V/2
END:VEVENT
BEGIN:VEVENT
SUMMARY:Izpit: Snovanje in razvoj izdelka (2046)
DTSTART;TZID=Europe/Ljubljana:20240214T080000
DTEND;TZID=Europe/Ljubljana:20240214T100000
DTSTAMP:20260426T034302Z
UID:fs-AFLABS-URNIK:rezervacija:3545
CATEGORIES:Reservation
COLOR:royalblue
DESCRIPTION:Predmeti: \nLetniki: \nIzvajalci: Nikola Vukašinović\nProsto
 ri: 
ORGANIZER:Nikola Vukašinović
X-WR-TIMEZONE:Europe/Ljubljana
END:VEVENT
BEGIN:VEVENT
SUMMARY:Izpit: Konstruiranje z nekovinskimi gradivi (6203)
DTSTART;TZID=Europe/Ljubljana:20240122T080000
DTEND;TZID=Europe/Ljubljana:20240122T100000
DTSTAMP:20260426T034302Z
UID:fs-AFLABS-URNIK:rezervacija:3578
CATEGORIES:Reservation
COLOR:royalblue
DESCRIPTION:Predmeti: \nLetniki: \nIzvajalci: Nikola Vukašinović\nProsto
 ri: Lecture hall III/3B
LOCATION:Lecture hall III/3B
ORGANIZER:Nikola Vukašinović
X-WR-TIMEZONE:Europe/Ljubljana
END:VEVENT
BEGIN:VEVENT
SUMMARY:Izpit: Metodika konstruiranja (2042)
DTSTART;TZID=Europe/Ljubljana:20240129T080000
DTEND;TZID=Europe/Ljubljana:20240129T100000
DTSTAMP:20260426T034302Z
UID:fs-AFLABS-URNIK:rezervacija:3681
CATEGORIES:Reservation
COLOR:royalblue
DESCRIPTION:Predmeti: \nLetniki: \nIzvajalci: Nikola Vukašinović\nProsto
 ri: Lecture hall II/2
LOCATION:Lecture hall II/2
ORGANIZER:Nikola Vukašinović
X-WR-TIMEZONE:Europe/Ljubljana
END:VEVENT
BEGIN:VEVENT
SUMMARY:Izpit: Snovanje izdelkov in projektiranje (3009)
DTSTART;TZID=Europe/Ljubljana:20240212T100000
DTEND;TZID=Europe/Ljubljana:20240212T120000
DTSTAMP:20260426T034302Z
UID:fs-AFLABS-URNIK:rezervacija:3933
CATEGORIES:Reservation
COLOR:royalblue
DESCRIPTION:Predmeti: \nLetniki: \nIzvajalci: Nikola Vukašinović\nProsto
 ri: Lecture hall II/5
LOCATION:Lecture hall II/5
ORGANIZER:Nikola Vukašinović
X-WR-TIMEZONE:Europe/Ljubljana
END:VEVENT
BEGIN:VEVENT
SUMMARY:Izpit: Konstrukcije iz nekovinskih gradiv (3105)
DTSTART;TZID=Europe/Ljubljana:20240215T100000
DTEND;TZID=Europe/Ljubljana:20240215T120000
DTSTAMP:20260426T034302Z
UID:fs-AFLABS-URNIK:rezervacija:3980
CATEGORIES:Reservation
COLOR:royalblue
DESCRIPTION:Predmeti: \nLetniki: \nIzvajalci: Nikola Vukašinović\nProsto
 ri: Lecture hall V/8
LOCATION:Lecture hall V/8
ORGANIZER:Nikola Vukašinović
X-WR-TIMEZONE:Europe/Ljubljana
END:VEVENT
BEGIN:VEVENT
SUMMARY:Izpit: Modeliranje prostora (2009)
DTSTART;TZID=Europe/Ljubljana:20240213T150000
DTEND;TZID=Europe/Ljubljana:20240213T170000
DTSTAMP:20260426T034302Z
UID:fs-AFLABS-URNIK:rezervacija:4291
CATEGORIES:Reservation
COLOR:royalblue
DESCRIPTION:Predmeti: \nLetniki: \nIzvajalci: Nikola Vukašinović\nProsto
 ri: Lecture hall V/8
LOCATION:Lecture hall V/8
ORGANIZER:Nikola Vukašinović
X-WR-TIMEZONE:Europe/Ljubljana
END:VEVENT
END:VCALENDAR
