BEGIN:VCALENDAR
VERSION:2.0
PRODID:-//AFLabs urnik izvoz - fs//aflabs.si//SI
NAME:UL FS Urnik
X-WR-CALNAME:UL FS Urnik
DTSTAMP:20260425T125757Z
REFRESH-INTERVAL:PT1H
SOURCE:https://urnik.fs.uni-lj.si/en/teacher/908/?day=2024-02-19&export=1
URL:https://urnik.fs.uni-lj.si/en/teacher/908/?day=2024-02-19&export=1
X-PUBLISHED-TTL:PT1H
X-WR-TIMEZONE:Europe/Ljubljana
BEGIN:VTIMEZONE
TZID:Europe/Ljubljana
BEGIN:DAYLIGHT
DTSTART:20260329T020000
RDATE:20260329T020000
RDATE:20270328T020000
TZNAME:CEST
TZOFFSETFROM:+0100
TZOFFSETTO:+0200
END:DAYLIGHT
BEGIN:STANDARD
DTSTART:20261025T030000
RDATE:20261025T030000
RDATE:20271031T030000
TZNAME:CET
TZOFFSETFROM:+0200
TZOFFSETTO:+0100
END:STANDARD
END:VTIMEZONE
BEGIN:VEVENT
SUMMARY:Computer aided modelling of geometry (RMGP)\, Lectures (P)
DTSTART;TZID=Europe/Ljubljana:20240220T133000
DTEND;TZID=Europe/Ljubljana:20240220T153000
DTSTAMP:20260425T125757Z
UID:fs-AFLABS-URNIK:srecanje:3809-2024-02-20 13:30:00+01:00
DESCRIPTION:Predmet: Computer aided modelling of geometry (RMGP)\, Lecture
 s (P)\nLetniki: PAP-1 (PAP-1)\nIzvajalci: Leon Kos\, Nikola Vukašinović\
 , Damijan Zorko\nProstor: Lecture hall V/8
END:VEVENT
BEGIN:VEVENT
SUMMARY:Computer aided modelling of geometry (RMGP)\, Lectures (P)
DTSTART;TZID=Europe/Ljubljana:20240227T133000
DTEND;TZID=Europe/Ljubljana:20240227T153000
DTSTAMP:20260425T125757Z
UID:fs-AFLABS-URNIK:srecanje:3809-2024-02-27 13:30:00+01:00
DESCRIPTION:Predmet: Computer aided modelling of geometry (RMGP)\, Lecture
 s (P)\nLetniki: PAP-1 (PAP-1)\nIzvajalci: Leon Kos\, Nikola Vukašinović\
 , Damijan Zorko\nProstor: Lecture hall V/8
END:VEVENT
BEGIN:VEVENT
SUMMARY:Computer aided modelling of geometry (RMGP)\, Lectures (P)
DTSTART;TZID=Europe/Ljubljana:20240305T133000
DTEND;TZID=Europe/Ljubljana:20240305T153000
DTSTAMP:20260425T125757Z
UID:fs-AFLABS-URNIK:srecanje:3809-2024-03-05 13:30:00+01:00
DESCRIPTION:Predmet: Computer aided modelling of geometry (RMGP)\, Lecture
 s (P)\nLetniki: PAP-1 (PAP-1)\nIzvajalci: Leon Kos\, Nikola Vukašinović\
 , Damijan Zorko\nProstor: Lecture hall V/8
END:VEVENT
BEGIN:VEVENT
SUMMARY:Computer aided modelling of geometry (RMGP)\, Lectures (P)
DTSTART;TZID=Europe/Ljubljana:20240312T133000
DTEND;TZID=Europe/Ljubljana:20240312T153000
DTSTAMP:20260425T125757Z
UID:fs-AFLABS-URNIK:srecanje:3809-2024-03-12 13:30:00+01:00
DESCRIPTION:Predmet: Computer aided modelling of geometry (RMGP)\, Lecture
 s (P)\nLetniki: PAP-1 (PAP-1)\nIzvajalci: Leon Kos\, Nikola Vukašinović\
 , Damijan Zorko\nProstor: Lecture hall V/8
END:VEVENT
BEGIN:VEVENT
SUMMARY:Computer aided modelling of geometry (RMGP)\, Lectures (P)
DTSTART;TZID=Europe/Ljubljana:20240319T133000
DTEND;TZID=Europe/Ljubljana:20240319T153000
DTSTAMP:20260425T125757Z
UID:fs-AFLABS-URNIK:srecanje:3809-2024-03-19 13:30:00+01:00
DESCRIPTION:Predmet: Computer aided modelling of geometry (RMGP)\, Lecture
 s (P)\nLetniki: PAP-1 (PAP-1)\nIzvajalci: Leon Kos\, Nikola Vukašinović\
 , Damijan Zorko\nProstor: Lecture hall V/8
END:VEVENT
BEGIN:VEVENT
SUMMARY:Computer aided modelling of geometry (RMGP)\, Lectures (P)
DTSTART;TZID=Europe/Ljubljana:20240326T133000
DTEND;TZID=Europe/Ljubljana:20240326T153000
DTSTAMP:20260425T125757Z
UID:fs-AFLABS-URNIK:srecanje:3809-2024-03-26 13:30:00+01:00
DESCRIPTION:Predmet: Computer aided modelling of geometry (RMGP)\, Lecture
 s (P)\nLetniki: PAP-1 (PAP-1)\nIzvajalci: Leon Kos\, Nikola Vukašinović\
 , Damijan Zorko\nProstor: Lecture hall V/8
END:VEVENT
BEGIN:VEVENT
SUMMARY:Computer aided modelling of geometry (RMGP)\, Lectures (P)
DTSTART;TZID=Europe/Ljubljana:20240402T133000
DTEND;TZID=Europe/Ljubljana:20240402T153000
DTSTAMP:20260425T125757Z
UID:fs-AFLABS-URNIK:srecanje:3809-2024-04-02 13:30:00+02:00
DESCRIPTION:Predmet: Computer aided modelling of geometry (RMGP)\, Lecture
 s (P)\nLetniki: PAP-1 (PAP-1)\nIzvajalci: Leon Kos\, Nikola Vukašinović\
 , Damijan Zorko\nProstor: Lecture hall V/8
END:VEVENT
BEGIN:VEVENT
SUMMARY:Computer aided modelling of geometry (RMGP)\, Lectures (P)
DTSTART;TZID=Europe/Ljubljana:20240409T133000
DTEND;TZID=Europe/Ljubljana:20240409T153000
DTSTAMP:20260425T125757Z
UID:fs-AFLABS-URNIK:srecanje:3809-2024-04-09 13:30:00+02:00
DESCRIPTION:Predmet: Computer aided modelling of geometry (RMGP)\, Lecture
 s (P)\nLetniki: PAP-1 (PAP-1)\nIzvajalci: Leon Kos\, Nikola Vukašinović\
 , Damijan Zorko\nProstor: Lecture hall V/8
END:VEVENT
BEGIN:VEVENT
SUMMARY:Computer aided modelling of geometry (RMGP)\, Lectures (P)
DTSTART;TZID=Europe/Ljubljana:20240416T133000
DTEND;TZID=Europe/Ljubljana:20240416T153000
DTSTAMP:20260425T125757Z
UID:fs-AFLABS-URNIK:srecanje:3809-2024-04-16 13:30:00+02:00
DESCRIPTION:Predmet: Computer aided modelling of geometry (RMGP)\, Lecture
 s (P)\nLetniki: PAP-1 (PAP-1)\nIzvajalci: Leon Kos\, Nikola Vukašinović\
 , Damijan Zorko\nProstor: Lecture hall V/8
END:VEVENT
BEGIN:VEVENT
SUMMARY:Computer aided modelling of geometry (RMGP)\, Lectures (P)
DTSTART;TZID=Europe/Ljubljana:20240423T133000
DTEND;TZID=Europe/Ljubljana:20240423T153000
DTSTAMP:20260425T125757Z
UID:fs-AFLABS-URNIK:srecanje:3809-2024-04-23 13:30:00+02:00
DESCRIPTION:Predmet: Computer aided modelling of geometry (RMGP)\, Lecture
 s (P)\nLetniki: PAP-1 (PAP-1)\nIzvajalci: Leon Kos\, Nikola Vukašinović\
 , Damijan Zorko\nProstor: Lecture hall V/8
END:VEVENT
BEGIN:VEVENT
SUMMARY:Computer aided modelling of geometry (RMGP)\, Lectures (P)
DTSTART;TZID=Europe/Ljubljana:20240430T133000
DTEND;TZID=Europe/Ljubljana:20240430T153000
DTSTAMP:20260425T125757Z
UID:fs-AFLABS-URNIK:srecanje:3809-2024-04-30 13:30:00+02:00
DESCRIPTION:Predmet: Computer aided modelling of geometry (RMGP)\, Lecture
 s (P)\nLetniki: PAP-1 (PAP-1)\nIzvajalci: Leon Kos\, Nikola Vukašinović\
 , Damijan Zorko\nProstor: Lecture hall V/8
END:VEVENT
BEGIN:VEVENT
SUMMARY:Computer aided modelling of geometry (RMGP)\, Lectures (P)
DTSTART;TZID=Europe/Ljubljana:20240507T133000
DTEND;TZID=Europe/Ljubljana:20240507T153000
DTSTAMP:20260425T125757Z
UID:fs-AFLABS-URNIK:srecanje:3809-2024-05-07 13:30:00+02:00
DESCRIPTION:Predmet: Computer aided modelling of geometry (RMGP)\, Lecture
 s (P)\nLetniki: PAP-1 (PAP-1)\nIzvajalci: Leon Kos\, Nikola Vukašinović\
 , Damijan Zorko\nProstor: Lecture hall V/8
END:VEVENT
BEGIN:VEVENT
SUMMARY:Computer aided modelling of geometry (RMGP)\, Lectures (P)
DTSTART;TZID=Europe/Ljubljana:20240514T133000
DTEND;TZID=Europe/Ljubljana:20240514T153000
DTSTAMP:20260425T125757Z
UID:fs-AFLABS-URNIK:srecanje:3809-2024-05-14 13:30:00+02:00
DESCRIPTION:Predmet: Computer aided modelling of geometry (RMGP)\, Lecture
 s (P)\nLetniki: PAP-1 (PAP-1)\nIzvajalci: Leon Kos\, Nikola Vukašinović\
 , Damijan Zorko\nProstor: Lecture hall V/8
END:VEVENT
BEGIN:VEVENT
SUMMARY:Computer aided modelling of geometry (RMGP)\, Lectures (P)
DTSTART;TZID=Europe/Ljubljana:20240521T133000
DTEND;TZID=Europe/Ljubljana:20240521T153000
DTSTAMP:20260425T125757Z
UID:fs-AFLABS-URNIK:srecanje:3809-2024-05-21 13:30:00+02:00
DESCRIPTION:Predmet: Computer aided modelling of geometry (RMGP)\, Lecture
 s (P)\nLetniki: PAP-1 (PAP-1)\nIzvajalci: Leon Kos\, Nikola Vukašinović\
 , Damijan Zorko\nProstor: Lecture hall V/8
END:VEVENT
BEGIN:VEVENT
SUMMARY:Computer aided modelling of geometry (RMGP)\, Lectures (P)
DTSTART;TZID=Europe/Ljubljana:20240528T133000
DTEND;TZID=Europe/Ljubljana:20240528T153000
DTSTAMP:20260425T125757Z
UID:fs-AFLABS-URNIK:srecanje:3809-2024-05-28 13:30:00+02:00
DESCRIPTION:Predmet: Computer aided modelling of geometry (RMGP)\, Lecture
 s (P)\nLetniki: PAP-1 (PAP-1)\nIzvajalci: Leon Kos\, Nikola Vukašinović\
 , Damijan Zorko\nProstor: Lecture hall V/8
END:VEVENT
BEGIN:VEVENT
SUMMARY:Engineering reporting - PAP (PVSP)\, Lectures (P)
DTSTART;TZID=Europe/Ljubljana:20240222T073000
DTEND;TZID=Europe/Ljubljana:20240222T083000
DTSTAMP:20260425T125757Z
UID:fs-AFLABS-URNIK:srecanje:3784-2024-02-22 07:30:00+01:00
DESCRIPTION:Predmet: Engineering reporting - PAP (PVSP)\, Lectures (P)\nLe
 tniki: PAP-1 (PAP-1)\nIzvajalci: Miha Brojan\, Franc Majdič\, Rok Vrabič
 \, Nikola Vukašinović\nProstor: Lecture hall V/8
END:VEVENT
BEGIN:VEVENT
SUMMARY:Engineering reporting - PAP (PVSP)\, Lectures (P)
DTSTART;TZID=Europe/Ljubljana:20240229T073000
DTEND;TZID=Europe/Ljubljana:20240229T083000
DTSTAMP:20260425T125757Z
UID:fs-AFLABS-URNIK:srecanje:3784-2024-02-29 07:30:00+01:00
DESCRIPTION:Predmet: Engineering reporting - PAP (PVSP)\, Lectures (P)\nLe
 tniki: PAP-1 (PAP-1)\nIzvajalci: Miha Brojan\, Franc Majdič\, Rok Vrabič
 \, Nikola Vukašinović\nProstor: Lecture hall V/8
END:VEVENT
BEGIN:VEVENT
SUMMARY:Engineering reporting - PAP (PVSP)\, Lectures (P)
DTSTART;TZID=Europe/Ljubljana:20240307T073000
DTEND;TZID=Europe/Ljubljana:20240307T083000
DTSTAMP:20260425T125757Z
UID:fs-AFLABS-URNIK:srecanje:3784-2024-03-07 07:30:00+01:00
DESCRIPTION:Predmet: Engineering reporting - PAP (PVSP)\, Lectures (P)\nLe
 tniki: PAP-1 (PAP-1)\nIzvajalci: Miha Brojan\, Franc Majdič\, Rok Vrabič
 \, Nikola Vukašinović\nProstor: Lecture hall V/8
END:VEVENT
BEGIN:VEVENT
SUMMARY:Engineering reporting - PAP (PVSP)\, Lectures (P)
DTSTART;TZID=Europe/Ljubljana:20240314T073000
DTEND;TZID=Europe/Ljubljana:20240314T083000
DTSTAMP:20260425T125757Z
UID:fs-AFLABS-URNIK:srecanje:3784-2024-03-14 07:30:00+01:00
DESCRIPTION:Predmet: Engineering reporting - PAP (PVSP)\, Lectures (P)\nLe
 tniki: PAP-1 (PAP-1)\nIzvajalci: Miha Brojan\, Franc Majdič\, Rok Vrabič
 \, Nikola Vukašinović\nProstor: Lecture hall V/8
END:VEVENT
BEGIN:VEVENT
SUMMARY:Engineering reporting - PAP (PVSP)\, Lectures (P)
DTSTART;TZID=Europe/Ljubljana:20240321T073000
DTEND;TZID=Europe/Ljubljana:20240321T083000
DTSTAMP:20260425T125757Z
UID:fs-AFLABS-URNIK:srecanje:3784-2024-03-21 07:30:00+01:00
DESCRIPTION:Predmet: Engineering reporting - PAP (PVSP)\, Lectures (P)\nLe
 tniki: PAP-1 (PAP-1)\nIzvajalci: Miha Brojan\, Franc Majdič\, Rok Vrabič
 \, Nikola Vukašinović\nProstor: Lecture hall V/8
END:VEVENT
BEGIN:VEVENT
SUMMARY:Engineering reporting - PAP (PVSP)\, Lectures (P)
DTSTART;TZID=Europe/Ljubljana:20240328T073000
DTEND;TZID=Europe/Ljubljana:20240328T083000
DTSTAMP:20260425T125757Z
UID:fs-AFLABS-URNIK:srecanje:3784-2024-03-28 07:30:00+01:00
DESCRIPTION:Predmet: Engineering reporting - PAP (PVSP)\, Lectures (P)\nLe
 tniki: PAP-1 (PAP-1)\nIzvajalci: Miha Brojan\, Franc Majdič\, Rok Vrabič
 \, Nikola Vukašinović\nProstor: Lecture hall V/8
END:VEVENT
BEGIN:VEVENT
SUMMARY:Engineering reporting - PAP (PVSP)\, Lectures (P)
DTSTART;TZID=Europe/Ljubljana:20240404T073000
DTEND;TZID=Europe/Ljubljana:20240404T083000
DTSTAMP:20260425T125757Z
UID:fs-AFLABS-URNIK:srecanje:3784-2024-04-04 07:30:00+02:00
DESCRIPTION:Predmet: Engineering reporting - PAP (PVSP)\, Lectures (P)\nLe
 tniki: PAP-1 (PAP-1)\nIzvajalci: Miha Brojan\, Franc Majdič\, Rok Vrabič
 \, Nikola Vukašinović\nProstor: Lecture hall V/8
END:VEVENT
BEGIN:VEVENT
SUMMARY:Engineering reporting - PAP (PVSP)\, Lectures (P)
DTSTART;TZID=Europe/Ljubljana:20240411T073000
DTEND;TZID=Europe/Ljubljana:20240411T083000
DTSTAMP:20260425T125757Z
UID:fs-AFLABS-URNIK:srecanje:3784-2024-04-11 07:30:00+02:00
DESCRIPTION:Predmet: Engineering reporting - PAP (PVSP)\, Lectures (P)\nLe
 tniki: PAP-1 (PAP-1)\nIzvajalci: Miha Brojan\, Franc Majdič\, Rok Vrabič
 \, Nikola Vukašinović\nProstor: Lecture hall V/8
END:VEVENT
BEGIN:VEVENT
SUMMARY:Engineering reporting - PAP (PVSP)\, Lectures (P)
DTSTART;TZID=Europe/Ljubljana:20240418T073000
DTEND;TZID=Europe/Ljubljana:20240418T083000
DTSTAMP:20260425T125757Z
UID:fs-AFLABS-URNIK:srecanje:3784-2024-04-18 07:30:00+02:00
DESCRIPTION:Predmet: Engineering reporting - PAP (PVSP)\, Lectures (P)\nLe
 tniki: PAP-1 (PAP-1)\nIzvajalci: Miha Brojan\, Franc Majdič\, Rok Vrabič
 \, Nikola Vukašinović\nProstor: Lecture hall V/8
END:VEVENT
BEGIN:VEVENT
SUMMARY:Engineering reporting - PAP (PVSP)\, Lectures (P)
DTSTART;TZID=Europe/Ljubljana:20240425T073000
DTEND;TZID=Europe/Ljubljana:20240425T083000
DTSTAMP:20260425T125757Z
UID:fs-AFLABS-URNIK:srecanje:3784-2024-04-25 07:30:00+02:00
DESCRIPTION:Predmet: Engineering reporting - PAP (PVSP)\, Lectures (P)\nLe
 tniki: PAP-1 (PAP-1)\nIzvajalci: Miha Brojan\, Franc Majdič\, Rok Vrabič
 \, Nikola Vukašinović\nProstor: Lecture hall V/8
END:VEVENT
BEGIN:VEVENT
SUMMARY:Engineering reporting - PAP (PVSP)\, Lectures (P)
DTSTART;TZID=Europe/Ljubljana:20240502T073000
DTEND;TZID=Europe/Ljubljana:20240502T083000
DTSTAMP:20260425T125757Z
UID:fs-AFLABS-URNIK:srecanje:3784-2024-05-02 07:30:00+02:00
DESCRIPTION:Predmet: Engineering reporting - PAP (PVSP)\, Lectures (P)\nLe
 tniki: PAP-1 (PAP-1)\nIzvajalci: Miha Brojan\, Franc Majdič\, Rok Vrabič
 \, Nikola Vukašinović\nProstor: Lecture hall V/8
END:VEVENT
BEGIN:VEVENT
SUMMARY:Engineering reporting - PAP (PVSP)\, Lectures (P)
DTSTART;TZID=Europe/Ljubljana:20240509T073000
DTEND;TZID=Europe/Ljubljana:20240509T083000
DTSTAMP:20260425T125757Z
UID:fs-AFLABS-URNIK:srecanje:3784-2024-05-09 07:30:00+02:00
DESCRIPTION:Predmet: Engineering reporting - PAP (PVSP)\, Lectures (P)\nLe
 tniki: PAP-1 (PAP-1)\nIzvajalci: Miha Brojan\, Franc Majdič\, Rok Vrabič
 \, Nikola Vukašinović\nProstor: Lecture hall V/8
END:VEVENT
BEGIN:VEVENT
SUMMARY:Engineering reporting - PAP (PVSP)\, Lectures (P)
DTSTART;TZID=Europe/Ljubljana:20240516T073000
DTEND;TZID=Europe/Ljubljana:20240516T083000
DTSTAMP:20260425T125757Z
UID:fs-AFLABS-URNIK:srecanje:3784-2024-05-16 07:30:00+02:00
DESCRIPTION:Predmet: Engineering reporting - PAP (PVSP)\, Lectures (P)\nLe
 tniki: PAP-1 (PAP-1)\nIzvajalci: Miha Brojan\, Franc Majdič\, Rok Vrabič
 \, Nikola Vukašinović\nProstor: Lecture hall V/8
END:VEVENT
BEGIN:VEVENT
SUMMARY:Engineering reporting - PAP (PVSP)\, Lectures (P)
DTSTART;TZID=Europe/Ljubljana:20240523T073000
DTEND;TZID=Europe/Ljubljana:20240523T083000
DTSTAMP:20260425T125757Z
UID:fs-AFLABS-URNIK:srecanje:3784-2024-05-23 07:30:00+02:00
DESCRIPTION:Predmet: Engineering reporting - PAP (PVSP)\, Lectures (P)\nLe
 tniki: PAP-1 (PAP-1)\nIzvajalci: Miha Brojan\, Franc Majdič\, Rok Vrabič
 \, Nikola Vukašinović\nProstor: Lecture hall V/8
END:VEVENT
BEGIN:VEVENT
SUMMARY:Engineering reporting - PAP (PVSP)\, Lectures (P)
DTSTART;TZID=Europe/Ljubljana:20240530T073000
DTEND;TZID=Europe/Ljubljana:20240530T083000
DTSTAMP:20260425T125757Z
UID:fs-AFLABS-URNIK:srecanje:3784-2024-05-30 07:30:00+02:00
DESCRIPTION:Predmet: Engineering reporting - PAP (PVSP)\, Lectures (P)\nLe
 tniki: PAP-1 (PAP-1)\nIzvajalci: Miha Brojan\, Franc Majdič\, Rok Vrabič
 \, Nikola Vukašinović\nProstor: Lecture hall V/8
END:VEVENT
BEGIN:VEVENT
SUMMARY:Engineerig Design Methodology - RRP (MTKR)\, Lectures (P)
DTSTART;TZID=Europe/Ljubljana:20240223T080000
DTEND;TZID=Europe/Ljubljana:20240223T100000
DTSTAMP:20260425T125757Z
UID:fs-AFLABS-URNIK:srecanje:8048-2024-02-23 08:00:00+01:00
DESCRIPTION:Predmet: Engineerig Design Methodology - RRP (MTKR)\, Lectures
  (P)\nLetniki: RRP-2 (RRP-2)\nIzvajalci: Janez Benedičič\, Nikola Vukaš
 inović\nProstor: Lecture hall V/2
END:VEVENT
BEGIN:VEVENT
SUMMARY:Engineerig Design Methodology - RRP (MTKR)\, Lectures (P)
DTSTART;TZID=Europe/Ljubljana:20240301T080000
DTEND;TZID=Europe/Ljubljana:20240301T100000
DTSTAMP:20260425T125757Z
UID:fs-AFLABS-URNIK:srecanje:8048-2024-03-01 08:00:00+01:00
DESCRIPTION:Predmet: Engineerig Design Methodology - RRP (MTKR)\, Lectures
  (P)\nLetniki: RRP-2 (RRP-2)\nIzvajalci: Janez Benedičič\, Nikola Vukaš
 inović\nProstor: Lecture hall V/2
END:VEVENT
BEGIN:VEVENT
SUMMARY:Engineerig Design Methodology - RRP (MTKR)\, Lectures (P)
DTSTART;TZID=Europe/Ljubljana:20240308T080000
DTEND;TZID=Europe/Ljubljana:20240308T100000
DTSTAMP:20260425T125757Z
UID:fs-AFLABS-URNIK:srecanje:8048-2024-03-08 08:00:00+01:00
DESCRIPTION:Predmet: Engineerig Design Methodology - RRP (MTKR)\, Lectures
  (P)\nLetniki: RRP-2 (RRP-2)\nIzvajalci: Janez Benedičič\, Nikola Vukaš
 inović\nProstor: Lecture hall V/2
END:VEVENT
BEGIN:VEVENT
SUMMARY:Engineerig Design Methodology - RRP (MTKR)\, Lectures (P)
DTSTART;TZID=Europe/Ljubljana:20240315T080000
DTEND;TZID=Europe/Ljubljana:20240315T100000
DTSTAMP:20260425T125757Z
UID:fs-AFLABS-URNIK:srecanje:8048-2024-03-15 08:00:00+01:00
DESCRIPTION:Predmet: Engineerig Design Methodology - RRP (MTKR)\, Lectures
  (P)\nLetniki: RRP-2 (RRP-2)\nIzvajalci: Janez Benedičič\, Nikola Vukaš
 inović\nProstor: Lecture hall V/2
END:VEVENT
BEGIN:VEVENT
SUMMARY:Engineerig Design Methodology - RRP (MTKR)\, Lectures (P)
DTSTART;TZID=Europe/Ljubljana:20240322T080000
DTEND;TZID=Europe/Ljubljana:20240322T100000
DTSTAMP:20260425T125757Z
UID:fs-AFLABS-URNIK:srecanje:8048-2024-03-22 08:00:00+01:00
DESCRIPTION:Predmet: Engineerig Design Methodology - RRP (MTKR)\, Lectures
  (P)\nLetniki: RRP-2 (RRP-2)\nIzvajalci: Janez Benedičič\, Nikola Vukaš
 inović\nProstor: Lecture hall V/2
END:VEVENT
BEGIN:VEVENT
SUMMARY:Engineerig Design Methodology - RRP (MTKR)\, Lectures (P)
DTSTART;TZID=Europe/Ljubljana:20240329T080000
DTEND;TZID=Europe/Ljubljana:20240329T100000
DTSTAMP:20260425T125757Z
UID:fs-AFLABS-URNIK:srecanje:8048-2024-03-29 08:00:00+01:00
DESCRIPTION:Predmet: Engineerig Design Methodology - RRP (MTKR)\, Lectures
  (P)\nLetniki: RRP-2 (RRP-2)\nIzvajalci: Janez Benedičič\, Nikola Vukaš
 inović\nProstor: Lecture hall V/2
END:VEVENT
BEGIN:VEVENT
SUMMARY:Engineerig Design Methodology - RRP (MTKR)\, Lectures (P)
DTSTART;TZID=Europe/Ljubljana:20240405T080000
DTEND;TZID=Europe/Ljubljana:20240405T100000
DTSTAMP:20260425T125757Z
UID:fs-AFLABS-URNIK:srecanje:8048-2024-04-05 08:00:00+02:00
DESCRIPTION:Predmet: Engineerig Design Methodology - RRP (MTKR)\, Lectures
  (P)\nLetniki: RRP-2 (RRP-2)\nIzvajalci: Janez Benedičič\, Nikola Vukaš
 inović\nProstor: Lecture hall V/2
END:VEVENT
BEGIN:VEVENT
SUMMARY:Engineerig Design Methodology - RRP (MTKR)\, Lectures (P)
DTSTART;TZID=Europe/Ljubljana:20240412T080000
DTEND;TZID=Europe/Ljubljana:20240412T100000
DTSTAMP:20260425T125757Z
UID:fs-AFLABS-URNIK:srecanje:8048-2024-04-12 08:00:00+02:00
DESCRIPTION:Predmet: Engineerig Design Methodology - RRP (MTKR)\, Lectures
  (P)\nLetniki: RRP-2 (RRP-2)\nIzvajalci: Janez Benedičič\, Nikola Vukaš
 inović\nProstor: Lecture hall V/2
END:VEVENT
BEGIN:VEVENT
SUMMARY:Engineerig Design Methodology - RRP (MTKR)\, Lectures (P)
DTSTART;TZID=Europe/Ljubljana:20240419T080000
DTEND;TZID=Europe/Ljubljana:20240419T100000
DTSTAMP:20260425T125757Z
UID:fs-AFLABS-URNIK:srecanje:8048-2024-04-19 08:00:00+02:00
DESCRIPTION:Predmet: Engineerig Design Methodology - RRP (MTKR)\, Lectures
  (P)\nLetniki: RRP-2 (RRP-2)\nIzvajalci: Janez Benedičič\, Nikola Vukaš
 inović\nProstor: Lecture hall V/2
END:VEVENT
BEGIN:VEVENT
SUMMARY:Engineerig Design Methodology - RRP (MTKR)\, Lectures (P)
DTSTART;TZID=Europe/Ljubljana:20240426T080000
DTEND;TZID=Europe/Ljubljana:20240426T100000
DTSTAMP:20260425T125757Z
UID:fs-AFLABS-URNIK:srecanje:8048-2024-04-26 08:00:00+02:00
DESCRIPTION:Predmet: Engineerig Design Methodology - RRP (MTKR)\, Lectures
  (P)\nLetniki: RRP-2 (RRP-2)\nIzvajalci: Janez Benedičič\, Nikola Vukaš
 inović\nProstor: Lecture hall V/2
END:VEVENT
BEGIN:VEVENT
SUMMARY:Engineerig Design Methodology - RRP (MTKR)\, Lectures (P)
DTSTART;TZID=Europe/Ljubljana:20240503T080000
DTEND;TZID=Europe/Ljubljana:20240503T100000
DTSTAMP:20260425T125757Z
UID:fs-AFLABS-URNIK:srecanje:8048-2024-05-03 08:00:00+02:00
DESCRIPTION:Predmet: Engineerig Design Methodology - RRP (MTKR)\, Lectures
  (P)\nLetniki: RRP-2 (RRP-2)\nIzvajalci: Janez Benedičič\, Nikola Vukaš
 inović\nProstor: Lecture hall V/2
END:VEVENT
BEGIN:VEVENT
SUMMARY:Engineerig Design Methodology - RRP (MTKR)\, Lectures (P)
DTSTART;TZID=Europe/Ljubljana:20240510T080000
DTEND;TZID=Europe/Ljubljana:20240510T100000
DTSTAMP:20260425T125757Z
UID:fs-AFLABS-URNIK:srecanje:8048-2024-05-10 08:00:00+02:00
DESCRIPTION:Predmet: Engineerig Design Methodology - RRP (MTKR)\, Lectures
  (P)\nLetniki: RRP-2 (RRP-2)\nIzvajalci: Janez Benedičič\, Nikola Vukaš
 inović\nProstor: Lecture hall V/2
END:VEVENT
BEGIN:VEVENT
SUMMARY:Engineerig Design Methodology - RRP (MTKR)\, Lectures (P)
DTSTART;TZID=Europe/Ljubljana:20240517T080000
DTEND;TZID=Europe/Ljubljana:20240517T100000
DTSTAMP:20260425T125757Z
UID:fs-AFLABS-URNIK:srecanje:8048-2024-05-17 08:00:00+02:00
DESCRIPTION:Predmet: Engineerig Design Methodology - RRP (MTKR)\, Lectures
  (P)\nLetniki: RRP-2 (RRP-2)\nIzvajalci: Janez Benedičič\, Nikola Vukaš
 inović\nProstor: Lecture hall V/2
END:VEVENT
BEGIN:VEVENT
SUMMARY:Engineerig Design Methodology - RRP (MTKR)\, Lectures (P)
DTSTART;TZID=Europe/Ljubljana:20240524T080000
DTEND;TZID=Europe/Ljubljana:20240524T100000
DTSTAMP:20260425T125757Z
UID:fs-AFLABS-URNIK:srecanje:8048-2024-05-24 08:00:00+02:00
DESCRIPTION:Predmet: Engineerig Design Methodology - RRP (MTKR)\, Lectures
  (P)\nLetniki: RRP-2 (RRP-2)\nIzvajalci: Janez Benedičič\, Nikola Vukaš
 inović\nProstor: Lecture hall V/2
END:VEVENT
BEGIN:VEVENT
SUMMARY:Engineerig Design Methodology - RRP (MTKR)\, Lectures (P)
DTSTART;TZID=Europe/Ljubljana:20240531T080000
DTEND;TZID=Europe/Ljubljana:20240531T100000
DTSTAMP:20260425T125757Z
UID:fs-AFLABS-URNIK:srecanje:8048-2024-05-31 08:00:00+02:00
DESCRIPTION:Predmet: Engineerig Design Methodology - RRP (MTKR)\, Lectures
  (P)\nLetniki: RRP-2 (RRP-2)\nIzvajalci: Janez Benedičič\, Nikola Vukaš
 inović\nProstor: Lecture hall V/2
END:VEVENT
BEGIN:VEVENT
SUMMARY:RMGP K2
DTSTART;TZID=Europe/Ljubljana:20240521T180000
DTEND;TZID=Europe/Ljubljana:20240521T200000
DTSTAMP:20260425T125757Z
UID:fs-AFLABS-URNIK:rezervacija:4440
ATTENDEE:PAP-1 (PAP-1)
CATEGORIES:Reservation
COLOR:royalblue
DESCRIPTION:Predmeti: Computer aided modelling of geometry (RMGP)\nLetniki
 : PAP-1 (PAP-1)\nIzvajalci: Nikola Vukašinović\nProstori: Lecture hall I
 II/4\, Lecture hall IV/4\, Lecture hall V/2\, Lecture hall V/8
LOCATION:Lecture hall III/4\, Lecture hall IV/4\, Lecture hall V/2\, Lectu
 re hall V/8
ORGANIZER:Nikola Vukašinović
X-WR-TIMEZONE:Europe/Ljubljana
END:VEVENT
BEGIN:VEVENT
SUMMARY:RMGP K1
DTSTART;TZID=Europe/Ljubljana:20240412T180000
DTEND;TZID=Europe/Ljubljana:20240412T200000
DTSTAMP:20260425T125757Z
UID:fs-AFLABS-URNIK:rezervacija:4441
ATTENDEE:PAP-1 (PAP-1)
CATEGORIES:Reservation
COLOR:royalblue
DESCRIPTION:Predmeti: Computer aided modelling of geometry (RMGP)\nLetniki
 : PAP-1 (PAP-1)\nIzvajalci: Nikola Vukašinović\nProstori: Lecture hall I
 II/4\, Lecture hall IV/4\, Lecture hall V/2\, Lecture hall V/8
LOCATION:Lecture hall III/4\, Lecture hall IV/4\, Lecture hall V/2\, Lectu
 re hall V/8
ORGANIZER:Nikola Vukašinović
X-WR-TIMEZONE:Europe/Ljubljana
END:VEVENT
BEGIN:VEVENT
SUMMARY:MTKR K2
DTSTART;TZID=Europe/Ljubljana:20240516T140000
DTEND;TZID=Europe/Ljubljana:20240516T153000
DTSTAMP:20260425T125757Z
UID:fs-AFLABS-URNIK:rezervacija:4516
ATTENDEE:RRP-2 (RRP-2)
CATEGORIES:Reservation
COLOR:royalblue
DESCRIPTION:Predmeti: Engineerig Design Methodology - RRP (MTKR)\nLetniki:
  RRP-2 (RRP-2)\nIzvajalci: Nikola Vukašinović\nProstori: Lecture hall II
 I/4\, Lecture hall IV/2\, Lecture hall IV/4\, Lecture hall V/2
LOCATION:Lecture hall III/4\, Lecture hall IV/2\, Lecture hall IV/4\, Lect
 ure hall V/2
ORGANIZER:Nikola Vukašinović
X-WR-TIMEZONE:Europe/Ljubljana
END:VEVENT
BEGIN:VEVENT
SUMMARY:MTKR K1
DTSTART;TZID=Europe/Ljubljana:20240327T180000
DTEND;TZID=Europe/Ljubljana:20240327T193000
DTSTAMP:20260425T125757Z
UID:fs-AFLABS-URNIK:rezervacija:4517
ATTENDEE:RRP-2 (RRP-2)
CATEGORIES:Reservation
COLOR:royalblue
DESCRIPTION:Predmeti: Engineerig Design Methodology - RRP (MTKR)\nLetniki:
  RRP-2 (RRP-2)\nIzvajalci: Nikola Vukašinović\nProstori: Lecture hall II
 I/4\, Lecture hall IV/4\, Lecture hall V/2\, Lecture hall V/8
LOCATION:Lecture hall III/4\, Lecture hall IV/4\, Lecture hall V/2\, Lectu
 re hall V/8
ORGANIZER:Nikola Vukašinović
X-WR-TIMEZONE:Europe/Ljubljana
END:VEVENT
END:VCALENDAR
