BEGIN:VCALENDAR
VERSION:2.0
PRODID:-//AFLabs urnik izvoz - fs//aflabs.si//SI
NAME:UL FS Urnik
X-WR-CALNAME:UL FS Urnik
DTSTAMP:20260425T142541Z
REFRESH-INTERVAL:PT1H
SOURCE:https://urnik.fs.uni-lj.si/en/teacher/908/?day=2026-01-26&export=1
URL:https://urnik.fs.uni-lj.si/en/teacher/908/?day=2026-01-26&export=1
X-PUBLISHED-TTL:PT1H
X-WR-TIMEZONE:Europe/Ljubljana
BEGIN:VTIMEZONE
TZID:Europe/Ljubljana
BEGIN:DAYLIGHT
DTSTART:20260329T020000
RDATE:20260329T020000
RDATE:20270328T020000
TZNAME:CEST
TZOFFSETFROM:+0100
TZOFFSETTO:+0200
END:DAYLIGHT
BEGIN:STANDARD
DTSTART:20261025T030000
RDATE:20261025T030000
RDATE:20271031T030000
TZNAME:CET
TZOFFSETFROM:+0200
TZOFFSETTO:+0100
END:STANDARD
END:VTIMEZONE
BEGIN:VEVENT
SUMMARY:Computer aided modelling of geometry (RMGP)\, Lectures (P)
DTSTART;TZID=Europe/Ljubljana:20260217T133000
DTEND;TZID=Europe/Ljubljana:20260217T153000
DTSTAMP:20260425T142541Z
UID:fs-AFLABS-URNIK:srecanje:15213-2026-02-17 13:30:00+01:00
DESCRIPTION:Predmet: Computer aided modelling of geometry (RMGP)\, Lecture
 s (P)\nLetniki: PAP-1 (PAP-1)\nIzvajalci: Leon Kos\, Nikola Vukašinović\
 nProstor: Lecture hall V/8
END:VEVENT
BEGIN:VEVENT
SUMMARY:Computer aided modelling of geometry (RMGP)\, Lectures (P)
DTSTART;TZID=Europe/Ljubljana:20260224T133000
DTEND;TZID=Europe/Ljubljana:20260224T153000
DTSTAMP:20260425T142541Z
UID:fs-AFLABS-URNIK:srecanje:15213-2026-02-24 13:30:00+01:00
DESCRIPTION:Predmet: Computer aided modelling of geometry (RMGP)\, Lecture
 s (P)\nLetniki: PAP-1 (PAP-1)\nIzvajalci: Leon Kos\, Nikola Vukašinović\
 nProstor: Lecture hall V/8
END:VEVENT
BEGIN:VEVENT
SUMMARY:Engineering reporting - PAP (PVSP)\, Lectures (P)
DTSTART;TZID=Europe/Ljubljana:20260219T073000
DTEND;TZID=Europe/Ljubljana:20260219T083000
DTSTAMP:20260425T142541Z
UID:fs-AFLABS-URNIK:srecanje:15125-2026-02-19 07:30:00+01:00
DESCRIPTION:Predmet: Engineering reporting - PAP (PVSP)\, Lectures (P)\nLe
 tniki: PAP-1 (PAP-1)\nIzvajalci: Miha Brojan\, Dominik Kozjek\, Franc Majd
 ič\, Rok Vrabič\, Nikola Vukašinović\nProstor: Lecture hall V/8
END:VEVENT
BEGIN:VEVENT
SUMMARY:Engineering reporting - PAP (PVSP)\, Lectures (P)
DTSTART;TZID=Europe/Ljubljana:20260226T073000
DTEND;TZID=Europe/Ljubljana:20260226T083000
DTSTAMP:20260425T142541Z
UID:fs-AFLABS-URNIK:srecanje:15125-2026-02-26 07:30:00+01:00
DESCRIPTION:Predmet: Engineering reporting - PAP (PVSP)\, Lectures (P)\nLe
 tniki: PAP-1 (PAP-1)\nIzvajalci: Miha Brojan\, Dominik Kozjek\, Franc Majd
 ič\, Rok Vrabič\, Nikola Vukašinović\nProstor: Lecture hall V/8
END:VEVENT
BEGIN:VEVENT
SUMMARY:Engineering reporting - PAP (PVSP)\, Lecture exercises (VP)\, [S1\
 , S2\, S3\, S4]
DTSTART;TZID=Europe/Ljubljana:20260219T083000
DTEND;TZID=Europe/Ljubljana:20260219T093000
DTSTAMP:20260425T142541Z
UID:fs-AFLABS-URNIK:srecanje:16139-2026-02-19 08:30:00+01:00
DESCRIPTION:Predmet: Engineering reporting - PAP (PVSP)\, Lecture exercise
 s (VP)\, [S1\, S2\, S3\, S4]\nLetniki: PAP-1 (PAP-1)\nIzvajalci: Miha Broj
 an\, Dominik Kozjek\, Franc Majdič\, Nejc Novak\, Ana Trajkovski\, Nikola
  Vukašinović\, Jan Zavodnik\nProstor: Lecture hall V/8
END:VEVENT
BEGIN:VEVENT
SUMMARY:Engineering reporting - PAP (PVSP)\, Lecture exercises (VP)\, [S1\
 , S2\, S3\, S4]
DTSTART;TZID=Europe/Ljubljana:20260226T083000
DTEND;TZID=Europe/Ljubljana:20260226T093000
DTSTAMP:20260425T142541Z
UID:fs-AFLABS-URNIK:srecanje:16139-2026-02-26 08:30:00+01:00
DESCRIPTION:Predmet: Engineering reporting - PAP (PVSP)\, Lecture exercise
 s (VP)\, [S1\, S2\, S3\, S4]\nLetniki: PAP-1 (PAP-1)\nIzvajalci: Miha Broj
 an\, Dominik Kozjek\, Franc Majdič\, Nejc Novak\, Ana Trajkovski\, Nikola
  Vukašinović\, Jan Zavodnik\nProstor: Lecture hall V/8
END:VEVENT
BEGIN:VEVENT
SUMMARY:Engineerig Design Methodology - RRP (MTKR)\, Lectures (P)
DTSTART;TZID=Europe/Ljubljana:20260220T080000
DTEND;TZID=Europe/Ljubljana:20260220T100000
DTSTAMP:20260425T142541Z
UID:fs-AFLABS-URNIK:srecanje:14934-2026-02-20 08:00:00+01:00
DESCRIPTION:Predmet: Engineerig Design Methodology - RRP (MTKR)\, Lectures
  (P)\nLetniki: RRP-2 (RRP-2)\nIzvajalci: Vanja Čok\, Nikola Vukašinović
 \nProstor: Lecture hall V/2
END:VEVENT
BEGIN:VEVENT
SUMMARY:Engineerig Design Methodology - RRP (MTKR)\, Lectures (P)
DTSTART;TZID=Europe/Ljubljana:20260227T080000
DTEND;TZID=Europe/Ljubljana:20260227T100000
DTSTAMP:20260425T142541Z
UID:fs-AFLABS-URNIK:srecanje:14934-2026-02-27 08:00:00+01:00
DESCRIPTION:Predmet: Engineerig Design Methodology - RRP (MTKR)\, Lectures
  (P)\nLetniki: RRP-2 (RRP-2)\nIzvajalci: Vanja Čok\, Nikola Vukašinović
 \nProstor: Lecture hall V/2
END:VEVENT
BEGIN:VEVENT
SUMMARY:Izpit: Tehnično risanje in računalniško modeliranje geometrije
DTSTART;TZID=Europe/Ljubljana:20260210T140000
DTEND;TZID=Europe/Ljubljana:20260210T170000
DTSTAMP:20260425T142541Z
UID:fs-AFLABS-URNIK:rezervacija:11506
ATTENDEE:RRP-1 (RRP-1)
CATEGORIES:Reservation
COLOR:royalblue
DESCRIPTION:Predmeti: Technical drawing and computer aided modelling of ge
 ometry (TRRR)\nLetniki: RRP-1 (RRP-1)\nIzvajalci: Nikola Vukašinović\nPr
 ostori: Lecture hall V/2\, Lecture hall V/8
LOCATION:Lecture hall V/2\, Lecture hall V/8
ORGANIZER:Nikola Vukašinović
X-WR-TIMEZONE:Europe/Ljubljana
END:VEVENT
BEGIN:VEVENT
SUMMARY:Izpit: Tehnično risanje in računalniško modeliranje geometrije
DTSTART;TZID=Europe/Ljubljana:20260210T140000
DTEND;TZID=Europe/Ljubljana:20260210T170000
DTSTAMP:20260425T142541Z
UID:fs-AFLABS-URNIK:rezervacija:11507
ATTENDEE:RRP-1 (RRP-1)
CATEGORIES:Reservation
COLOR:royalblue
DESCRIPTION:Predmeti: Technical drawing and computer aided modelling of ge
 ometry (TRRR)\nLetniki: RRP-1 (RRP-1)\nIzvajalci: Nikola Vukašinović\nPr
 ostori: Lecture hall V/2\, Lecture hall V/8
LOCATION:Lecture hall V/2\, Lecture hall V/8
ORGANIZER:Nikola Vukašinović
X-WR-TIMEZONE:Europe/Ljubljana
END:VEVENT
BEGIN:VEVENT
SUMMARY:Izpit: Konstrukcije iz nekovinskih gradiv
DTSTART;TZID=Europe/Ljubljana:20260212T100000
DTEND;TZID=Europe/Ljubljana:20260212T120000
DTSTAMP:20260425T142541Z
UID:fs-AFLABS-URNIK:rezervacija:11632
CATEGORIES:Reservation
COLOR:royalblue
DESCRIPTION:Predmeti: \nLetniki: \nIzvajalci: Nikola Vukašinović\nProsto
 ri: Lecture hall V/8
LOCATION:Lecture hall V/8
ORGANIZER:Nikola Vukašinović
X-WR-TIMEZONE:Europe/Ljubljana
END:VEVENT
BEGIN:VEVENT
SUMMARY:Izpit: Metodika konstruiranja
DTSTART;TZID=Europe/Ljubljana:20260126T080000
DTEND;TZID=Europe/Ljubljana:20260126T100000
DTSTAMP:20260425T142541Z
UID:fs-AFLABS-URNIK:rezervacija:12215
ATTENDEE:RRP-3 (RRP-3)
CATEGORIES:Reservation
COLOR:royalblue
DESCRIPTION:Predmeti: Design Methodology (2042)\nLetniki: RRP-3 (RRP-3)\nI
 zvajalci: Nikola Vukašinović\nProstori: Lecture hall II/2
LOCATION:Lecture hall II/2
ORGANIZER:Nikola Vukašinović
X-WR-TIMEZONE:Europe/Ljubljana
END:VEVENT
BEGIN:VEVENT
SUMMARY:Izpit: Tehnično risanje in računalniško modeliranje geometrije
DTSTART;TZID=Europe/Ljubljana:20260127T140000
DTEND;TZID=Europe/Ljubljana:20260127T170000
DTSTAMP:20260425T142541Z
UID:fs-AFLABS-URNIK:rezervacija:12308
ATTENDEE:RRP-1 (RRP-1)
CATEGORIES:Reservation
COLOR:royalblue
DESCRIPTION:Predmeti: Technical drawing and computer aided modelling of ge
 ometry (TRRR)\nLetniki: RRP-1 (RRP-1)\nIzvajalci: Nikola Vukašinović\nPr
 ostori: Lecture hall III/4\, Lecture hall IV/2\, Lecture hall IV/4\, Lectu
 re hall V/2\, Lecture hall V/8
LOCATION:Lecture hall III/4\, Lecture hall IV/2\, Lecture hall IV/4\, Lect
 ure hall V/2\, Lecture hall V/8
ORGANIZER:Nikola Vukašinović
X-WR-TIMEZONE:Europe/Ljubljana
END:VEVENT
BEGIN:VEVENT
SUMMARY:Izpit: Tehnično risanje in računalniško modeliranje geometrije
DTSTART;TZID=Europe/Ljubljana:20260127T140000
DTEND;TZID=Europe/Ljubljana:20260127T170000
DTSTAMP:20260425T142541Z
UID:fs-AFLABS-URNIK:rezervacija:12309
ATTENDEE:RRP-1 (RRP-1)
CATEGORIES:Reservation
COLOR:royalblue
DESCRIPTION:Predmeti: Technical drawing and computer aided modelling of ge
 ometry (TRRR)\nLetniki: RRP-1 (RRP-1)\nIzvajalci: Nikola Vukašinović\nPr
 ostori: Lecture hall III/4\, Lecture hall IV/2\, Lecture hall IV/4\, Lectu
 re hall V/2\, Lecture hall V/8
LOCATION:Lecture hall III/4\, Lecture hall IV/2\, Lecture hall IV/4\, Lect
 ure hall V/2\, Lecture hall V/8
ORGANIZER:Nikola Vukašinović
X-WR-TIMEZONE:Europe/Ljubljana
END:VEVENT
END:VCALENDAR
