BEGIN:VCALENDAR
VERSION:2.0
PRODID:-//AFLabs urnik izvoz - fs//aflabs.si//SI
NAME:UL FS Urnik
X-WR-CALNAME:UL FS Urnik
DTSTAMP:20260422T030845Z
REFRESH-INTERVAL:PT1H
SOURCE:https://urnik.fs.uni-lj.si/en/teacher/908/?day=2026-06-08&export=1
URL:https://urnik.fs.uni-lj.si/en/teacher/908/?day=2026-06-08&export=1
X-PUBLISHED-TTL:PT1H
X-WR-TIMEZONE:Europe/Ljubljana
BEGIN:VTIMEZONE
TZID:Europe/Ljubljana
BEGIN:DAYLIGHT
DTSTART:20260329T020000
RDATE:20260329T020000
RDATE:20270328T020000
TZNAME:CEST
TZOFFSETFROM:+0100
TZOFFSETTO:+0200
END:DAYLIGHT
BEGIN:STANDARD
DTSTART:20261025T030000
RDATE:20261025T030000
RDATE:20271031T030000
TZNAME:CET
TZOFFSETFROM:+0200
TZOFFSETTO:+0100
END:STANDARD
END:VTIMEZONE
BEGIN:VEVENT
SUMMARY:Izpit: Računalniško modeliranje geometrije
DTSTART;TZID=Europe/Ljubljana:20260611T120000
DTEND;TZID=Europe/Ljubljana:20260611T140000
DTSTAMP:20260422T030845Z
UID:fs-AFLABS-URNIK:rezervacija:11592
ATTENDEE:PAP-1 (PAP-1)
CATEGORIES:Reservation
COLOR:royalblue
DESCRIPTION:Predmeti: Computer aided modelling of geometry (RMGP)\nLetniki
 : PAP-1 (PAP-1)\nIzvajalci: Nikola Vukašinović\nProstori: Lecture hall I
 V/2\, Lecture hall IV/4\, Lecture hall V/2\, Lecture hall V/8
LOCATION:Lecture hall IV/2\, Lecture hall IV/4\, Lecture hall V/2\, Lectur
 e hall V/8
ORGANIZER:Nikola Vukašinović
X-WR-TIMEZONE:Europe/Ljubljana
END:VEVENT
BEGIN:VEVENT
SUMMARY:Izpit: Računalniško modeliranje geometrije
DTSTART;TZID=Europe/Ljubljana:20260611T120000
DTEND;TZID=Europe/Ljubljana:20260611T140000
DTSTAMP:20260422T030845Z
UID:fs-AFLABS-URNIK:rezervacija:11593
ATTENDEE:PAP-1 (PAP-1)
CATEGORIES:Reservation
COLOR:royalblue
DESCRIPTION:Predmeti: Computer aided modelling of geometry (RMGP)\nLetniki
 : PAP-1 (PAP-1)\nIzvajalci: Nikola Vukašinović\nProstori: Lecture hall I
 V/2\, Lecture hall IV/4\, Lecture hall V/2\, Lecture hall V/8
LOCATION:Lecture hall IV/2\, Lecture hall IV/4\, Lecture hall V/2\, Lectur
 e hall V/8
ORGANIZER:Nikola Vukašinović
X-WR-TIMEZONE:Europe/Ljubljana
END:VEVENT
BEGIN:VEVENT
SUMMARY:Izpit: Metodika konstruiranja - RRP
DTSTART;TZID=Europe/Ljubljana:20260622T100000
DTEND;TZID=Europe/Ljubljana:20260622T120000
DTSTAMP:20260422T030845Z
UID:fs-AFLABS-URNIK:rezervacija:12078
ATTENDEE:RRP-2 (RRP-2)
CATEGORIES:Reservation
COLOR:royalblue
DESCRIPTION:Predmeti: Engineerig Design Methodology - RRP (MTKR)\nLetniki:
  RRP-2 (RRP-2)\nIzvajalci: Nikola Vukašinović\nProstori: Lecture hall IV
 /4\, Lecture hall V/2\, Lecture hall V/8
LOCATION:Lecture hall IV/4\, Lecture hall V/2\, Lecture hall V/8
ORGANIZER:Nikola Vukašinović
X-WR-TIMEZONE:Europe/Ljubljana
END:VEVENT
BEGIN:VEVENT
SUMMARY:Izpit: Metodika konstruiranja
DTSTART;TZID=Europe/Ljubljana:20260622T100000
DTEND;TZID=Europe/Ljubljana:20260622T120000
DTSTAMP:20260422T030845Z
UID:fs-AFLABS-URNIK:rezervacija:12079
ATTENDEE:RRP-3 (RRP-3)
CATEGORIES:Reservation
COLOR:royalblue
DESCRIPTION:Predmeti: Design Methodology (2042)\nLetniki: RRP-3 (RRP-3)\nI
 zvajalci: Nikola Vukašinović\nProstori: Lecture hall IV/4\, Lecture hall
  V/2\, Lecture hall V/8
LOCATION:Lecture hall IV/4\, Lecture hall V/2\, Lecture hall V/8
ORGANIZER:Nikola Vukašinović
X-WR-TIMEZONE:Europe/Ljubljana
END:VEVENT
BEGIN:VEVENT
SUMMARY:Izpit: Računalniško modeliranje geometrije
DTSTART;TZID=Europe/Ljubljana:20260624T080000
DTEND;TZID=Europe/Ljubljana:20260624T100000
DTSTAMP:20260422T030845Z
UID:fs-AFLABS-URNIK:rezervacija:12177
ATTENDEE:PAP-1 (PAP-1)
CATEGORIES:Reservation
COLOR:royalblue
DESCRIPTION:Predmeti: Computer aided modelling of geometry (RMGP)\nLetniki
 : PAP-1 (PAP-1)\nIzvajalci: Nikola Vukašinović\nProstori: Lecture hall I
 V/2\, Lecture hall V/2\, Lecture hall V/8
LOCATION:Lecture hall IV/2\, Lecture hall V/2\, Lecture hall V/8
ORGANIZER:Nikola Vukašinović
X-WR-TIMEZONE:Europe/Ljubljana
END:VEVENT
BEGIN:VEVENT
SUMMARY:Izpit: Računalniško modeliranje geometrije
DTSTART;TZID=Europe/Ljubljana:20260624T080000
DTEND;TZID=Europe/Ljubljana:20260624T100000
DTSTAMP:20260422T030845Z
UID:fs-AFLABS-URNIK:rezervacija:12178
ATTENDEE:PAP-1 (PAP-1)
CATEGORIES:Reservation
COLOR:royalblue
DESCRIPTION:Predmeti: Computer aided modelling of geometry (RMGP)\nLetniki
 : PAP-1 (PAP-1)\nIzvajalci: Nikola Vukašinović\nProstori: Lecture hall I
 V/2\, Lecture hall V/2\, Lecture hall V/8
LOCATION:Lecture hall IV/2\, Lecture hall V/2\, Lecture hall V/8
ORGANIZER:Nikola Vukašinović
X-WR-TIMEZONE:Europe/Ljubljana
END:VEVENT
BEGIN:VEVENT
SUMMARY:Izpit: Konstrukcije iz nekovinskih gradiv
DTSTART;TZID=Europe/Ljubljana:20260630T080000
DTEND;TZID=Europe/Ljubljana:20260630T100000
DTSTAMP:20260422T030845Z
UID:fs-AFLABS-URNIK:rezervacija:12255
CATEGORIES:Reservation
COLOR:royalblue
DESCRIPTION:Predmeti: \nLetniki: \nIzvajalci: Nikola Vukašinović\nProsto
 ri: Lecture hall IV/3B
LOCATION:Lecture hall IV/3B
ORGANIZER:Nikola Vukašinović
X-WR-TIMEZONE:Europe/Ljubljana
END:VEVENT
BEGIN:VEVENT
SUMMARY:Izpit: Metodika konstruiranja - RRP
DTSTART;TZID=Europe/Ljubljana:20260608T080000
DTEND;TZID=Europe/Ljubljana:20260608T100000
DTSTAMP:20260422T030845Z
UID:fs-AFLABS-URNIK:rezervacija:12631
ATTENDEE:RRP-2 (RRP-2)
CATEGORIES:Reservation
COLOR:royalblue
DESCRIPTION:Predmeti: Engineerig Design Methodology - RRP (MTKR)\nLetniki:
  RRP-2 (RRP-2)\nIzvajalci: Nikola Vukašinović\nProstori: Lecture hall IV
 /4\, Lecture hall V/2\, Lecture hall V/8
LOCATION:Lecture hall IV/4\, Lecture hall V/2\, Lecture hall V/8
ORGANIZER:Nikola Vukašinović
X-WR-TIMEZONE:Europe/Ljubljana
END:VEVENT
BEGIN:VEVENT
SUMMARY:Izpit: Snovanje in razvoj izdelka
DTSTART;TZID=Europe/Ljubljana:20260608T080000
DTEND;TZID=Europe/Ljubljana:20260608T100000
DTSTAMP:20260422T030845Z
UID:fs-AFLABS-URNIK:rezervacija:12634
ATTENDEE:RRP-3 (RRP-3)
CATEGORIES:Reservation
COLOR:royalblue
DESCRIPTION:Predmeti: Product Design and Development (2046)\nLetniki: RRP-
 3 (RRP-3)\nIzvajalci: Nikola Vukašinović\nProstori: Lecture hall IV/4\, 
 Lecture hall V/2\, Lecture hall V/8
LOCATION:Lecture hall IV/4\, Lecture hall V/2\, Lecture hall V/8
ORGANIZER:Nikola Vukašinović
X-WR-TIMEZONE:Europe/Ljubljana
END:VEVENT
BEGIN:VEVENT
SUMMARY:Izpit: Metodika konstruiranja - RRP
DTSTART;TZID=Europe/Ljubljana:20260622T100000
DTEND;TZID=Europe/Ljubljana:20260622T120000
DTSTAMP:20260422T030845Z
UID:fs-AFLABS-URNIK:rezervacija:12673
ATTENDEE:RRP-2 (RRP-2)
CATEGORIES:Reservation
COLOR:royalblue
DESCRIPTION:Predmeti: Engineerig Design Methodology - RRP (MTKR)\nLetniki:
  RRP-2 (RRP-2)\nIzvajalci: Nikola Vukašinović\nProstori: Lecture hall IV
 /4\, Lecture hall V/2\, Lecture hall V/8
LOCATION:Lecture hall IV/4\, Lecture hall V/2\, Lecture hall V/8
ORGANIZER:Nikola Vukašinović
X-WR-TIMEZONE:Europe/Ljubljana
END:VEVENT
BEGIN:VEVENT
SUMMARY:Izpit: Metodika konstruiranja - RRP
DTSTART;TZID=Europe/Ljubljana:20260608T080000
DTEND;TZID=Europe/Ljubljana:20260608T100000
DTSTAMP:20260422T030845Z
UID:fs-AFLABS-URNIK:rezervacija:12675
ATTENDEE:RRP-2 (RRP-2)
CATEGORIES:Reservation
COLOR:royalblue
DESCRIPTION:Predmeti: Engineerig Design Methodology - RRP (MTKR)\nLetniki:
  RRP-2 (RRP-2)\nIzvajalci: Nikola Vukašinović\nProstori: Lecture hall IV
 /4\, Lecture hall V/2\, Lecture hall V/8
LOCATION:Lecture hall IV/4\, Lecture hall V/2\, Lecture hall V/8
ORGANIZER:Nikola Vukašinović
X-WR-TIMEZONE:Europe/Ljubljana
END:VEVENT
END:VCALENDAR
