BEGIN:VCALENDAR
VERSION:2.0
PRODID:-//AFLabs urnik izvoz - fs//aflabs.si//SI
NAME:UL FS Urnik
X-WR-CALNAME:UL FS Urnik
DTSTAMP:20260424T190526Z
REFRESH-INTERVAL:PT1H
SOURCE:https://urnik.fs.uni-lj.si/en/teacher/920/?day=2024-12-30&export=1
URL:https://urnik.fs.uni-lj.si/en/teacher/920/?day=2024-12-30&export=1
X-PUBLISHED-TTL:PT1H
X-WR-TIMEZONE:Europe/Ljubljana
BEGIN:VTIMEZONE
TZID:Europe/Ljubljana
BEGIN:DAYLIGHT
DTSTART:20260329T020000
RDATE:20260329T020000
RDATE:20270328T020000
TZNAME:CEST
TZOFFSETFROM:+0100
TZOFFSETTO:+0200
END:DAYLIGHT
BEGIN:STANDARD
DTSTART:20261025T030000
RDATE:20261025T030000
RDATE:20271031T030000
TZNAME:CET
TZOFFSETFROM:+0200
TZOFFSETTO:+0100
END:STANDARD
END:VTIMEZONE
BEGIN:VEVENT
SUMMARY:Technical drawing (THRP)\, Lectures (P)
DTSTART;TZID=Europe/Ljubljana:20241004T120000
DTEND;TZID=Europe/Ljubljana:20241004T140000
DTSTAMP:20260424T190526Z
UID:fs-AFLABS-URNIK:srecanje:10329-2024-10-04 12:00:00+02:00
DESCRIPTION:Predmet: Technical drawing (THRP)\, Lectures (P)\nLetniki: PAP
 -1 (PAP-1)\nIzvajalci: Robert Kunc\, Andrej Žerovnik\nProstor: Lecture ha
 ll V/2
END:VEVENT
BEGIN:VEVENT
SUMMARY:Technical drawing (THRP)\, Lectures (P)
DTSTART;TZID=Europe/Ljubljana:20241011T120000
DTEND;TZID=Europe/Ljubljana:20241011T140000
DTSTAMP:20260424T190526Z
UID:fs-AFLABS-URNIK:srecanje:10329-2024-10-11 12:00:00+02:00
DESCRIPTION:Predmet: Technical drawing (THRP)\, Lectures (P)\nLetniki: PAP
 -1 (PAP-1)\nIzvajalci: Robert Kunc\, Andrej Žerovnik\nProstor: Lecture ha
 ll V/2
END:VEVENT
BEGIN:VEVENT
SUMMARY:Technical drawing (THRP)\, Lectures (P)
DTSTART;TZID=Europe/Ljubljana:20241018T120000
DTEND;TZID=Europe/Ljubljana:20241018T140000
DTSTAMP:20260424T190526Z
UID:fs-AFLABS-URNIK:srecanje:10329-2024-10-18 12:00:00+02:00
DESCRIPTION:Predmet: Technical drawing (THRP)\, Lectures (P)\nLetniki: PAP
 -1 (PAP-1)\nIzvajalci: Robert Kunc\, Andrej Žerovnik\nProstor: Lecture ha
 ll V/2
END:VEVENT
BEGIN:VEVENT
SUMMARY:Technical drawing (THRP)\, Lectures (P)
DTSTART;TZID=Europe/Ljubljana:20241025T120000
DTEND;TZID=Europe/Ljubljana:20241025T140000
DTSTAMP:20260424T190526Z
UID:fs-AFLABS-URNIK:srecanje:10329-2024-10-25 12:00:00+02:00
DESCRIPTION:Predmet: Technical drawing (THRP)\, Lectures (P)\nLetniki: PAP
 -1 (PAP-1)\nIzvajalci: Robert Kunc\, Andrej Žerovnik\nProstor: Lecture ha
 ll V/2
END:VEVENT
BEGIN:VEVENT
SUMMARY:Technical drawing (THRP)\, Lectures (P)
DTSTART;TZID=Europe/Ljubljana:20241108T120000
DTEND;TZID=Europe/Ljubljana:20241108T140000
DTSTAMP:20260424T190526Z
UID:fs-AFLABS-URNIK:srecanje:10329-2024-11-08 12:00:00+01:00
DESCRIPTION:Predmet: Technical drawing (THRP)\, Lectures (P)\nLetniki: PAP
 -1 (PAP-1)\nIzvajalci: Robert Kunc\, Andrej Žerovnik\nProstor: Lecture ha
 ll V/2
END:VEVENT
BEGIN:VEVENT
SUMMARY:Technical drawing (THRP)\, Lectures (P)
DTSTART;TZID=Europe/Ljubljana:20241115T120000
DTEND;TZID=Europe/Ljubljana:20241115T140000
DTSTAMP:20260424T190526Z
UID:fs-AFLABS-URNIK:srecanje:10329-2024-11-15 12:00:00+01:00
DESCRIPTION:Predmet: Technical drawing (THRP)\, Lectures (P)\nLetniki: PAP
 -1 (PAP-1)\nIzvajalci: Robert Kunc\, Andrej Žerovnik\nProstor: Lecture ha
 ll V/2
END:VEVENT
BEGIN:VEVENT
SUMMARY:Technical drawing (THRP)\, Lectures (P)
DTSTART;TZID=Europe/Ljubljana:20241122T120000
DTEND;TZID=Europe/Ljubljana:20241122T140000
DTSTAMP:20260424T190526Z
UID:fs-AFLABS-URNIK:srecanje:10329-2024-11-22 12:00:00+01:00
DESCRIPTION:Predmet: Technical drawing (THRP)\, Lectures (P)\nLetniki: PAP
 -1 (PAP-1)\nIzvajalci: Robert Kunc\, Andrej Žerovnik\nProstor: Lecture ha
 ll V/2
END:VEVENT
BEGIN:VEVENT
SUMMARY:Technical drawing (THRP)\, Lectures (P)
DTSTART;TZID=Europe/Ljubljana:20241129T120000
DTEND;TZID=Europe/Ljubljana:20241129T140000
DTSTAMP:20260424T190526Z
UID:fs-AFLABS-URNIK:srecanje:10329-2024-11-29 12:00:00+01:00
DESCRIPTION:Predmet: Technical drawing (THRP)\, Lectures (P)\nLetniki: PAP
 -1 (PAP-1)\nIzvajalci: Robert Kunc\, Andrej Žerovnik\nProstor: Lecture ha
 ll V/2
END:VEVENT
BEGIN:VEVENT
SUMMARY:Technical drawing (THRP)\, Lectures (P)
DTSTART;TZID=Europe/Ljubljana:20241206T120000
DTEND;TZID=Europe/Ljubljana:20241206T140000
DTSTAMP:20260424T190526Z
UID:fs-AFLABS-URNIK:srecanje:10329-2024-12-06 12:00:00+01:00
DESCRIPTION:Predmet: Technical drawing (THRP)\, Lectures (P)\nLetniki: PAP
 -1 (PAP-1)\nIzvajalci: Robert Kunc\, Andrej Žerovnik\nProstor: Lecture ha
 ll V/2
END:VEVENT
BEGIN:VEVENT
SUMMARY:Technical drawing (THRP)\, Lectures (P)
DTSTART;TZID=Europe/Ljubljana:20241227T120000
DTEND;TZID=Europe/Ljubljana:20241227T140000
DTSTAMP:20260424T190526Z
UID:fs-AFLABS-URNIK:srecanje:10329-2024-12-27 12:00:00+01:00
DESCRIPTION:Predmet: Technical drawing (THRP)\, Lectures (P)\nLetniki: PAP
 -1 (PAP-1)\nIzvajalci: Robert Kunc\, Andrej Žerovnik\nProstor: Lecture ha
 ll V/2
END:VEVENT
BEGIN:VEVENT
SUMMARY:Technical drawing (THRP)\, Lectures (P)
DTSTART;TZID=Europe/Ljubljana:20250110T120000
DTEND;TZID=Europe/Ljubljana:20250110T140000
DTSTAMP:20260424T190526Z
UID:fs-AFLABS-URNIK:srecanje:10329-2025-01-10 12:00:00+01:00
DESCRIPTION:Predmet: Technical drawing (THRP)\, Lectures (P)\nLetniki: PAP
 -1 (PAP-1)\nIzvajalci: Robert Kunc\, Andrej Žerovnik\nProstor: Lecture ha
 ll V/2
END:VEVENT
BEGIN:VEVENT
SUMMARY:Technical drawing (THRP)\, Lectures (P)
DTSTART;TZID=Europe/Ljubljana:20250117T120000
DTEND;TZID=Europe/Ljubljana:20250117T140000
DTSTAMP:20260424T190526Z
UID:fs-AFLABS-URNIK:srecanje:10329-2025-01-17 12:00:00+01:00
DESCRIPTION:Predmet: Technical drawing (THRP)\, Lectures (P)\nLetniki: PAP
 -1 (PAP-1)\nIzvajalci: Robert Kunc\, Andrej Žerovnik\nProstor: Lecture ha
 ll V/2
END:VEVENT
BEGIN:VEVENT
SUMMARY:Technical drawing (THRP)\, Lectures (P)
DTSTART;TZID=Europe/Ljubljana:20241029T120000
DTEND;TZID=Europe/Ljubljana:20241029T140000
DTSTAMP:20260424T190526Z
UID:fs-AFLABS-URNIK:premaknjeno-srecanje:101987
ATTENDEE:PAP-1 (PAP-1)
CATEGORIES:Entry,Special
COLOR:forestgreen
DESCRIPTION:Predmet: Technical drawing (THRP)\, Lectures (P)\nLetniki: PAP
 -1 (PAP-1)\nIzvajalci: Robert Kunc\, Andrej Žerovnik\nProstor: Lecture ha
 ll V/2
LOCATION:Lecture hall V/2
ORGANIZER:Robert Kunc, Andrej Žerovnik
RELATED-TO:fs-AFLABS-URNIK:srecanje:14200
X-WR-TIMEZONE:Europe/Ljubljana
END:VEVENT
BEGIN:VEVENT
SUMMARY:Technical drawing (THRP)\, Lectures (P)
DTSTART;TZID=Europe/Ljubljana:20241213T120000
DTEND;TZID=Europe/Ljubljana:20241213T140000
DTSTAMP:20260424T190526Z
UID:fs-AFLABS-URNIK:srecanje:12542-2024-12-13 12:00:00+01:00
DESCRIPTION:Predmet: Technical drawing (THRP)\, Lectures (P)\nLetniki: PAP
 -1 (PAP-1)\nIzvajalci: Robert Kunc\, Andrej Žerovnik\nProstor: Lecture ha
 ll V/2
END:VEVENT
BEGIN:VEVENT
SUMMARY:Technical drawing (THRP)\, Lectures (P)
DTSTART;TZID=Europe/Ljubljana:20241220T120000
DTEND;TZID=Europe/Ljubljana:20241220T140000
DTSTAMP:20260424T190526Z
UID:fs-AFLABS-URNIK:srecanje:14378-2024-12-20 12:00:00+01:00
DESCRIPTION:Predmet: Technical drawing (THRP)\, Lectures (P)\nLetniki: PAP
 -1 (PAP-1)\nIzvajalci: Robert Kunc\, Andrej Žerovnik\nProstor: Lecture ha
 ll III/2
END:VEVENT
END:VCALENDAR
