BEGIN:VCALENDAR
VERSION:2.0
PRODID:-//AFLabs urnik izvoz - fs//aflabs.si//SI
NAME:UL FS Urnik
X-WR-CALNAME:UL FS Urnik
DTSTAMP:20260424T151009Z
REFRESH-INTERVAL:PT1H
SOURCE:https://urnik.fs.uni-lj.si/en/teacher/921/?day=2025-01-06&export=1
URL:https://urnik.fs.uni-lj.si/en/teacher/921/?day=2025-01-06&export=1
X-PUBLISHED-TTL:PT1H
X-WR-TIMEZONE:Europe/Ljubljana
BEGIN:VTIMEZONE
TZID:Europe/Ljubljana
BEGIN:DAYLIGHT
DTSTART:20260329T020000
RDATE:20260329T020000
RDATE:20270328T020000
TZNAME:CEST
TZOFFSETFROM:+0100
TZOFFSETTO:+0200
END:DAYLIGHT
BEGIN:STANDARD
DTSTART:20261025T030000
RDATE:20261025T030000
RDATE:20271031T030000
TZNAME:CET
TZOFFSETFROM:+0200
TZOFFSETTO:+0100
END:STANDARD
END:VTIMEZONE
BEGIN:VEVENT
SUMMARY:Calculus and ordinary differential equations (ANDR)\, Lectures (P)
DTSTART;TZID=Europe/Ljubljana:20241002T080000
DTEND;TZID=Europe/Ljubljana:20241002T110000
DTSTAMP:20260424T151009Z
UID:fs-AFLABS-URNIK:srecanje:6379-2024-10-02 08:00:00+02:00
DESCRIPTION:Predmet: Calculus and ordinary differential equations (ANDR)\,
  Lectures (P)\nLetniki: RRP-1 (RRP-1)\nIzvajalci: Aljoša Peperko\, Darja 
 Rupnik Poklukar\, Janez Žerovnik\nProstor: Lecture hall V/8
END:VEVENT
BEGIN:VEVENT
SUMMARY:Calculus and ordinary differential equations (ANDR)\, Lectures (P)
DTSTART;TZID=Europe/Ljubljana:20241009T080000
DTEND;TZID=Europe/Ljubljana:20241009T110000
DTSTAMP:20260424T151009Z
UID:fs-AFLABS-URNIK:srecanje:6379-2024-10-09 08:00:00+02:00
DESCRIPTION:Predmet: Calculus and ordinary differential equations (ANDR)\,
  Lectures (P)\nLetniki: RRP-1 (RRP-1)\nIzvajalci: Aljoša Peperko\, Darja 
 Rupnik Poklukar\, Janez Žerovnik\nProstor: Lecture hall V/8
END:VEVENT
BEGIN:VEVENT
SUMMARY:Calculus and ordinary differential equations (ANDR)\, Lectures (P)
DTSTART;TZID=Europe/Ljubljana:20241016T080000
DTEND;TZID=Europe/Ljubljana:20241016T110000
DTSTAMP:20260424T151009Z
UID:fs-AFLABS-URNIK:srecanje:6379-2024-10-16 08:00:00+02:00
DESCRIPTION:Predmet: Calculus and ordinary differential equations (ANDR)\,
  Lectures (P)\nLetniki: RRP-1 (RRP-1)\nIzvajalci: Aljoša Peperko\, Darja 
 Rupnik Poklukar\, Janez Žerovnik\nProstor: Lecture hall V/8
END:VEVENT
BEGIN:VEVENT
SUMMARY:Calculus and ordinary differential equations (ANDR)\, Lectures (P)
DTSTART;TZID=Europe/Ljubljana:20241023T080000
DTEND;TZID=Europe/Ljubljana:20241023T110000
DTSTAMP:20260424T151009Z
UID:fs-AFLABS-URNIK:srecanje:6379-2024-10-23 08:00:00+02:00
DESCRIPTION:Predmet: Calculus and ordinary differential equations (ANDR)\,
  Lectures (P)\nLetniki: RRP-1 (RRP-1)\nIzvajalci: Aljoša Peperko\, Darja 
 Rupnik Poklukar\, Janez Žerovnik\nProstor: Lecture hall V/8
END:VEVENT
BEGIN:VEVENT
SUMMARY:Calculus and ordinary differential equations (ANDR)\, Lectures (P)
DTSTART;TZID=Europe/Ljubljana:20241030T080000
DTEND;TZID=Europe/Ljubljana:20241030T110000
DTSTAMP:20260424T151009Z
UID:fs-AFLABS-URNIK:srecanje:6379-2024-10-30 08:00:00+01:00
DESCRIPTION:Predmet: Calculus and ordinary differential equations (ANDR)\,
  Lectures (P)\nLetniki: RRP-1 (RRP-1)\nIzvajalci: Aljoša Peperko\, Darja 
 Rupnik Poklukar\, Janez Žerovnik\nProstor: Lecture hall V/8
END:VEVENT
BEGIN:VEVENT
SUMMARY:Calculus and ordinary differential equations (ANDR)\, Lectures (P)
DTSTART;TZID=Europe/Ljubljana:20241106T080000
DTEND;TZID=Europe/Ljubljana:20241106T110000
DTSTAMP:20260424T151009Z
UID:fs-AFLABS-URNIK:srecanje:6379-2024-11-06 08:00:00+01:00
DESCRIPTION:Predmet: Calculus and ordinary differential equations (ANDR)\,
  Lectures (P)\nLetniki: RRP-1 (RRP-1)\nIzvajalci: Aljoša Peperko\, Darja 
 Rupnik Poklukar\, Janez Žerovnik\nProstor: Lecture hall V/8
END:VEVENT
BEGIN:VEVENT
SUMMARY:Calculus and ordinary differential equations (ANDR)\, Lectures (P)
DTSTART;TZID=Europe/Ljubljana:20241113T080000
DTEND;TZID=Europe/Ljubljana:20241113T110000
DTSTAMP:20260424T151009Z
UID:fs-AFLABS-URNIK:srecanje:6379-2024-11-13 08:00:00+01:00
DESCRIPTION:Predmet: Calculus and ordinary differential equations (ANDR)\,
  Lectures (P)\nLetniki: RRP-1 (RRP-1)\nIzvajalci: Aljoša Peperko\, Darja 
 Rupnik Poklukar\, Janez Žerovnik\nProstor: Lecture hall V/8
END:VEVENT
BEGIN:VEVENT
SUMMARY:Calculus and ordinary differential equations (ANDR)\, Lectures (P)
DTSTART;TZID=Europe/Ljubljana:20241120T080000
DTEND;TZID=Europe/Ljubljana:20241120T110000
DTSTAMP:20260424T151009Z
UID:fs-AFLABS-URNIK:srecanje:6379-2024-11-20 08:00:00+01:00
DESCRIPTION:Predmet: Calculus and ordinary differential equations (ANDR)\,
  Lectures (P)\nLetniki: RRP-1 (RRP-1)\nIzvajalci: Aljoša Peperko\, Darja 
 Rupnik Poklukar\, Janez Žerovnik\nProstor: Lecture hall V/8
END:VEVENT
BEGIN:VEVENT
SUMMARY:Calculus and ordinary differential equations (ANDR)\, Lectures (P)
DTSTART;TZID=Europe/Ljubljana:20241127T080000
DTEND;TZID=Europe/Ljubljana:20241127T110000
DTSTAMP:20260424T151009Z
UID:fs-AFLABS-URNIK:srecanje:6379-2024-11-27 08:00:00+01:00
DESCRIPTION:Predmet: Calculus and ordinary differential equations (ANDR)\,
  Lectures (P)\nLetniki: RRP-1 (RRP-1)\nIzvajalci: Aljoša Peperko\, Darja 
 Rupnik Poklukar\, Janez Žerovnik\nProstor: Lecture hall V/8
END:VEVENT
BEGIN:VEVENT
SUMMARY:Calculus and ordinary differential equations (ANDR)\, Lectures (P)
DTSTART;TZID=Europe/Ljubljana:20241204T080000
DTEND;TZID=Europe/Ljubljana:20241204T110000
DTSTAMP:20260424T151009Z
UID:fs-AFLABS-URNIK:srecanje:6379-2024-12-04 08:00:00+01:00
DESCRIPTION:Predmet: Calculus and ordinary differential equations (ANDR)\,
  Lectures (P)\nLetniki: RRP-1 (RRP-1)\nIzvajalci: Aljoša Peperko\, Darja 
 Rupnik Poklukar\, Janez Žerovnik\nProstor: Lecture hall V/8
END:VEVENT
BEGIN:VEVENT
SUMMARY:Calculus and ordinary differential equations (ANDR)\, Lectures (P)
DTSTART;TZID=Europe/Ljubljana:20241211T080000
DTEND;TZID=Europe/Ljubljana:20241211T110000
DTSTAMP:20260424T151009Z
UID:fs-AFLABS-URNIK:srecanje:6379-2024-12-11 08:00:00+01:00
DESCRIPTION:Predmet: Calculus and ordinary differential equations (ANDR)\,
  Lectures (P)\nLetniki: RRP-1 (RRP-1)\nIzvajalci: Aljoša Peperko\, Darja 
 Rupnik Poklukar\, Janez Žerovnik\nProstor: Lecture hall V/8
END:VEVENT
BEGIN:VEVENT
SUMMARY:Calculus and ordinary differential equations (ANDR)\, Lectures (P)
DTSTART;TZID=Europe/Ljubljana:20241218T080000
DTEND;TZID=Europe/Ljubljana:20241218T110000
DTSTAMP:20260424T151009Z
UID:fs-AFLABS-URNIK:srecanje:6379-2024-12-18 08:00:00+01:00
DESCRIPTION:Predmet: Calculus and ordinary differential equations (ANDR)\,
  Lectures (P)\nLetniki: RRP-1 (RRP-1)\nIzvajalci: Aljoša Peperko\, Darja 
 Rupnik Poklukar\, Janez Žerovnik\nProstor: Lecture hall V/8
END:VEVENT
BEGIN:VEVENT
SUMMARY:Calculus and ordinary differential equations (ANDR)\, Lectures (P)
DTSTART;TZID=Europe/Ljubljana:20241225T080000
DTEND;TZID=Europe/Ljubljana:20241225T110000
DTSTAMP:20260424T151009Z
UID:fs-AFLABS-URNIK:srecanje:6379-2024-12-25 08:00:00+01:00
DESCRIPTION:Predmet: Calculus and ordinary differential equations (ANDR)\,
  Lectures (P)\nLetniki: RRP-1 (RRP-1)\nIzvajalci: Aljoša Peperko\, Darja 
 Rupnik Poklukar\, Janez Žerovnik\nProstor: Lecture hall V/8
END:VEVENT
BEGIN:VEVENT
SUMMARY:Calculus and ordinary differential equations (ANDR)\, Lectures (P)
DTSTART;TZID=Europe/Ljubljana:20250108T080000
DTEND;TZID=Europe/Ljubljana:20250108T110000
DTSTAMP:20260424T151009Z
UID:fs-AFLABS-URNIK:srecanje:6379-2025-01-08 08:00:00+01:00
DESCRIPTION:Predmet: Calculus and ordinary differential equations (ANDR)\,
  Lectures (P)\nLetniki: RRP-1 (RRP-1)\nIzvajalci: Aljoša Peperko\, Darja 
 Rupnik Poklukar\, Janez Žerovnik\nProstor: Lecture hall V/8
END:VEVENT
BEGIN:VEVENT
SUMMARY:Calculus and ordinary differential equations (ANDR)\, Lectures (P)
DTSTART;TZID=Europe/Ljubljana:20250115T080000
DTEND;TZID=Europe/Ljubljana:20250115T110000
DTSTAMP:20260424T151009Z
UID:fs-AFLABS-URNIK:srecanje:6379-2025-01-15 08:00:00+01:00
DESCRIPTION:Predmet: Calculus and ordinary differential equations (ANDR)\,
  Lectures (P)\nLetniki: RRP-1 (RRP-1)\nIzvajalci: Aljoša Peperko\, Darja 
 Rupnik Poklukar\, Janez Žerovnik\nProstor: Lecture hall V/8
END:VEVENT
BEGIN:VEVENT
SUMMARY:Calculus and ordinary differential equations (ANDR)\, Lectures (P)
DTSTART;TZID=Europe/Ljubljana:20241007T100000
DTEND;TZID=Europe/Ljubljana:20241007T120000
DTSTAMP:20260424T151009Z
UID:fs-AFLABS-URNIK:srecanje:6378-2024-10-07 10:00:00+02:00
DESCRIPTION:Predmet: Calculus and ordinary differential equations (ANDR)\,
  Lectures (P)\nLetniki: RRP-1 (RRP-1)\nIzvajalci: Aljoša Peperko\, Darja 
 Rupnik Poklukar\, Janez Žerovnik\nProstor: Lecture hall V/8
END:VEVENT
BEGIN:VEVENT
SUMMARY:Calculus and ordinary differential equations (ANDR)\, Lectures (P)
DTSTART;TZID=Europe/Ljubljana:20241014T100000
DTEND;TZID=Europe/Ljubljana:20241014T120000
DTSTAMP:20260424T151009Z
UID:fs-AFLABS-URNIK:srecanje:6378-2024-10-14 10:00:00+02:00
DESCRIPTION:Predmet: Calculus and ordinary differential equations (ANDR)\,
  Lectures (P)\nLetniki: RRP-1 (RRP-1)\nIzvajalci: Aljoša Peperko\, Darja 
 Rupnik Poklukar\, Janez Žerovnik\nProstor: Lecture hall V/8
END:VEVENT
BEGIN:VEVENT
SUMMARY:Calculus and ordinary differential equations (ANDR)\, Lectures (P)
DTSTART;TZID=Europe/Ljubljana:20241021T100000
DTEND;TZID=Europe/Ljubljana:20241021T120000
DTSTAMP:20260424T151009Z
UID:fs-AFLABS-URNIK:srecanje:6378-2024-10-21 10:00:00+02:00
DESCRIPTION:Predmet: Calculus and ordinary differential equations (ANDR)\,
  Lectures (P)\nLetniki: RRP-1 (RRP-1)\nIzvajalci: Aljoša Peperko\, Darja 
 Rupnik Poklukar\, Janez Žerovnik\nProstor: Lecture hall V/8
END:VEVENT
BEGIN:VEVENT
SUMMARY:Calculus and ordinary differential equations (ANDR)\, Lectures (P)
DTSTART;TZID=Europe/Ljubljana:20241104T100000
DTEND;TZID=Europe/Ljubljana:20241104T120000
DTSTAMP:20260424T151009Z
UID:fs-AFLABS-URNIK:srecanje:6378-2024-11-04 10:00:00+01:00
DESCRIPTION:Predmet: Calculus and ordinary differential equations (ANDR)\,
  Lectures (P)\nLetniki: RRP-1 (RRP-1)\nIzvajalci: Aljoša Peperko\, Darja 
 Rupnik Poklukar\, Janez Žerovnik\nProstor: Lecture hall V/8
END:VEVENT
BEGIN:VEVENT
SUMMARY:Calculus and ordinary differential equations (ANDR)\, Lectures (P)
DTSTART;TZID=Europe/Ljubljana:20241111T100000
DTEND;TZID=Europe/Ljubljana:20241111T120000
DTSTAMP:20260424T151009Z
UID:fs-AFLABS-URNIK:srecanje:6378-2024-11-11 10:00:00+01:00
DESCRIPTION:Predmet: Calculus and ordinary differential equations (ANDR)\,
  Lectures (P)\nLetniki: RRP-1 (RRP-1)\nIzvajalci: Aljoša Peperko\, Darja 
 Rupnik Poklukar\, Janez Žerovnik\nProstor: Lecture hall V/8
END:VEVENT
BEGIN:VEVENT
SUMMARY:Calculus and ordinary differential equations (ANDR)\, Lectures (P)
DTSTART;TZID=Europe/Ljubljana:20241118T100000
DTEND;TZID=Europe/Ljubljana:20241118T120000
DTSTAMP:20260424T151009Z
UID:fs-AFLABS-URNIK:srecanje:6378-2024-11-18 10:00:00+01:00
DESCRIPTION:Predmet: Calculus and ordinary differential equations (ANDR)\,
  Lectures (P)\nLetniki: RRP-1 (RRP-1)\nIzvajalci: Aljoša Peperko\, Darja 
 Rupnik Poklukar\, Janez Žerovnik\nProstor: Lecture hall V/8
END:VEVENT
BEGIN:VEVENT
SUMMARY:Calculus and ordinary differential equations (ANDR)\, Lectures (P)
DTSTART;TZID=Europe/Ljubljana:20241125T100000
DTEND;TZID=Europe/Ljubljana:20241125T120000
DTSTAMP:20260424T151009Z
UID:fs-AFLABS-URNIK:srecanje:6378-2024-11-25 10:00:00+01:00
DESCRIPTION:Predmet: Calculus and ordinary differential equations (ANDR)\,
  Lectures (P)\nLetniki: RRP-1 (RRP-1)\nIzvajalci: Aljoša Peperko\, Darja 
 Rupnik Poklukar\, Janez Žerovnik\nProstor: Lecture hall V/8
END:VEVENT
BEGIN:VEVENT
SUMMARY:Calculus and ordinary differential equations (ANDR)\, Lectures (P)
DTSTART;TZID=Europe/Ljubljana:20241202T100000
DTEND;TZID=Europe/Ljubljana:20241202T120000
DTSTAMP:20260424T151009Z
UID:fs-AFLABS-URNIK:srecanje:6378-2024-12-02 10:00:00+01:00
DESCRIPTION:Predmet: Calculus and ordinary differential equations (ANDR)\,
  Lectures (P)\nLetniki: RRP-1 (RRP-1)\nIzvajalci: Aljoša Peperko\, Darja 
 Rupnik Poklukar\, Janez Žerovnik\nProstor: Lecture hall V/8
END:VEVENT
BEGIN:VEVENT
SUMMARY:Calculus and ordinary differential equations (ANDR)\, Lectures (P)
DTSTART;TZID=Europe/Ljubljana:20241209T100000
DTEND;TZID=Europe/Ljubljana:20241209T120000
DTSTAMP:20260424T151009Z
UID:fs-AFLABS-URNIK:srecanje:6378-2024-12-09 10:00:00+01:00
DESCRIPTION:Predmet: Calculus and ordinary differential equations (ANDR)\,
  Lectures (P)\nLetniki: RRP-1 (RRP-1)\nIzvajalci: Aljoša Peperko\, Darja 
 Rupnik Poklukar\, Janez Žerovnik\nProstor: Lecture hall V/8
END:VEVENT
BEGIN:VEVENT
SUMMARY:Calculus and ordinary differential equations (ANDR)\, Lectures (P)
DTSTART;TZID=Europe/Ljubljana:20241216T100000
DTEND;TZID=Europe/Ljubljana:20241216T120000
DTSTAMP:20260424T151009Z
UID:fs-AFLABS-URNIK:srecanje:6378-2024-12-16 10:00:00+01:00
DESCRIPTION:Predmet: Calculus and ordinary differential equations (ANDR)\,
  Lectures (P)\nLetniki: RRP-1 (RRP-1)\nIzvajalci: Aljoša Peperko\, Darja 
 Rupnik Poklukar\, Janez Žerovnik\nProstor: Lecture hall V/8
END:VEVENT
BEGIN:VEVENT
SUMMARY:Calculus and ordinary differential equations (ANDR)\, Lectures (P)
DTSTART;TZID=Europe/Ljubljana:20241223T100000
DTEND;TZID=Europe/Ljubljana:20241223T120000
DTSTAMP:20260424T151009Z
UID:fs-AFLABS-URNIK:srecanje:6378-2024-12-23 10:00:00+01:00
DESCRIPTION:Predmet: Calculus and ordinary differential equations (ANDR)\,
  Lectures (P)\nLetniki: RRP-1 (RRP-1)\nIzvajalci: Aljoša Peperko\, Darja 
 Rupnik Poklukar\, Janez Žerovnik\nProstor: Lecture hall V/8
END:VEVENT
BEGIN:VEVENT
SUMMARY:Calculus and ordinary differential equations (ANDR)\, Lectures (P)
DTSTART;TZID=Europe/Ljubljana:20250106T100000
DTEND;TZID=Europe/Ljubljana:20250106T120000
DTSTAMP:20260424T151009Z
UID:fs-AFLABS-URNIK:srecanje:6378-2025-01-06 10:00:00+01:00
DESCRIPTION:Predmet: Calculus and ordinary differential equations (ANDR)\,
  Lectures (P)\nLetniki: RRP-1 (RRP-1)\nIzvajalci: Aljoša Peperko\, Darja 
 Rupnik Poklukar\, Janez Žerovnik\nProstor: Lecture hall V/8
END:VEVENT
BEGIN:VEVENT
SUMMARY:Calculus and ordinary differential equations (ANDR)\, Lectures (P)
DTSTART;TZID=Europe/Ljubljana:20250113T100000
DTEND;TZID=Europe/Ljubljana:20250113T120000
DTSTAMP:20260424T151009Z
UID:fs-AFLABS-URNIK:srecanje:6378-2025-01-13 10:00:00+01:00
DESCRIPTION:Predmet: Calculus and ordinary differential equations (ANDR)\,
  Lectures (P)\nLetniki: RRP-1 (RRP-1)\nIzvajalci: Aljoša Peperko\, Darja 
 Rupnik Poklukar\, Janez Žerovnik\nProstor: Lecture hall V/8
END:VEVENT
BEGIN:VEVENT
SUMMARY:Calculus and ordinary differential equations (ANDR)\, Lectures (P)
DTSTART;TZID=Europe/Ljubljana:20250120T100000
DTEND;TZID=Europe/Ljubljana:20250120T120000
DTSTAMP:20260424T151009Z
UID:fs-AFLABS-URNIK:srecanje:6378-2025-01-20 10:00:00+01:00
DESCRIPTION:Predmet: Calculus and ordinary differential equations (ANDR)\,
  Lectures (P)\nLetniki: RRP-1 (RRP-1)\nIzvajalci: Aljoša Peperko\, Darja 
 Rupnik Poklukar\, Janez Žerovnik\nProstor: Lecture hall V/8
END:VEVENT
BEGIN:VEVENT
SUMMARY:Integral transformations and Fourier analysis (ITFR)\, Lectures (P
 )
DTSTART;TZID=Europe/Ljubljana:20241007T140000
DTEND;TZID=Europe/Ljubljana:20241007T170000
DTSTAMP:20260424T151009Z
UID:fs-AFLABS-URNIK:srecanje:6671-2024-10-07 14:00:00+02:00
DESCRIPTION:Predmet: Integral transformations and Fourier analysis (ITFR)\
 , Lectures (P)\nLetniki: RRP-2 (RRP-2)\nIzvajalci: Boštjan Gabrovšek\, A
 ljoša Peperko\, Darja Rupnik Poklukar\, Janez Žerovnik\nProstor: Lecture
  hall V/2
END:VEVENT
BEGIN:VEVENT
SUMMARY:Integral transformations and Fourier analysis (ITFR)\, Lectures (P
 )
DTSTART;TZID=Europe/Ljubljana:20241014T140000
DTEND;TZID=Europe/Ljubljana:20241014T170000
DTSTAMP:20260424T151009Z
UID:fs-AFLABS-URNIK:srecanje:6671-2024-10-14 14:00:00+02:00
DESCRIPTION:Predmet: Integral transformations and Fourier analysis (ITFR)\
 , Lectures (P)\nLetniki: RRP-2 (RRP-2)\nIzvajalci: Boštjan Gabrovšek\, A
 ljoša Peperko\, Darja Rupnik Poklukar\, Janez Žerovnik\nProstor: Lecture
  hall V/2
END:VEVENT
BEGIN:VEVENT
SUMMARY:Integral transformations and Fourier analysis (ITFR)\, Lectures (P
 )
DTSTART;TZID=Europe/Ljubljana:20241021T140000
DTEND;TZID=Europe/Ljubljana:20241021T170000
DTSTAMP:20260424T151009Z
UID:fs-AFLABS-URNIK:srecanje:6671-2024-10-21 14:00:00+02:00
DESCRIPTION:Predmet: Integral transformations and Fourier analysis (ITFR)\
 , Lectures (P)\nLetniki: RRP-2 (RRP-2)\nIzvajalci: Boštjan Gabrovšek\, A
 ljoša Peperko\, Darja Rupnik Poklukar\, Janez Žerovnik\nProstor: Lecture
  hall V/2
END:VEVENT
BEGIN:VEVENT
SUMMARY:Integral transformations and Fourier analysis (ITFR)\, Lectures (P
 )
DTSTART;TZID=Europe/Ljubljana:20241104T140000
DTEND;TZID=Europe/Ljubljana:20241104T170000
DTSTAMP:20260424T151009Z
UID:fs-AFLABS-URNIK:srecanje:6671-2024-11-04 14:00:00+01:00
DESCRIPTION:Predmet: Integral transformations and Fourier analysis (ITFR)\
 , Lectures (P)\nLetniki: RRP-2 (RRP-2)\nIzvajalci: Boštjan Gabrovšek\, A
 ljoša Peperko\, Darja Rupnik Poklukar\, Janez Žerovnik\nProstor: Lecture
  hall V/2
END:VEVENT
BEGIN:VEVENT
SUMMARY:Integral transformations and Fourier analysis (ITFR)\, Lectures (P
 )
DTSTART;TZID=Europe/Ljubljana:20241111T140000
DTEND;TZID=Europe/Ljubljana:20241111T170000
DTSTAMP:20260424T151009Z
UID:fs-AFLABS-URNIK:srecanje:6671-2024-11-11 14:00:00+01:00
DESCRIPTION:Predmet: Integral transformations and Fourier analysis (ITFR)\
 , Lectures (P)\nLetniki: RRP-2 (RRP-2)\nIzvajalci: Boštjan Gabrovšek\, A
 ljoša Peperko\, Darja Rupnik Poklukar\, Janez Žerovnik\nProstor: Lecture
  hall V/2
END:VEVENT
BEGIN:VEVENT
SUMMARY:Integral transformations and Fourier analysis (ITFR)\, Lectures (P
 )
DTSTART;TZID=Europe/Ljubljana:20241118T140000
DTEND;TZID=Europe/Ljubljana:20241118T170000
DTSTAMP:20260424T151009Z
UID:fs-AFLABS-URNIK:srecanje:6671-2024-11-18 14:00:00+01:00
DESCRIPTION:Predmet: Integral transformations and Fourier analysis (ITFR)\
 , Lectures (P)\nLetniki: RRP-2 (RRP-2)\nIzvajalci: Boštjan Gabrovšek\, A
 ljoša Peperko\, Darja Rupnik Poklukar\, Janez Žerovnik\nProstor: Lecture
  hall V/2
END:VEVENT
BEGIN:VEVENT
SUMMARY:Integral transformations and Fourier analysis (ITFR)\, Lectures (P
 )
DTSTART;TZID=Europe/Ljubljana:20241125T140000
DTEND;TZID=Europe/Ljubljana:20241125T170000
DTSTAMP:20260424T151009Z
UID:fs-AFLABS-URNIK:srecanje:6671-2024-11-25 14:00:00+01:00
DESCRIPTION:Predmet: Integral transformations and Fourier analysis (ITFR)\
 , Lectures (P)\nLetniki: RRP-2 (RRP-2)\nIzvajalci: Boštjan Gabrovšek\, A
 ljoša Peperko\, Darja Rupnik Poklukar\, Janez Žerovnik\nProstor: Lecture
  hall V/2
END:VEVENT
BEGIN:VEVENT
SUMMARY:Integral transformations and Fourier analysis (ITFR)\, Lectures (P
 )
DTSTART;TZID=Europe/Ljubljana:20241202T140000
DTEND;TZID=Europe/Ljubljana:20241202T170000
DTSTAMP:20260424T151009Z
UID:fs-AFLABS-URNIK:srecanje:6671-2024-12-02 14:00:00+01:00
DESCRIPTION:Predmet: Integral transformations and Fourier analysis (ITFR)\
 , Lectures (P)\nLetniki: RRP-2 (RRP-2)\nIzvajalci: Boštjan Gabrovšek\, A
 ljoša Peperko\, Darja Rupnik Poklukar\, Janez Žerovnik\nProstor: Lecture
  hall V/2
END:VEVENT
BEGIN:VEVENT
SUMMARY:Integral transformations and Fourier analysis (ITFR)\, Lectures (P
 )
DTSTART;TZID=Europe/Ljubljana:20241209T140000
DTEND;TZID=Europe/Ljubljana:20241209T170000
DTSTAMP:20260424T151009Z
UID:fs-AFLABS-URNIK:srecanje:6671-2024-12-09 14:00:00+01:00
DESCRIPTION:Predmet: Integral transformations and Fourier analysis (ITFR)\
 , Lectures (P)\nLetniki: RRP-2 (RRP-2)\nIzvajalci: Boštjan Gabrovšek\, A
 ljoša Peperko\, Darja Rupnik Poklukar\, Janez Žerovnik\nProstor: Lecture
  hall V/2
END:VEVENT
BEGIN:VEVENT
SUMMARY:Integral transformations and Fourier analysis (ITFR)\, Lectures (P
 )
DTSTART;TZID=Europe/Ljubljana:20241216T140000
DTEND;TZID=Europe/Ljubljana:20241216T170000
DTSTAMP:20260424T151009Z
UID:fs-AFLABS-URNIK:srecanje:6671-2024-12-16 14:00:00+01:00
DESCRIPTION:Predmet: Integral transformations and Fourier analysis (ITFR)\
 , Lectures (P)\nLetniki: RRP-2 (RRP-2)\nIzvajalci: Boštjan Gabrovšek\, A
 ljoša Peperko\, Darja Rupnik Poklukar\, Janez Žerovnik\nProstor: Lecture
  hall V/2
END:VEVENT
BEGIN:VEVENT
SUMMARY:Integral transformations and Fourier analysis (ITFR)\, Lectures (P
 )
DTSTART;TZID=Europe/Ljubljana:20241223T140000
DTEND;TZID=Europe/Ljubljana:20241223T170000
DTSTAMP:20260424T151009Z
UID:fs-AFLABS-URNIK:srecanje:6671-2024-12-23 14:00:00+01:00
DESCRIPTION:Predmet: Integral transformations and Fourier analysis (ITFR)\
 , Lectures (P)\nLetniki: RRP-2 (RRP-2)\nIzvajalci: Boštjan Gabrovšek\, A
 ljoša Peperko\, Darja Rupnik Poklukar\, Janez Žerovnik\nProstor: Lecture
  hall V/2
END:VEVENT
BEGIN:VEVENT
SUMMARY:Integral transformations and Fourier analysis (ITFR)\, Lectures (P
 )
DTSTART;TZID=Europe/Ljubljana:20250106T140000
DTEND;TZID=Europe/Ljubljana:20250106T170000
DTSTAMP:20260424T151009Z
UID:fs-AFLABS-URNIK:srecanje:6671-2025-01-06 14:00:00+01:00
DESCRIPTION:Predmet: Integral transformations and Fourier analysis (ITFR)\
 , Lectures (P)\nLetniki: RRP-2 (RRP-2)\nIzvajalci: Boštjan Gabrovšek\, A
 ljoša Peperko\, Darja Rupnik Poklukar\, Janez Žerovnik\nProstor: Lecture
  hall V/2
END:VEVENT
BEGIN:VEVENT
SUMMARY:Integral transformations and Fourier analysis (ITFR)\, Lectures (P
 )
DTSTART;TZID=Europe/Ljubljana:20250113T140000
DTEND;TZID=Europe/Ljubljana:20250113T170000
DTSTAMP:20260424T151009Z
UID:fs-AFLABS-URNIK:srecanje:6671-2025-01-13 14:00:00+01:00
DESCRIPTION:Predmet: Integral transformations and Fourier analysis (ITFR)\
 , Lectures (P)\nLetniki: RRP-2 (RRP-2)\nIzvajalci: Boštjan Gabrovšek\, A
 ljoša Peperko\, Darja Rupnik Poklukar\, Janez Žerovnik\nProstor: Lecture
  hall V/2
END:VEVENT
BEGIN:VEVENT
SUMMARY:Integral transformations and Fourier analysis (ITFR)\, Lectures (P
 )
DTSTART;TZID=Europe/Ljubljana:20250120T140000
DTEND;TZID=Europe/Ljubljana:20250120T170000
DTSTAMP:20260424T151009Z
UID:fs-AFLABS-URNIK:srecanje:6671-2025-01-20 14:00:00+01:00
DESCRIPTION:Predmet: Integral transformations and Fourier analysis (ITFR)\
 , Lectures (P)\nLetniki: RRP-2 (RRP-2)\nIzvajalci: Boštjan Gabrovšek\, A
 ljoša Peperko\, Darja Rupnik Poklukar\, Janez Žerovnik\nProstor: Lecture
  hall V/2
END:VEVENT
BEGIN:VEVENT
SUMMARY:Izpit: Analiza in navadne diferencialne enačbe (2001-U)
DTSTART;TZID=Europe/Ljubljana:20250130T080000
DTEND;TZID=Europe/Ljubljana:20250130T110000
DTSTAMP:20260424T151009Z
UID:fs-AFLABS-URNIK:rezervacija:6410
CATEGORIES:Reservation
COLOR:royalblue
DESCRIPTION:Predmeti: \nLetniki: \nIzvajalci: Janez Žerovnik\nProstori: L
 ecture hall II/5\, Lecture hall IV/2\, Lecture hall IV/4\, Lecture hall V/
 2\, Lecture hall V/8
LOCATION:Lecture hall II/5\, Lecture hall IV/2\, Lecture hall IV/4\, Lectu
 re hall V/2\, Lecture hall V/8
ORGANIZER:Janez Žerovnik
X-WR-TIMEZONE:Europe/Ljubljana
END:VEVENT
BEGIN:VEVENT
SUMMARY:Izpit: Integralske transformacije in Fourierova analiza (2012-U) [
 dve oceni]
DTSTART;TZID=Europe/Ljubljana:20250130T080000
DTEND;TZID=Europe/Ljubljana:20250130T110000
DTSTAMP:20260424T151009Z
UID:fs-AFLABS-URNIK:rezervacija:6691
CATEGORIES:Reservation
COLOR:royalblue
DESCRIPTION:Predmeti: \nLetniki: \nIzvajalci: Janez Žerovnik\nProstori: L
 ecture hall II/5\, Lecture hall IV/2\, Lecture hall IV/4\, Lecture hall V/
 2\, Lecture hall V/8
LOCATION:Lecture hall II/5\, Lecture hall IV/2\, Lecture hall IV/4\, Lectu
 re hall V/2\, Lecture hall V/8
ORGANIZER:Janez Žerovnik
X-WR-TIMEZONE:Europe/Ljubljana
END:VEVENT
BEGIN:VEVENT
SUMMARY:Izpit: Analiza in navadne diferencialne enačbe (2001-U) [dve ocen
 i]
DTSTART;TZID=Europe/Ljubljana:20250130T080000
DTEND;TZID=Europe/Ljubljana:20250130T110000
DTSTAMP:20260424T151009Z
UID:fs-AFLABS-URNIK:rezervacija:6413
CATEGORIES:Reservation
COLOR:royalblue
DESCRIPTION:Predmeti: \nLetniki: \nIzvajalci: Janez Žerovnik\nProstori: L
 ecture hall II/5\, Lecture hall IV/2\, Lecture hall IV/4\, Lecture hall V/
 2\, Lecture hall V/8
LOCATION:Lecture hall II/5\, Lecture hall IV/2\, Lecture hall IV/4\, Lectu
 re hall V/2\, Lecture hall V/8
ORGANIZER:Janez Žerovnik
X-WR-TIMEZONE:Europe/Ljubljana
END:VEVENT
BEGIN:VEVENT
SUMMARY:Izpit: Analiza - PAP (3001-V) [dve oceni]
DTSTART;TZID=Europe/Ljubljana:20250131T130000
DTEND;TZID=Europe/Ljubljana:20250131T160000
DTSTAMP:20260424T151009Z
UID:fs-AFLABS-URNIK:rezervacija:6407
CATEGORIES:Reservation
COLOR:royalblue
DESCRIPTION:Predmeti: \nLetniki: \nIzvajalci: Janez Žerovnik\nProstori: L
 ecture hall II/2\, Lecture hall IV/2\, Lecture hall IV/4\, Lecture hall V/
 2\, Lecture hall V/8
LOCATION:Lecture hall II/2\, Lecture hall IV/2\, Lecture hall IV/4\, Lectu
 re hall V/2\, Lecture hall V/8
ORGANIZER:Janez Žerovnik
X-WR-TIMEZONE:Europe/Ljubljana
END:VEVENT
BEGIN:VEVENT
SUMMARY:Izpit: Analiza - PAP (3001-V)
DTSTART;TZID=Europe/Ljubljana:20250131T130000
DTEND;TZID=Europe/Ljubljana:20250131T160000
DTSTAMP:20260424T151009Z
UID:fs-AFLABS-URNIK:rezervacija:6404
CATEGORIES:Reservation
COLOR:royalblue
DESCRIPTION:Predmeti: \nLetniki: \nIzvajalci: Janez Žerovnik\nProstori: L
 ecture hall II/2\, Lecture hall IV/2\, Lecture hall IV/4\, Lecture hall V/
 2\, Lecture hall V/8
LOCATION:Lecture hall II/2\, Lecture hall IV/2\, Lecture hall IV/4\, Lectu
 re hall V/2\, Lecture hall V/8
ORGANIZER:Janez Žerovnik
X-WR-TIMEZONE:Europe/Ljubljana
END:VEVENT
END:VCALENDAR
