BEGIN:VCALENDAR
VERSION:2.0
PRODID:-//AFLabs urnik izvoz - fs//aflabs.si//SI
NAME:UL FS Urnik
X-WR-CALNAME:UL FS Urnik
DTSTAMP:20260424T152131Z
REFRESH-INTERVAL:PT1H
SOURCE:https://urnik.fs.uni-lj.si/en/teacher/921/?day=2025-08-04&export=1
URL:https://urnik.fs.uni-lj.si/en/teacher/921/?day=2025-08-04&export=1
X-PUBLISHED-TTL:PT1H
X-WR-TIMEZONE:Europe/Ljubljana
BEGIN:VTIMEZONE
TZID:Europe/Ljubljana
BEGIN:DAYLIGHT
DTSTART:20260329T020000
RDATE:20260329T020000
RDATE:20270328T020000
TZNAME:CEST
TZOFFSETFROM:+0100
TZOFFSETTO:+0200
END:DAYLIGHT
BEGIN:STANDARD
DTSTART:20261025T030000
RDATE:20261025T030000
RDATE:20271031T030000
TZNAME:CET
TZOFFSETFROM:+0200
TZOFFSETTO:+0100
END:STANDARD
END:VTIMEZONE
BEGIN:VEVENT
SUMMARY:Izpit: Analiza - PAP (3001-V)
DTSTART;TZID=Europe/Ljubljana:20250821T130000
DTEND;TZID=Europe/Ljubljana:20250821T160000
DTSTAMP:20260424T152131Z
UID:fs-AFLABS-URNIK:rezervacija:6406
CATEGORIES:Reservation
COLOR:royalblue
DESCRIPTION:Predmeti: \nLetniki: \nIzvajalci: Janez Žerovnik\nProstori: L
 ecture hall V/2\, Lecture hall V/8
LOCATION:Lecture hall V/2\, Lecture hall V/8
ORGANIZER:Janez Žerovnik
X-WR-TIMEZONE:Europe/Ljubljana
END:VEVENT
BEGIN:VEVENT
SUMMARY:Izpit: Analiza - PAP (3001-V) [dve oceni]
DTSTART;TZID=Europe/Ljubljana:20250821T130000
DTEND;TZID=Europe/Ljubljana:20250821T160000
DTSTAMP:20260424T152131Z
UID:fs-AFLABS-URNIK:rezervacija:6409
CATEGORIES:Reservation
COLOR:royalblue
DESCRIPTION:Predmeti: \nLetniki: \nIzvajalci: Janez Žerovnik\nProstori: L
 ecture hall V/2\, Lecture hall V/8
LOCATION:Lecture hall V/2\, Lecture hall V/8
ORGANIZER:Janez Žerovnik
X-WR-TIMEZONE:Europe/Ljubljana
END:VEVENT
BEGIN:VEVENT
SUMMARY:Izpit: Analiza in navadne diferencialne enačbe (2001-U)
DTSTART;TZID=Europe/Ljubljana:20250814T080000
DTEND;TZID=Europe/Ljubljana:20250814T110000
DTSTAMP:20260424T152131Z
UID:fs-AFLABS-URNIK:rezervacija:6412
CATEGORIES:Reservation
COLOR:royalblue
DESCRIPTION:Predmeti: \nLetniki: \nIzvajalci: Janez Žerovnik\nProstori: L
 ecture hall V/8
LOCATION:Lecture hall V/8
ORGANIZER:Janez Žerovnik
X-WR-TIMEZONE:Europe/Ljubljana
END:VEVENT
BEGIN:VEVENT
SUMMARY:Izpit: Analiza in navadne diferencialne enačbe (2001-U) [dve ocen
 i]
DTSTART;TZID=Europe/Ljubljana:20250814T080000
DTEND;TZID=Europe/Ljubljana:20250814T110000
DTSTAMP:20260424T152131Z
UID:fs-AFLABS-URNIK:rezervacija:6415
CATEGORIES:Reservation
COLOR:royalblue
DESCRIPTION:Predmeti: \nLetniki: \nIzvajalci: Janez Žerovnik\nProstori: L
 ecture hall V/8
LOCATION:Lecture hall V/8
ORGANIZER:Janez Žerovnik
X-WR-TIMEZONE:Europe/Ljubljana
END:VEVENT
BEGIN:VEVENT
SUMMARY:Izpit: Integralske transformacije in Fourierova analiza (2012-U) [
 dve oceni]
DTSTART;TZID=Europe/Ljubljana:20250822T080000
DTEND;TZID=Europe/Ljubljana:20250822T110000
DTSTAMP:20260424T152131Z
UID:fs-AFLABS-URNIK:rezervacija:6693
CATEGORIES:Reservation
COLOR:royalblue
DESCRIPTION:Predmeti: \nLetniki: \nIzvajalci: Janez Žerovnik\nProstori: L
 ecture hall II/5\, Lecture hall V/2
LOCATION:Lecture hall II/5\, Lecture hall V/2
ORGANIZER:Janez Žerovnik
X-WR-TIMEZONE:Europe/Ljubljana
END:VEVENT
BEGIN:VEVENT
SUMMARY:Izpit: Linearna algebra in vektorska analiza (2006-U)
DTSTART;TZID=Europe/Ljubljana:20250822T110000
DTEND;TZID=Europe/Ljubljana:20250822T140000
DTSTAMP:20260424T152131Z
UID:fs-AFLABS-URNIK:rezervacija:6917
CATEGORIES:Reservation
COLOR:royalblue
DESCRIPTION:Predmeti: \nLetniki: \nIzvajalci: Janez Žerovnik\nProstori: L
 ecture hall IV/2\, Lecture hall IV/4\, Lecture hall V/2
LOCATION:Lecture hall IV/2\, Lecture hall IV/4\, Lecture hall V/2
ORGANIZER:Janez Žerovnik
X-WR-TIMEZONE:Europe/Ljubljana
END:VEVENT
BEGIN:VEVENT
SUMMARY:Izpit: Linearna algebra in vektorska analiza (2006-U) [dve oceni]
DTSTART;TZID=Europe/Ljubljana:20250822T110000
DTEND;TZID=Europe/Ljubljana:20250822T140000
DTSTAMP:20260424T152131Z
UID:fs-AFLABS-URNIK:rezervacija:6920
CATEGORIES:Reservation
COLOR:royalblue
DESCRIPTION:Predmeti: \nLetniki: \nIzvajalci: Janez Žerovnik\nProstori: L
 ecture hall IV/2\, Lecture hall IV/4\, Lecture hall V/2
LOCATION:Lecture hall IV/2\, Lecture hall IV/4\, Lecture hall V/2
ORGANIZER:Janez Žerovnik
X-WR-TIMEZONE:Europe/Ljubljana
END:VEVENT
BEGIN:VEVENT
SUMMARY:Izpit: Navadne diferencialne enačbe in linearna algebra - PAP (30
 07-V)
DTSTART;TZID=Europe/Ljubljana:20250822T110000
DTEND;TZID=Europe/Ljubljana:20250822T140000
DTSTAMP:20260424T152131Z
UID:fs-AFLABS-URNIK:rezervacija:7154
CATEGORIES:Reservation
COLOR:royalblue
DESCRIPTION:Predmeti: \nLetniki: \nIzvajalci: Janez Žerovnik\nProstori: L
 ecture hall IV/2\, Lecture hall IV/4\, Lecture hall V/2
LOCATION:Lecture hall IV/2\, Lecture hall IV/4\, Lecture hall V/2
ORGANIZER:Janez Žerovnik
X-WR-TIMEZONE:Europe/Ljubljana
END:VEVENT
BEGIN:VEVENT
SUMMARY:Izpit: Navadne diferencialne enačbe in linearna algebra - PAP (30
 07-V) [dve oceni]
DTSTART;TZID=Europe/Ljubljana:20250822T110000
DTEND;TZID=Europe/Ljubljana:20250822T140000
DTSTAMP:20260424T152131Z
UID:fs-AFLABS-URNIK:rezervacija:7157
CATEGORIES:Reservation
COLOR:royalblue
DESCRIPTION:Predmeti: \nLetniki: \nIzvajalci: Janez Žerovnik\nProstori: L
 ecture hall IV/2\, Lecture hall IV/4\, Lecture hall V/2
LOCATION:Lecture hall IV/2\, Lecture hall IV/4\, Lecture hall V/2
ORGANIZER:Janez Žerovnik
X-WR-TIMEZONE:Europe/Ljubljana
END:VEVENT
BEGIN:VEVENT
SUMMARY:Poletna šola Inženirske matematike
DTSTART;TZID=Europe/Ljubljana:20250908T080000
DTEND;TZID=Europe/Ljubljana:20250908T120000
DTSTAMP:20260424T152131Z
UID:fs-AFLABS-URNIK:rezervacija:10470
CATEGORIES:Reservation
COLOR:royalblue
DESCRIPTION:Predmeti: \nLetniki: \nIzvajalci: Simon Brezovnik\, Darja Rupn
 ik Poklukar\, Helena Zakrajšek\, Janez Žerovnik\nProstori: Lecture hall 
 V/2\, Lecture hall V/8
LOCATION:Lecture hall V/2\, Lecture hall V/8
ORGANIZER:Simon Brezovnik, Darja Rupnik Poklukar, Helena Zakrajšek, Janez
  Žerovnik
X-WR-TIMEZONE:Europe/Ljubljana
END:VEVENT
BEGIN:VEVENT
SUMMARY:Izpit: Parcialne diferencialne enačbe\, kompleksna analiza in opt
 imizacija (2017-U) [dve oceni]
DTSTART;TZID=Europe/Ljubljana:20250826T140000
DTEND;TZID=Europe/Ljubljana:20250826T163000
DTSTAMP:20260424T152131Z
UID:fs-AFLABS-URNIK:rezervacija:10476
CATEGORIES:Reservation
COLOR:royalblue
DESCRIPTION:Predmeti: \nLetniki: \nIzvajalci: Janez Žerovnik\nProstori: L
 ecture hall V/2\, Lecture hall V/8
LOCATION:Lecture hall V/2\, Lecture hall V/8
ORGANIZER:Janez Žerovnik
X-WR-TIMEZONE:Europe/Ljubljana
END:VEVENT
END:VCALENDAR
