BEGIN:VCALENDAR
VERSION:2.0
PRODID:-//AFLabs urnik izvoz - fs//aflabs.si//SI
NAME:UL FS Urnik
X-WR-CALNAME:UL FS Urnik
DTSTAMP:20260425T150216Z
REFRESH-INTERVAL:PT1H
SOURCE:https://urnik.fs.uni-lj.si/en/teacher/924/?day=2025-04-21&export=1
URL:https://urnik.fs.uni-lj.si/en/teacher/924/?day=2025-04-21&export=1
X-PUBLISHED-TTL:PT1H
X-WR-TIMEZONE:Europe/Ljubljana
BEGIN:VTIMEZONE
TZID:Europe/Ljubljana
BEGIN:DAYLIGHT
DTSTART:20260329T020000
RDATE:20260329T020000
RDATE:20270328T020000
TZNAME:CEST
TZOFFSETFROM:+0100
TZOFFSETTO:+0200
END:DAYLIGHT
BEGIN:STANDARD
DTSTART:20261025T030000
RDATE:20261025T030000
RDATE:20271031T030000
TZNAME:CET
TZOFFSETFROM:+0200
TZOFFSETTO:+0100
END:STANDARD
END:VTIMEZONE
BEGIN:VEVENT
SUMMARY:Air-conditioning\, heating\, refrigeration\, ventilation (KOOM)\, 
 Lecture exercises (VP)\, [S1]
DTSTART;TZID=Europe/Ljubljana:20250217T160000
DTEND;TZID=Europe/Ljubljana:20250217T180000
DTSTAMP:20260425T150216Z
UID:fs-AFLABS-URNIK:srecanje:9575-2025-02-17 16:00:00+01:00
DESCRIPTION:Predmet: Air-conditioning\, heating\, refrigeration\, ventilat
 ion (KOOM)\, Lecture exercises (VP)\, [S1]\nLetniki: Process engineering (
 MAG-1)\nIzvajalci: Tej Žižak\nProstor: Lecture hall IV/2
END:VEVENT
BEGIN:VEVENT
SUMMARY:Air-conditioning\, heating\, refrigeration\, ventilation (KOOM)\, 
 Lecture exercises (VP)\, [S1]
DTSTART;TZID=Europe/Ljubljana:20250224T160000
DTEND;TZID=Europe/Ljubljana:20250224T180000
DTSTAMP:20260425T150216Z
UID:fs-AFLABS-URNIK:srecanje:9575-2025-02-24 16:00:00+01:00
DESCRIPTION:Predmet: Air-conditioning\, heating\, refrigeration\, ventilat
 ion (KOOM)\, Lecture exercises (VP)\, [S1]\nLetniki: Process engineering (
 MAG-1)\nIzvajalci: Tej Žižak\nProstor: Lecture hall IV/2
END:VEVENT
BEGIN:VEVENT
SUMMARY:Air-conditioning\, heating\, refrigeration\, ventilation (KOOM)\, 
 Lecture exercises (VP)\, [S1]
DTSTART;TZID=Europe/Ljubljana:20250303T160000
DTEND;TZID=Europe/Ljubljana:20250303T180000
DTSTAMP:20260425T150216Z
UID:fs-AFLABS-URNIK:srecanje:9575-2025-03-03 16:00:00+01:00
DESCRIPTION:Predmet: Air-conditioning\, heating\, refrigeration\, ventilat
 ion (KOOM)\, Lecture exercises (VP)\, [S1]\nLetniki: Process engineering (
 MAG-1)\nIzvajalci: Tej Žižak\nProstor: Lecture hall IV/2
END:VEVENT
BEGIN:VEVENT
SUMMARY:Air-conditioning\, heating\, refrigeration\, ventilation (KOOM)\, 
 Lecture exercises (VP)\, [S1]
DTSTART;TZID=Europe/Ljubljana:20250331T160000
DTEND;TZID=Europe/Ljubljana:20250331T180000
DTSTAMP:20260425T150216Z
UID:fs-AFLABS-URNIK:srecanje:9575-2025-03-31 16:00:00+02:00
DESCRIPTION:Predmet: Air-conditioning\, heating\, refrigeration\, ventilat
 ion (KOOM)\, Lecture exercises (VP)\, [S1]\nLetniki: Process engineering (
 MAG-1)\nIzvajalci: Tej Žižak\nProstor: Lecture hall IV/2
END:VEVENT
BEGIN:VEVENT
SUMMARY:Air-conditioning\, heating\, refrigeration\, ventilation (KOOM)\, 
 Lecture exercises (VP)\, [S1]
DTSTART;TZID=Europe/Ljubljana:20250407T160000
DTEND;TZID=Europe/Ljubljana:20250407T180000
DTSTAMP:20260425T150216Z
UID:fs-AFLABS-URNIK:srecanje:9575-2025-04-07 16:00:00+02:00
DESCRIPTION:Predmet: Air-conditioning\, heating\, refrigeration\, ventilat
 ion (KOOM)\, Lecture exercises (VP)\, [S1]\nLetniki: Process engineering (
 MAG-1)\nIzvajalci: Tej Žižak\nProstor: Lecture hall IV/2
END:VEVENT
BEGIN:VEVENT
SUMMARY:Air-conditioning\, heating\, refrigeration\, ventilation (KOOM)\, 
 Lecture exercises (VP)\, [S1]
DTSTART;TZID=Europe/Ljubljana:20250414T160000
DTEND;TZID=Europe/Ljubljana:20250414T180000
DTSTAMP:20260425T150216Z
UID:fs-AFLABS-URNIK:srecanje:9575-2025-04-14 16:00:00+02:00
DESCRIPTION:Predmet: Air-conditioning\, heating\, refrigeration\, ventilat
 ion (KOOM)\, Lecture exercises (VP)\, [S1]\nLetniki: Process engineering (
 MAG-1)\nIzvajalci: Tej Žižak\nProstor: Lecture hall IV/2
END:VEVENT
BEGIN:VEVENT
SUMMARY:Air-conditioning\, heating\, refrigeration\, ventilation (KOOM)\, 
 Lecture exercises (VP)\, [S1]
DTSTART;TZID=Europe/Ljubljana:20250421T160000
DTEND;TZID=Europe/Ljubljana:20250421T180000
DTSTAMP:20260425T150216Z
UID:fs-AFLABS-URNIK:srecanje:9575-2025-04-21 16:00:00+02:00
DESCRIPTION:Predmet: Air-conditioning\, heating\, refrigeration\, ventilat
 ion (KOOM)\, Lecture exercises (VP)\, [S1]\nLetniki: Process engineering (
 MAG-1)\nIzvajalci: Tej Žižak\nProstor: Lecture hall IV/2
END:VEVENT
BEGIN:VEVENT
SUMMARY:Air-conditioning\, heating\, refrigeration\, ventilation (KOOM)\, 
 Lecture exercises (VP)\, [S1]
DTSTART;TZID=Europe/Ljubljana:20250428T160000
DTEND;TZID=Europe/Ljubljana:20250428T180000
DTSTAMP:20260425T150216Z
UID:fs-AFLABS-URNIK:srecanje:9575-2025-04-28 16:00:00+02:00
DESCRIPTION:Predmet: Air-conditioning\, heating\, refrigeration\, ventilat
 ion (KOOM)\, Lecture exercises (VP)\, [S1]\nLetniki: Process engineering (
 MAG-1)\nIzvajalci: Tej Žižak\nProstor: Lecture hall IV/2
END:VEVENT
BEGIN:VEVENT
SUMMARY:Air-conditioning\, heating\, refrigeration\, ventilation (KOOM)\, 
 Lecture exercises (VP)\, [S1]
DTSTART;TZID=Europe/Ljubljana:20250526T160000
DTEND;TZID=Europe/Ljubljana:20250526T180000
DTSTAMP:20260425T150216Z
UID:fs-AFLABS-URNIK:srecanje:9575-2025-05-26 16:00:00+02:00
DESCRIPTION:Predmet: Air-conditioning\, heating\, refrigeration\, ventilat
 ion (KOOM)\, Lecture exercises (VP)\, [S1]\nLetniki: Process engineering (
 MAG-1)\nIzvajalci: Tej Žižak\nProstor: Lecture hall IV/2
END:VEVENT
BEGIN:VEVENT
SUMMARY:Renewable Energy Sources (3059)\, Lecture exercises (VP)
DTSTART;TZID=Europe/Ljubljana:20250319T093000
DTEND;TZID=Europe/Ljubljana:20250319T113000
DTSTAMP:20260425T150216Z
UID:fs-AFLABS-URNIK:srecanje:9862-2025-03-19 09:30:00+01:00
DESCRIPTION:Predmet: Renewable Energy Sources (3059)\, Lecture exercises (
 VP)\nLetniki: Energetsko\, procesno in okoljsko inženirstvo - Energetsko 
 strojništvo (PAP-3)\, Energetsko\, procesno in okoljsko inženirstvo - Pr
 ocesno inženirstvo (PAP-3)\nIzvajalci: Suzana Domjan\, Boris Vidrih\, Tej
  Žižak\nProstor: Laboratory LOTZ DS-N3
END:VEVENT
BEGIN:VEVENT
SUMMARY:Renewable Energy Sources (3059)\, Lecture exercises (VP)
DTSTART;TZID=Europe/Ljubljana:20250326T093000
DTEND;TZID=Europe/Ljubljana:20250326T113000
DTSTAMP:20260425T150216Z
UID:fs-AFLABS-URNIK:srecanje:9862-2025-03-26 09:30:00+01:00
DESCRIPTION:Predmet: Renewable Energy Sources (3059)\, Lecture exercises (
 VP)\nLetniki: Energetsko\, procesno in okoljsko inženirstvo - Energetsko 
 strojništvo (PAP-3)\, Energetsko\, procesno in okoljsko inženirstvo - Pr
 ocesno inženirstvo (PAP-3)\nIzvajalci: Suzana Domjan\, Boris Vidrih\, Tej
  Žižak\nProstor: Laboratory LOTZ DS-N3
END:VEVENT
BEGIN:VEVENT
SUMMARY:Renewable Energy Sources (3059)\, Lecture exercises (VP)
DTSTART;TZID=Europe/Ljubljana:20250402T093000
DTEND;TZID=Europe/Ljubljana:20250402T113000
DTSTAMP:20260425T150216Z
UID:fs-AFLABS-URNIK:srecanje:9862-2025-04-02 09:30:00+02:00
DESCRIPTION:Predmet: Renewable Energy Sources (3059)\, Lecture exercises (
 VP)\nLetniki: Energetsko\, procesno in okoljsko inženirstvo - Energetsko 
 strojništvo (PAP-3)\, Energetsko\, procesno in okoljsko inženirstvo - Pr
 ocesno inženirstvo (PAP-3)\nIzvajalci: Suzana Domjan\, Boris Vidrih\, Tej
  Žižak\nProstor: Laboratory LOTZ DS-N3
END:VEVENT
BEGIN:VEVENT
SUMMARY:Renewable Energy Sources (3059)\, Lecture exercises (VP)
DTSTART;TZID=Europe/Ljubljana:20250409T093000
DTEND;TZID=Europe/Ljubljana:20250409T113000
DTSTAMP:20260425T150216Z
UID:fs-AFLABS-URNIK:srecanje:9862-2025-04-09 09:30:00+02:00
DESCRIPTION:Predmet: Renewable Energy Sources (3059)\, Lecture exercises (
 VP)\nLetniki: Energetsko\, procesno in okoljsko inženirstvo - Energetsko 
 strojništvo (PAP-3)\, Energetsko\, procesno in okoljsko inženirstvo - Pr
 ocesno inženirstvo (PAP-3)\nIzvajalci: Suzana Domjan\, Boris Vidrih\, Tej
  Žižak\nProstor: Laboratory LOTZ DS-N3
END:VEVENT
BEGIN:VEVENT
SUMMARY:Renewable Energy Sources (3059)\, Lecture exercises (VP)
DTSTART;TZID=Europe/Ljubljana:20250416T093000
DTEND;TZID=Europe/Ljubljana:20250416T113000
DTSTAMP:20260425T150216Z
UID:fs-AFLABS-URNIK:srecanje:9862-2025-04-16 09:30:00+02:00
DESCRIPTION:Predmet: Renewable Energy Sources (3059)\, Lecture exercises (
 VP)\nLetniki: Energetsko\, procesno in okoljsko inženirstvo - Energetsko 
 strojništvo (PAP-3)\, Energetsko\, procesno in okoljsko inženirstvo - Pr
 ocesno inženirstvo (PAP-3)\nIzvajalci: Suzana Domjan\, Boris Vidrih\, Tej
  Žižak\nProstor: Laboratory LOTZ DS-N3
END:VEVENT
BEGIN:VEVENT
SUMMARY:Renewable Energy Sources (3059)\, Lecture exercises (VP)
DTSTART;TZID=Europe/Ljubljana:20250423T093000
DTEND;TZID=Europe/Ljubljana:20250423T113000
DTSTAMP:20260425T150216Z
UID:fs-AFLABS-URNIK:srecanje:9862-2025-04-23 09:30:00+02:00
DESCRIPTION:Predmet: Renewable Energy Sources (3059)\, Lecture exercises (
 VP)\nLetniki: Energetsko\, procesno in okoljsko inženirstvo - Energetsko 
 strojništvo (PAP-3)\, Energetsko\, procesno in okoljsko inženirstvo - Pr
 ocesno inženirstvo (PAP-3)\nIzvajalci: Suzana Domjan\, Boris Vidrih\, Tej
  Žižak\nProstor: Laboratory LOTZ DS-N3
END:VEVENT
BEGIN:VEVENT
SUMMARY:Renewable Energy Sources (3059)\, Lecture exercises (VP)
DTSTART;TZID=Europe/Ljubljana:20250430T093000
DTEND;TZID=Europe/Ljubljana:20250430T113000
DTSTAMP:20260425T150216Z
UID:fs-AFLABS-URNIK:srecanje:9862-2025-04-30 09:30:00+02:00
DESCRIPTION:Predmet: Renewable Energy Sources (3059)\, Lecture exercises (
 VP)\nLetniki: Energetsko\, procesno in okoljsko inženirstvo - Energetsko 
 strojništvo (PAP-3)\, Energetsko\, procesno in okoljsko inženirstvo - Pr
 ocesno inženirstvo (PAP-3)\nIzvajalci: Suzana Domjan\, Boris Vidrih\, Tej
  Žižak\nProstor: Laboratory LOTZ DS-N3
END:VEVENT
BEGIN:VEVENT
SUMMARY:Renewable Energy Sources (3059)\, Lecture exercises (VP)
DTSTART;TZID=Europe/Ljubljana:20250507T093000
DTEND;TZID=Europe/Ljubljana:20250507T113000
DTSTAMP:20260425T150216Z
UID:fs-AFLABS-URNIK:srecanje:9862-2025-05-07 09:30:00+02:00
DESCRIPTION:Predmet: Renewable Energy Sources (3059)\, Lecture exercises (
 VP)\nLetniki: Energetsko\, procesno in okoljsko inženirstvo - Energetsko 
 strojništvo (PAP-3)\, Energetsko\, procesno in okoljsko inženirstvo - Pr
 ocesno inženirstvo (PAP-3)\nIzvajalci: Suzana Domjan\, Boris Vidrih\, Tej
  Žižak\nProstor: Laboratory LOTZ DS-N3
END:VEVENT
BEGIN:VEVENT
SUMMARY:Renewable Energy Sources (3059)\, Lecture exercises (VP)
DTSTART;TZID=Europe/Ljubljana:20250514T093000
DTEND;TZID=Europe/Ljubljana:20250514T113000
DTSTAMP:20260425T150216Z
UID:fs-AFLABS-URNIK:srecanje:9862-2025-05-14 09:30:00+02:00
DESCRIPTION:Predmet: Renewable Energy Sources (3059)\, Lecture exercises (
 VP)\nLetniki: Energetsko\, procesno in okoljsko inženirstvo - Energetsko 
 strojništvo (PAP-3)\, Energetsko\, procesno in okoljsko inženirstvo - Pr
 ocesno inženirstvo (PAP-3)\nIzvajalci: Suzana Domjan\, Boris Vidrih\, Tej
  Žižak\nProstor: Laboratory LOTZ DS-N3
END:VEVENT
BEGIN:VEVENT
SUMMARY:Renewable Energy Sources (3059)\, Lecture exercises (VP)
DTSTART;TZID=Europe/Ljubljana:20250521T093000
DTEND;TZID=Europe/Ljubljana:20250521T113000
DTSTAMP:20260425T150216Z
UID:fs-AFLABS-URNIK:srecanje:9862-2025-05-21 09:30:00+02:00
DESCRIPTION:Predmet: Renewable Energy Sources (3059)\, Lecture exercises (
 VP)\nLetniki: Energetsko\, procesno in okoljsko inženirstvo - Energetsko 
 strojništvo (PAP-3)\, Energetsko\, procesno in okoljsko inženirstvo - Pr
 ocesno inženirstvo (PAP-3)\nIzvajalci: Suzana Domjan\, Boris Vidrih\, Tej
  Žižak\nProstor: Laboratory LOTZ DS-N3
END:VEVENT
BEGIN:VEVENT
SUMMARY:Renewable Energy Sources (3059)\, Lecture exercises (VP)
DTSTART;TZID=Europe/Ljubljana:20250528T093000
DTEND;TZID=Europe/Ljubljana:20250528T113000
DTSTAMP:20260425T150216Z
UID:fs-AFLABS-URNIK:srecanje:9862-2025-05-28 09:30:00+02:00
DESCRIPTION:Predmet: Renewable Energy Sources (3059)\, Lecture exercises (
 VP)\nLetniki: Energetsko\, procesno in okoljsko inženirstvo - Energetsko 
 strojništvo (PAP-3)\, Energetsko\, procesno in okoljsko inženirstvo - Pr
 ocesno inženirstvo (PAP-3)\nIzvajalci: Suzana Domjan\, Boris Vidrih\, Tej
  Žižak\nProstor: Laboratory LOTZ DS-N3
END:VEVENT
END:VCALENDAR
