BEGIN:VCALENDAR
VERSION:2.0
PRODID:-//AFLabs urnik izvoz - fs//aflabs.si//SI
NAME:UL FS Urnik
X-WR-CALNAME:UL FS Urnik
DTSTAMP:20260424T074133Z
REFRESH-INTERVAL:PT1H
SOURCE:https://urnik.fs.uni-lj.si/en/teacher/934/?day=2025-04-07&export=1
URL:https://urnik.fs.uni-lj.si/en/teacher/934/?day=2025-04-07&export=1
X-PUBLISHED-TTL:PT1H
X-WR-TIMEZONE:Europe/Ljubljana
BEGIN:VTIMEZONE
TZID:Europe/Ljubljana
BEGIN:DAYLIGHT
DTSTART:20260329T020000
RDATE:20260329T020000
RDATE:20270328T020000
TZNAME:CEST
TZOFFSETFROM:+0100
TZOFFSETTO:+0200
END:DAYLIGHT
BEGIN:STANDARD
DTSTART:20261025T030000
RDATE:20261025T030000
RDATE:20271031T030000
TZNAME:CET
TZOFFSETFROM:+0200
TZOFFSETTO:+0100
END:STANDARD
END:VTIMEZONE
BEGIN:VEVENT
SUMMARY:Electromobility (ELME)\, Lecture exercises (VP)
DTSTART;TZID=Europe/Ljubljana:20250220T160000
DTEND;TZID=Europe/Ljubljana:20250220T180000
DTSTAMP:20260424T074133Z
UID:fs-AFLABS-URNIK:srecanje:9434-2025-02-20 16:00:00+01:00
DESCRIPTION:Predmet: Electromobility (ELME)\, Lecture exercises (VP)\nLetn
 iki: Erasmus (Erasmus)\nIzvajalci: Andraž Kravos\, Igor Mele\, Matej Prij
 atelj\nProstor: Lecture hall II/5
END:VEVENT
BEGIN:VEVENT
SUMMARY:Electromobility (ELME)\, Laboratory excercises (VL)
DTSTART;TZID=Europe/Ljubljana:20250225T113000
DTEND;TZID=Europe/Ljubljana:20250225T133000
DTSTAMP:20260424T074133Z
UID:fs-AFLABS-URNIK:srecanje:9433-2025-02-25 11:30:00+01:00
DESCRIPTION:Predmet: Electromobility (ELME)\, Laboratory excercises (VL)\n
 Letniki: Erasmus (Erasmus)\nIzvajalci: Andraž Kravos\, Igor Mele\, Matej 
 Prijatelj\nProstor: Laboratory LICEM SK-15
END:VEVENT
BEGIN:VEVENT
SUMMARY:Electromobility (ELME)\, Laboratory excercises (VL)
DTSTART;TZID=Europe/Ljubljana:20250304T113000
DTEND;TZID=Europe/Ljubljana:20250304T133000
DTSTAMP:20260424T074133Z
UID:fs-AFLABS-URNIK:srecanje:9433-2025-03-04 11:30:00+01:00
DESCRIPTION:Predmet: Electromobility (ELME)\, Laboratory excercises (VL)\n
 Letniki: Erasmus (Erasmus)\nIzvajalci: Andraž Kravos\, Igor Mele\, Matej 
 Prijatelj\nProstor: Laboratory LICEM SK-15
END:VEVENT
BEGIN:VEVENT
SUMMARY:Electromobility (ELME)\, Laboratory excercises (VL)
DTSTART;TZID=Europe/Ljubljana:20250311T113000
DTEND;TZID=Europe/Ljubljana:20250311T133000
DTSTAMP:20260424T074133Z
UID:fs-AFLABS-URNIK:srecanje:9433-2025-03-11 11:30:00+01:00
DESCRIPTION:Predmet: Electromobility (ELME)\, Laboratory excercises (VL)\n
 Letniki: Erasmus (Erasmus)\nIzvajalci: Andraž Kravos\, Igor Mele\, Matej 
 Prijatelj\nProstor: Laboratory LICEM SK-15
END:VEVENT
BEGIN:VEVENT
SUMMARY:Electromobility (ELME)\, Laboratory excercises (VL)
DTSTART;TZID=Europe/Ljubljana:20250318T113000
DTEND;TZID=Europe/Ljubljana:20250318T133000
DTSTAMP:20260424T074133Z
UID:fs-AFLABS-URNIK:srecanje:9433-2025-03-18 11:30:00+01:00
DESCRIPTION:Predmet: Electromobility (ELME)\, Laboratory excercises (VL)\n
 Letniki: Erasmus (Erasmus)\nIzvajalci: Andraž Kravos\, Igor Mele\, Matej 
 Prijatelj\nProstor: Laboratory LICEM SK-15
END:VEVENT
BEGIN:VEVENT
SUMMARY:Electromobility (ELME)\, Laboratory excercises (VL)
DTSTART;TZID=Europe/Ljubljana:20250325T113000
DTEND;TZID=Europe/Ljubljana:20250325T133000
DTSTAMP:20260424T074133Z
UID:fs-AFLABS-URNIK:srecanje:9433-2025-03-25 11:30:00+01:00
DESCRIPTION:Predmet: Electromobility (ELME)\, Laboratory excercises (VL)\n
 Letniki: Erasmus (Erasmus)\nIzvajalci: Andraž Kravos\, Igor Mele\, Matej 
 Prijatelj\nProstor: Laboratory LICEM SK-15
END:VEVENT
BEGIN:VEVENT
SUMMARY:Electromobility (ELME)\, Laboratory excercises (VL)
DTSTART;TZID=Europe/Ljubljana:20250401T113000
DTEND;TZID=Europe/Ljubljana:20250401T133000
DTSTAMP:20260424T074133Z
UID:fs-AFLABS-URNIK:srecanje:9433-2025-04-01 11:30:00+02:00
DESCRIPTION:Predmet: Electromobility (ELME)\, Laboratory excercises (VL)\n
 Letniki: Erasmus (Erasmus)\nIzvajalci: Andraž Kravos\, Igor Mele\, Matej 
 Prijatelj\nProstor: Laboratory LICEM SK-15
END:VEVENT
BEGIN:VEVENT
SUMMARY:Electromobility (ELME)\, Laboratory excercises (VL)
DTSTART;TZID=Europe/Ljubljana:20250408T113000
DTEND;TZID=Europe/Ljubljana:20250408T133000
DTSTAMP:20260424T074133Z
UID:fs-AFLABS-URNIK:srecanje:9433-2025-04-08 11:30:00+02:00
DESCRIPTION:Predmet: Electromobility (ELME)\, Laboratory excercises (VL)\n
 Letniki: Erasmus (Erasmus)\nIzvajalci: Andraž Kravos\, Igor Mele\, Matej 
 Prijatelj\nProstor: Laboratory LICEM SK-15
END:VEVENT
BEGIN:VEVENT
SUMMARY:Electromobility (ELME)\, Laboratory excercises (VL)
DTSTART;TZID=Europe/Ljubljana:20250415T113000
DTEND;TZID=Europe/Ljubljana:20250415T133000
DTSTAMP:20260424T074133Z
UID:fs-AFLABS-URNIK:srecanje:9433-2025-04-15 11:30:00+02:00
DESCRIPTION:Predmet: Electromobility (ELME)\, Laboratory excercises (VL)\n
 Letniki: Erasmus (Erasmus)\nIzvajalci: Andraž Kravos\, Igor Mele\, Matej 
 Prijatelj\nProstor: Laboratory LICEM SK-15
END:VEVENT
BEGIN:VEVENT
SUMMARY:Electromobility (ELME)\, Laboratory excercises (VL)
DTSTART;TZID=Europe/Ljubljana:20250422T113000
DTEND;TZID=Europe/Ljubljana:20250422T133000
DTSTAMP:20260424T074133Z
UID:fs-AFLABS-URNIK:srecanje:9433-2025-04-22 11:30:00+02:00
DESCRIPTION:Predmet: Electromobility (ELME)\, Laboratory excercises (VL)\n
 Letniki: Erasmus (Erasmus)\nIzvajalci: Andraž Kravos\, Igor Mele\, Matej 
 Prijatelj\nProstor: Laboratory LICEM SK-15
END:VEVENT
BEGIN:VEVENT
SUMMARY:Electromobility (ELME)\, Laboratory excercises (VL)
DTSTART;TZID=Europe/Ljubljana:20250429T113000
DTEND;TZID=Europe/Ljubljana:20250429T133000
DTSTAMP:20260424T074133Z
UID:fs-AFLABS-URNIK:srecanje:9433-2025-04-29 11:30:00+02:00
DESCRIPTION:Predmet: Electromobility (ELME)\, Laboratory excercises (VL)\n
 Letniki: Erasmus (Erasmus)\nIzvajalci: Andraž Kravos\, Igor Mele\, Matej 
 Prijatelj\nProstor: Laboratory LICEM SK-15
END:VEVENT
BEGIN:VEVENT
SUMMARY:Electromobility (ELME)\, Laboratory excercises (VL)
DTSTART;TZID=Europe/Ljubljana:20250506T113000
DTEND;TZID=Europe/Ljubljana:20250506T133000
DTSTAMP:20260424T074133Z
UID:fs-AFLABS-URNIK:srecanje:9433-2025-05-06 11:30:00+02:00
DESCRIPTION:Predmet: Electromobility (ELME)\, Laboratory excercises (VL)\n
 Letniki: Erasmus (Erasmus)\nIzvajalci: Andraž Kravos\, Igor Mele\, Matej 
 Prijatelj\nProstor: Laboratory LICEM SK-15
END:VEVENT
BEGIN:VEVENT
SUMMARY:Electromobility (ELME)\, Laboratory excercises (VL)
DTSTART;TZID=Europe/Ljubljana:20250513T113000
DTEND;TZID=Europe/Ljubljana:20250513T133000
DTSTAMP:20260424T074133Z
UID:fs-AFLABS-URNIK:srecanje:9433-2025-05-13 11:30:00+02:00
DESCRIPTION:Predmet: Electromobility (ELME)\, Laboratory excercises (VL)\n
 Letniki: Erasmus (Erasmus)\nIzvajalci: Andraž Kravos\, Igor Mele\, Matej 
 Prijatelj\nProstor: Laboratory LICEM SK-15
END:VEVENT
BEGIN:VEVENT
SUMMARY:Electromobility (ELME)\, Laboratory excercises (VL)
DTSTART;TZID=Europe/Ljubljana:20250520T113000
DTEND;TZID=Europe/Ljubljana:20250520T133000
DTSTAMP:20260424T074133Z
UID:fs-AFLABS-URNIK:srecanje:9433-2025-05-20 11:30:00+02:00
DESCRIPTION:Predmet: Electromobility (ELME)\, Laboratory excercises (VL)\n
 Letniki: Erasmus (Erasmus)\nIzvajalci: Andraž Kravos\, Igor Mele\, Matej 
 Prijatelj\nProstor: Laboratory LICEM SK-15
END:VEVENT
BEGIN:VEVENT
SUMMARY:Electromobility (ELME)\, Laboratory excercises (VL)
DTSTART;TZID=Europe/Ljubljana:20250527T113000
DTEND;TZID=Europe/Ljubljana:20250527T133000
DTSTAMP:20260424T074133Z
UID:fs-AFLABS-URNIK:srecanje:9433-2025-05-27 11:30:00+02:00
DESCRIPTION:Predmet: Electromobility (ELME)\, Laboratory excercises (VL)\n
 Letniki: Erasmus (Erasmus)\nIzvajalci: Andraž Kravos\, Igor Mele\, Matej 
 Prijatelj\nProstor: Laboratory LICEM SK-15
END:VEVENT
BEGIN:VEVENT
SUMMARY:Aircraft engines 1 (LM1P)\, Laboratory excercises (VL)\, [S1]
DTSTART;TZID=Europe/Ljubljana:20250317T113000
DTEND;TZID=Europe/Ljubljana:20250317T133000
DTSTAMP:20260424T074133Z
UID:fs-AFLABS-URNIK:srecanje:9657-2025-03-17 11:30:00+01:00
DESCRIPTION:Predmet: Aircraft engines 1 (LM1P)\, Laboratory excercises (VL
 )\, [S1]\nLetniki: Aircraft design and maintenance (PAP-2)\, Airline trans
 port pilot (PAP-2)\nIzvajalci: Andraž Kravos\, Anton Žnidarčič\, Urban
  Žvar Baškovič\nProstor: Laboratory LICEM SK-20
END:VEVENT
BEGIN:VEVENT
SUMMARY:Aircraft engines 1 (LM1P)\, Laboratory excercises (VL)\, [S1]
DTSTART;TZID=Europe/Ljubljana:20250324T113000
DTEND;TZID=Europe/Ljubljana:20250324T133000
DTSTAMP:20260424T074133Z
UID:fs-AFLABS-URNIK:srecanje:9657-2025-03-24 11:30:00+01:00
DESCRIPTION:Predmet: Aircraft engines 1 (LM1P)\, Laboratory excercises (VL
 )\, [S1]\nLetniki: Aircraft design and maintenance (PAP-2)\, Airline trans
 port pilot (PAP-2)\nIzvajalci: Andraž Kravos\, Anton Žnidarčič\, Urban
  Žvar Baškovič\nProstor: Laboratory LICEM SK-20
END:VEVENT
BEGIN:VEVENT
SUMMARY:Aircraft engines 1 (LM1P)\, Laboratory excercises (VL)\, [S1]
DTSTART;TZID=Europe/Ljubljana:20250331T113000
DTEND;TZID=Europe/Ljubljana:20250331T133000
DTSTAMP:20260424T074133Z
UID:fs-AFLABS-URNIK:srecanje:9657-2025-03-31 11:30:00+02:00
DESCRIPTION:Predmet: Aircraft engines 1 (LM1P)\, Laboratory excercises (VL
 )\, [S1]\nLetniki: Aircraft design and maintenance (PAP-2)\, Airline trans
 port pilot (PAP-2)\nIzvajalci: Andraž Kravos\, Anton Žnidarčič\, Urban
  Žvar Baškovič\nProstor: Laboratory LICEM SK-20
END:VEVENT
BEGIN:VEVENT
SUMMARY:Aircraft engines 1 (LM1P)\, Laboratory excercises (VL)\, [S1]
DTSTART;TZID=Europe/Ljubljana:20250407T113000
DTEND;TZID=Europe/Ljubljana:20250407T133000
DTSTAMP:20260424T074133Z
UID:fs-AFLABS-URNIK:srecanje:9657-2025-04-07 11:30:00+02:00
DESCRIPTION:Predmet: Aircraft engines 1 (LM1P)\, Laboratory excercises (VL
 )\, [S1]\nLetniki: Aircraft design and maintenance (PAP-2)\, Airline trans
 port pilot (PAP-2)\nIzvajalci: Andraž Kravos\, Anton Žnidarčič\, Urban
  Žvar Baškovič\nProstor: Laboratory LICEM SK-20
END:VEVENT
BEGIN:VEVENT
SUMMARY:Aircraft engines 1 (LM1P)\, Laboratory excercises (VL)\, [S1]
DTSTART;TZID=Europe/Ljubljana:20250414T113000
DTEND;TZID=Europe/Ljubljana:20250414T133000
DTSTAMP:20260424T074133Z
UID:fs-AFLABS-URNIK:srecanje:9657-2025-04-14 11:30:00+02:00
DESCRIPTION:Predmet: Aircraft engines 1 (LM1P)\, Laboratory excercises (VL
 )\, [S1]\nLetniki: Aircraft design and maintenance (PAP-2)\, Airline trans
 port pilot (PAP-2)\nIzvajalci: Andraž Kravos\, Anton Žnidarčič\, Urban
  Žvar Baškovič\nProstor: Laboratory LICEM SK-20
END:VEVENT
BEGIN:VEVENT
SUMMARY:Aircraft engines 1 (LM1P)\, Laboratory excercises (VL)\, [S1]
DTSTART;TZID=Europe/Ljubljana:20250421T113000
DTEND;TZID=Europe/Ljubljana:20250421T133000
DTSTAMP:20260424T074133Z
UID:fs-AFLABS-URNIK:srecanje:9657-2025-04-21 11:30:00+02:00
DESCRIPTION:Predmet: Aircraft engines 1 (LM1P)\, Laboratory excercises (VL
 )\, [S1]\nLetniki: Aircraft design and maintenance (PAP-2)\, Airline trans
 port pilot (PAP-2)\nIzvajalci: Andraž Kravos\, Anton Žnidarčič\, Urban
  Žvar Baškovič\nProstor: Laboratory LICEM SK-20
END:VEVENT
BEGIN:VEVENT
SUMMARY:Aircraft engines 1 (LM1P)\, Laboratory excercises (VL)\, [S1]
DTSTART;TZID=Europe/Ljubljana:20250428T113000
DTEND;TZID=Europe/Ljubljana:20250428T133000
DTSTAMP:20260424T074133Z
UID:fs-AFLABS-URNIK:srecanje:9657-2025-04-28 11:30:00+02:00
DESCRIPTION:Predmet: Aircraft engines 1 (LM1P)\, Laboratory excercises (VL
 )\, [S1]\nLetniki: Aircraft design and maintenance (PAP-2)\, Airline trans
 port pilot (PAP-2)\nIzvajalci: Andraž Kravos\, Anton Žnidarčič\, Urban
  Žvar Baškovič\nProstor: Laboratory LICEM SK-20
END:VEVENT
BEGIN:VEVENT
SUMMARY:Aircraft engines 1 (LM1P)\, Laboratory excercises (VL)\, [S2]
DTSTART;TZID=Europe/Ljubljana:20250319T173000
DTEND;TZID=Europe/Ljubljana:20250319T193000
DTSTAMP:20260424T074133Z
UID:fs-AFLABS-URNIK:srecanje:9658-2025-03-19 17:30:00+01:00
DESCRIPTION:Predmet: Aircraft engines 1 (LM1P)\, Laboratory excercises (VL
 )\, [S2]\nLetniki: Aircraft design and maintenance (PAP-2)\, Airline trans
 port pilot (PAP-2)\nIzvajalci: Andraž Kravos\, Anton Žnidarčič\, Urban
  Žvar Baškovič\nProstor: Laboratory LICEM SK-15
END:VEVENT
BEGIN:VEVENT
SUMMARY:Aircraft engines 1 (LM1P)\, Laboratory excercises (VL)\, [S2]
DTSTART;TZID=Europe/Ljubljana:20250326T173000
DTEND;TZID=Europe/Ljubljana:20250326T193000
DTSTAMP:20260424T074133Z
UID:fs-AFLABS-URNIK:srecanje:9658-2025-03-26 17:30:00+01:00
DESCRIPTION:Predmet: Aircraft engines 1 (LM1P)\, Laboratory excercises (VL
 )\, [S2]\nLetniki: Aircraft design and maintenance (PAP-2)\, Airline trans
 port pilot (PAP-2)\nIzvajalci: Andraž Kravos\, Anton Žnidarčič\, Urban
  Žvar Baškovič\nProstor: Laboratory LICEM SK-15
END:VEVENT
BEGIN:VEVENT
SUMMARY:Aircraft engines 1 (LM1P)\, Laboratory excercises (VL)\, [S2]
DTSTART;TZID=Europe/Ljubljana:20250402T173000
DTEND;TZID=Europe/Ljubljana:20250402T193000
DTSTAMP:20260424T074133Z
UID:fs-AFLABS-URNIK:srecanje:9658-2025-04-02 17:30:00+02:00
DESCRIPTION:Predmet: Aircraft engines 1 (LM1P)\, Laboratory excercises (VL
 )\, [S2]\nLetniki: Aircraft design and maintenance (PAP-2)\, Airline trans
 port pilot (PAP-2)\nIzvajalci: Andraž Kravos\, Anton Žnidarčič\, Urban
  Žvar Baškovič\nProstor: Laboratory LICEM SK-15
END:VEVENT
BEGIN:VEVENT
SUMMARY:Aircraft engines 1 (LM1P)\, Laboratory excercises (VL)\, [S2]
DTSTART;TZID=Europe/Ljubljana:20250409T173000
DTEND;TZID=Europe/Ljubljana:20250409T193000
DTSTAMP:20260424T074133Z
UID:fs-AFLABS-URNIK:srecanje:9658-2025-04-09 17:30:00+02:00
DESCRIPTION:Predmet: Aircraft engines 1 (LM1P)\, Laboratory excercises (VL
 )\, [S2]\nLetniki: Aircraft design and maintenance (PAP-2)\, Airline trans
 port pilot (PAP-2)\nIzvajalci: Andraž Kravos\, Anton Žnidarčič\, Urban
  Žvar Baškovič\nProstor: Laboratory LICEM SK-15
END:VEVENT
BEGIN:VEVENT
SUMMARY:Aircraft engines 1 (LM1P)\, Laboratory excercises (VL)\, [S2]
DTSTART;TZID=Europe/Ljubljana:20250416T173000
DTEND;TZID=Europe/Ljubljana:20250416T193000
DTSTAMP:20260424T074133Z
UID:fs-AFLABS-URNIK:srecanje:9658-2025-04-16 17:30:00+02:00
DESCRIPTION:Predmet: Aircraft engines 1 (LM1P)\, Laboratory excercises (VL
 )\, [S2]\nLetniki: Aircraft design and maintenance (PAP-2)\, Airline trans
 port pilot (PAP-2)\nIzvajalci: Andraž Kravos\, Anton Žnidarčič\, Urban
  Žvar Baškovič\nProstor: Laboratory LICEM SK-15
END:VEVENT
BEGIN:VEVENT
SUMMARY:Aircraft engines 1 (LM1P)\, Laboratory excercises (VL)\, [S2]
DTSTART;TZID=Europe/Ljubljana:20250423T173000
DTEND;TZID=Europe/Ljubljana:20250423T193000
DTSTAMP:20260424T074133Z
UID:fs-AFLABS-URNIK:srecanje:9658-2025-04-23 17:30:00+02:00
DESCRIPTION:Predmet: Aircraft engines 1 (LM1P)\, Laboratory excercises (VL
 )\, [S2]\nLetniki: Aircraft design and maintenance (PAP-2)\, Airline trans
 port pilot (PAP-2)\nIzvajalci: Andraž Kravos\, Anton Žnidarčič\, Urban
  Žvar Baškovič\nProstor: Laboratory LICEM SK-15
END:VEVENT
BEGIN:VEVENT
SUMMARY:Aircraft engines 1 (LM1P)\, Laboratory excercises (VL)\, [S2]
DTSTART;TZID=Europe/Ljubljana:20250430T173000
DTEND;TZID=Europe/Ljubljana:20250430T193000
DTSTAMP:20260424T074133Z
UID:fs-AFLABS-URNIK:srecanje:9658-2025-04-30 17:30:00+02:00
DESCRIPTION:Predmet: Aircraft engines 1 (LM1P)\, Laboratory excercises (VL
 )\, [S2]\nLetniki: Aircraft design and maintenance (PAP-2)\, Airline trans
 port pilot (PAP-2)\nIzvajalci: Andraž Kravos\, Anton Žnidarčič\, Urban
  Žvar Baškovič\nProstor: Laboratory LICEM SK-15
END:VEVENT
END:VCALENDAR
