BEGIN:VCALENDAR
VERSION:2.0
PRODID:-//AFLabs urnik izvoz - fs//aflabs.si//SI
NAME:UL FS Urnik
X-WR-CALNAME:UL FS Urnik
DTSTAMP:20260426T014113Z
REFRESH-INTERVAL:PT1H
SOURCE:https://urnik.fs.uni-lj.si/en/teacher/935/?day=2025-01-27&export=1
URL:https://urnik.fs.uni-lj.si/en/teacher/935/?day=2025-01-27&export=1
X-PUBLISHED-TTL:PT1H
X-WR-TIMEZONE:Europe/Ljubljana
BEGIN:VTIMEZONE
TZID:Europe/Ljubljana
BEGIN:DAYLIGHT
DTSTART:20260329T020000
RDATE:20260329T020000
RDATE:20270328T020000
TZNAME:CEST
TZOFFSETFROM:+0100
TZOFFSETTO:+0200
END:DAYLIGHT
BEGIN:STANDARD
DTSTART:20261025T030000
RDATE:20261025T030000
RDATE:20271031T030000
TZNAME:CET
TZOFFSETFROM:+0200
TZOFFSETTO:+0100
END:STANDARD
END:VTIMEZONE
BEGIN:VEVENT
SUMMARY:Thermodynamics (TMDR)\, Lectures (P)
DTSTART;TZID=Europe/Ljubljana:20250217T130000
DTEND;TZID=Europe/Ljubljana:20250217T153000
DTSTAMP:20260426T014113Z
UID:fs-AFLABS-URNIK:srecanje:10109-2025-02-17 13:00:00+01:00
DESCRIPTION:Predmet: Thermodynamics (TMDR)\, Lectures (P)\nLetniki: RRP-1 
 (RRP-1)\nIzvajalci: Boštjan Mavrič\, Božidar Šarler\nProstor: Lecture 
 hall V/8
END:VEVENT
BEGIN:VEVENT
SUMMARY:Thermodynamics (TMDR)\, Lectures (P)
DTSTART;TZID=Europe/Ljubljana:20250224T130000
DTEND;TZID=Europe/Ljubljana:20250224T153000
DTSTAMP:20260426T014113Z
UID:fs-AFLABS-URNIK:srecanje:10109-2025-02-24 13:00:00+01:00
DESCRIPTION:Predmet: Thermodynamics (TMDR)\, Lectures (P)\nLetniki: RRP-1 
 (RRP-1)\nIzvajalci: Boštjan Mavrič\, Božidar Šarler\nProstor: Lecture 
 hall V/8
END:VEVENT
BEGIN:VEVENT
SUMMARY:Thermodynamics (TMDR)\, Lectures (P)
DTSTART;TZID=Europe/Ljubljana:20250303T130000
DTEND;TZID=Europe/Ljubljana:20250303T153000
DTSTAMP:20260426T014113Z
UID:fs-AFLABS-URNIK:srecanje:10109-2025-03-03 13:00:00+01:00
DESCRIPTION:Predmet: Thermodynamics (TMDR)\, Lectures (P)\nLetniki: RRP-1 
 (RRP-1)\nIzvajalci: Boštjan Mavrič\, Božidar Šarler\nProstor: Lecture 
 hall V/8
END:VEVENT
BEGIN:VEVENT
SUMMARY:Sestanek LFDT
DTSTART;TZID=Europe/Ljubljana:20250227T150000
DTEND;TZID=Europe/Ljubljana:20250227T153000
DTSTAMP:20260426T014113Z
UID:fs-AFLABS-URNIK:rezervacija:9480
CATEGORIES:Reservation
COLOR:royalblue
DESCRIPTION:Predmeti: \nLetniki: \nIzvajalci: Boštjan Mavrič\nProstori: 
 Conference room
LOCATION:Conference room
ORGANIZER:Boštjan Mavrič
X-WR-TIMEZONE:Europe/Ljubljana
END:VEVENT
END:VCALENDAR
