BEGIN:VCALENDAR
VERSION:2.0
PRODID:-//AFLabs urnik izvoz - fs//aflabs.si//SI
NAME:UL FS Urnik
X-WR-CALNAME:UL FS Urnik
DTSTAMP:20260424T001043Z
REFRESH-INTERVAL:PT1H
SOURCE:https://urnik.fs.uni-lj.si/en/teacher/937/?day=2024-01-22&export=1
URL:https://urnik.fs.uni-lj.si/en/teacher/937/?day=2024-01-22&export=1
X-PUBLISHED-TTL:PT1H
X-WR-TIMEZONE:Europe/Ljubljana
BEGIN:VTIMEZONE
TZID:Europe/Ljubljana
BEGIN:DAYLIGHT
DTSTART:20260329T020000
RDATE:20260329T020000
RDATE:20270328T020000
TZNAME:CEST
TZOFFSETFROM:+0100
TZOFFSETTO:+0200
END:DAYLIGHT
BEGIN:STANDARD
DTSTART:20261025T030000
RDATE:20261025T030000
RDATE:20271031T030000
TZNAME:CET
TZOFFSETFROM:+0200
TZOFFSETTO:+0100
END:STANDARD
END:VTIMEZONE
BEGIN:VEVENT
SUMMARY:Mechatronics and laser technologies (MLTR)\, Lecture exercises (VP
 )\, [S1]
DTSTART;TZID=Europe/Ljubljana:20240220T080000
DTEND;TZID=Europe/Ljubljana:20240220T100000
DTSTAMP:20260424T001043Z
UID:fs-AFLABS-URNIK:srecanje:8443-2024-02-20 08:00:00+01:00
DESCRIPTION:Predmet: Mechatronics and laser technologies (MLTR)\, Lecture 
 exercises (VP)\, [S1]\nLetniki: RRP-3 (RRP-3)\nIzvajalci: Aleš Babnik\, L
 uka Hribar\, Gašper Škulj\nProstor: Lecture hall IV/3B
END:VEVENT
BEGIN:VEVENT
SUMMARY:Mechatronics and laser technologies (MLTR)\, Lecture exercises (VP
 )\, [S2]
DTSTART;TZID=Europe/Ljubljana:20240220T140000
DTEND;TZID=Europe/Ljubljana:20240220T160000
DTSTAMP:20260424T001043Z
UID:fs-AFLABS-URNIK:srecanje:8377-2024-02-20 14:00:00+01:00
DESCRIPTION:Predmet: Mechatronics and laser technologies (MLTR)\, Lecture 
 exercises (VP)\, [S2]\nLetniki: RRP-3 (RRP-3)\nIzvajalci: Aleš Babnik\, L
 uka Hribar\, Gašper Škulj\nProstor: Lecture hall III/4
END:VEVENT
BEGIN:VEVENT
SUMMARY:Mechatronics and laser technologies (MLTR)\, Lecture exercises (VP
 )\, [S3]
DTSTART;TZID=Europe/Ljubljana:20240222T120000
DTEND;TZID=Europe/Ljubljana:20240222T140000
DTSTAMP:20260424T001043Z
UID:fs-AFLABS-URNIK:srecanje:4542-2024-02-22 12:00:00+01:00
DESCRIPTION:Predmet: Mechatronics and laser technologies (MLTR)\, Lecture 
 exercises (VP)\, [S3]\nLetniki: RRP-3 (RRP-3)\nIzvajalci: Aleš Babnik\, L
 uka Hribar\, Gašper Škulj\nProstor: Lecture hall IV/3B
END:VEVENT
BEGIN:VEVENT
SUMMARY:Mechatronics and laser technologies (MLTR)\, Lecture exercises (VP
 )\, [S4]
DTSTART;TZID=Europe/Ljubljana:20240222T100000
DTEND;TZID=Europe/Ljubljana:20240222T120000
DTSTAMP:20260424T001043Z
UID:fs-AFLABS-URNIK:srecanje:8414-2024-02-22 10:00:00+01:00
DESCRIPTION:Predmet: Mechatronics and laser technologies (MLTR)\, Lecture 
 exercises (VP)\, [S4]\nLetniki: RRP-3 (RRP-3)\nIzvajalci: Aleš Babnik\, L
 uka Hribar\, Gašper Škulj\nProstor: Lecture hall II/3A
END:VEVENT
END:VCALENDAR
