BEGIN:VCALENDAR
VERSION:2.0
PRODID:-//AFLabs urnik izvoz - fs//aflabs.si//SI
NAME:UL FS Urnik
X-WR-CALNAME:UL FS Urnik
DTSTAMP:20260425T215906Z
REFRESH-INTERVAL:PT1H
SOURCE:https://urnik.fs.uni-lj.si/en/teacher/943/?day=2026-01-19&export=1
URL:https://urnik.fs.uni-lj.si/en/teacher/943/?day=2026-01-19&export=1
X-PUBLISHED-TTL:PT1H
X-WR-TIMEZONE:Europe/Ljubljana
BEGIN:VTIMEZONE
TZID:Europe/Ljubljana
BEGIN:DAYLIGHT
DTSTART:20260329T020000
RDATE:20260329T020000
RDATE:20270328T020000
TZNAME:CEST
TZOFFSETFROM:+0100
TZOFFSETTO:+0200
END:DAYLIGHT
BEGIN:STANDARD
DTSTART:20261025T030000
RDATE:20261025T030000
RDATE:20271031T030000
TZNAME:CET
TZOFFSETFROM:+0200
TZOFFSETTO:+0100
END:STANDARD
END:VTIMEZONE
BEGIN:VEVENT
SUMMARY:Performance of aircraft (ZMLP)\, Laboratory excercises (VL)\, [S1]
DTSTART;TZID=Europe/Ljubljana:20251215T113000
DTEND;TZID=Europe/Ljubljana:20251215T153000
DTSTAMP:20260425T215906Z
UID:fs-AFLABS-URNIK:srecanje:16521-2025-12-15 11:30:00+01:00
DESCRIPTION:Predmet: Performance of aircraft (ZMLP)\, Laboratory excercise
 s (VL)\, [S1]\nLetniki: Aircraft design and maintenance (PAP-3)\, Airline 
 transport pilot (PAP-3)\nIzvajalci: Aleksej Majkić\, Peter Pipp\nProstor:
  Laboratoy AEROL 809
END:VEVENT
BEGIN:VEVENT
SUMMARY:Performance of aircraft (ZMLP)\, Laboratory excercises (VL)\, [S1]
DTSTART;TZID=Europe/Ljubljana:20251222T113000
DTEND;TZID=Europe/Ljubljana:20251222T153000
DTSTAMP:20260425T215906Z
UID:fs-AFLABS-URNIK:srecanje:16521-2025-12-22 11:30:00+01:00
DESCRIPTION:Predmet: Performance of aircraft (ZMLP)\, Laboratory excercise
 s (VL)\, [S1]\nLetniki: Aircraft design and maintenance (PAP-3)\, Airline 
 transport pilot (PAP-3)\nIzvajalci: Aleksej Majkić\, Peter Pipp\nProstor:
  Laboratoy AEROL 809
END:VEVENT
BEGIN:VEVENT
SUMMARY:Performance of aircraft (ZMLP)\, Laboratory excercises (VL)\, [S1]
DTSTART;TZID=Europe/Ljubljana:20260105T113000
DTEND;TZID=Europe/Ljubljana:20260105T153000
DTSTAMP:20260425T215906Z
UID:fs-AFLABS-URNIK:srecanje:16521-2026-01-05 11:30:00+01:00
DESCRIPTION:Predmet: Performance of aircraft (ZMLP)\, Laboratory excercise
 s (VL)\, [S1]\nLetniki: Aircraft design and maintenance (PAP-3)\, Airline 
 transport pilot (PAP-3)\nIzvajalci: Aleksej Majkić\, Peter Pipp\nProstor:
  Laboratoy AEROL 809
END:VEVENT
BEGIN:VEVENT
SUMMARY:Performance of aircraft (ZMLP)\, Laboratory excercises (VL)\, [S1]
DTSTART;TZID=Europe/Ljubljana:20260112T113000
DTEND;TZID=Europe/Ljubljana:20260112T153000
DTSTAMP:20260425T215906Z
UID:fs-AFLABS-URNIK:srecanje:16521-2026-01-12 11:30:00+01:00
DESCRIPTION:Predmet: Performance of aircraft (ZMLP)\, Laboratory excercise
 s (VL)\, [S1]\nLetniki: Aircraft design and maintenance (PAP-3)\, Airline 
 transport pilot (PAP-3)\nIzvajalci: Aleksej Majkić\, Peter Pipp\nProstor:
  Laboratoy AEROL 809
END:VEVENT
BEGIN:VEVENT
SUMMARY:Performance of aircraft (ZMLP)\, Laboratory excercises (VL)\, [S2]
DTSTART;TZID=Europe/Ljubljana:20251215T113000
DTEND;TZID=Europe/Ljubljana:20251215T153000
DTSTAMP:20260425T215906Z
UID:fs-AFLABS-URNIK:srecanje:16523-2025-12-15 11:30:00+01:00
DESCRIPTION:Predmet: Performance of aircraft (ZMLP)\, Laboratory excercise
 s (VL)\, [S2]\nLetniki: Aircraft design and maintenance (PAP-3)\, Airline 
 transport pilot (PAP-3)\nIzvajalci: Aleksej Majkić\, Peter Pipp\nProstor:
  Lecture hall IV/3B
END:VEVENT
BEGIN:VEVENT
SUMMARY:Performance of aircraft (ZMLP)\, Laboratory excercises (VL)\, [S2]
DTSTART;TZID=Europe/Ljubljana:20251222T113000
DTEND;TZID=Europe/Ljubljana:20251222T153000
DTSTAMP:20260425T215906Z
UID:fs-AFLABS-URNIK:srecanje:16523-2025-12-22 11:30:00+01:00
DESCRIPTION:Predmet: Performance of aircraft (ZMLP)\, Laboratory excercise
 s (VL)\, [S2]\nLetniki: Aircraft design and maintenance (PAP-3)\, Airline 
 transport pilot (PAP-3)\nIzvajalci: Aleksej Majkić\, Peter Pipp\nProstor:
  Lecture hall IV/3B
END:VEVENT
BEGIN:VEVENT
SUMMARY:Performance of aircraft (ZMLP)\, Laboratory excercises (VL)\, [S2]
DTSTART;TZID=Europe/Ljubljana:20260105T113000
DTEND;TZID=Europe/Ljubljana:20260105T153000
DTSTAMP:20260425T215906Z
UID:fs-AFLABS-URNIK:srecanje:16523-2026-01-05 11:30:00+01:00
DESCRIPTION:Predmet: Performance of aircraft (ZMLP)\, Laboratory excercise
 s (VL)\, [S2]\nLetniki: Aircraft design and maintenance (PAP-3)\, Airline 
 transport pilot (PAP-3)\nIzvajalci: Aleksej Majkić\, Peter Pipp\nProstor:
  Lecture hall IV/3B
END:VEVENT
BEGIN:VEVENT
SUMMARY:Performance of aircraft (ZMLP)\, Laboratory excercises (VL)\, [S2]
DTSTART;TZID=Europe/Ljubljana:20260112T113000
DTEND;TZID=Europe/Ljubljana:20260112T153000
DTSTAMP:20260425T215906Z
UID:fs-AFLABS-URNIK:srecanje:16523-2026-01-12 11:30:00+01:00
DESCRIPTION:Predmet: Performance of aircraft (ZMLP)\, Laboratory excercise
 s (VL)\, [S2]\nLetniki: Aircraft design and maintenance (PAP-3)\, Airline 
 transport pilot (PAP-3)\nIzvajalci: Aleksej Majkić\, Peter Pipp\nProstor:
  Lecture hall IV/3B
END:VEVENT
BEGIN:VEVENT
SUMMARY:Performance of aircraft (ZMLP)\, Laboratory excercises (VL)\, [S3]
DTSTART;TZID=Europe/Ljubljana:20251215T153000
DTEND;TZID=Europe/Ljubljana:20251215T193000
DTSTAMP:20260425T215906Z
UID:fs-AFLABS-URNIK:srecanje:16524-2025-12-15 15:30:00+01:00
DESCRIPTION:Predmet: Performance of aircraft (ZMLP)\, Laboratory excercise
 s (VL)\, [S3]\nLetniki: Aircraft design and maintenance (PAP-3)\, Airline 
 transport pilot (PAP-3)\nIzvajalci: Aleksej Majkić\, Peter Pipp\nProstor:
  Laboratoy AEROL 809
END:VEVENT
BEGIN:VEVENT
SUMMARY:Performance of aircraft (ZMLP)\, Laboratory excercises (VL)\, [S3]
DTSTART;TZID=Europe/Ljubljana:20251222T153000
DTEND;TZID=Europe/Ljubljana:20251222T193000
DTSTAMP:20260425T215906Z
UID:fs-AFLABS-URNIK:srecanje:16524-2025-12-22 15:30:00+01:00
DESCRIPTION:Predmet: Performance of aircraft (ZMLP)\, Laboratory excercise
 s (VL)\, [S3]\nLetniki: Aircraft design and maintenance (PAP-3)\, Airline 
 transport pilot (PAP-3)\nIzvajalci: Aleksej Majkić\, Peter Pipp\nProstor:
  Laboratoy AEROL 809
END:VEVENT
BEGIN:VEVENT
SUMMARY:Performance of aircraft (ZMLP)\, Laboratory excercises (VL)\, [S3]
DTSTART;TZID=Europe/Ljubljana:20260105T153000
DTEND;TZID=Europe/Ljubljana:20260105T193000
DTSTAMP:20260425T215906Z
UID:fs-AFLABS-URNIK:srecanje:16524-2026-01-05 15:30:00+01:00
DESCRIPTION:Predmet: Performance of aircraft (ZMLP)\, Laboratory excercise
 s (VL)\, [S3]\nLetniki: Aircraft design and maintenance (PAP-3)\, Airline 
 transport pilot (PAP-3)\nIzvajalci: Aleksej Majkić\, Peter Pipp\nProstor:
  Laboratoy AEROL 809
END:VEVENT
BEGIN:VEVENT
SUMMARY:Performance of aircraft (ZMLP)\, Laboratory excercises (VL)\, [S3]
DTSTART;TZID=Europe/Ljubljana:20260112T153000
DTEND;TZID=Europe/Ljubljana:20260112T193000
DTSTAMP:20260425T215906Z
UID:fs-AFLABS-URNIK:srecanje:16524-2026-01-12 15:30:00+01:00
DESCRIPTION:Predmet: Performance of aircraft (ZMLP)\, Laboratory excercise
 s (VL)\, [S3]\nLetniki: Aircraft design and maintenance (PAP-3)\, Airline 
 transport pilot (PAP-3)\nIzvajalci: Aleksej Majkić\, Peter Pipp\nProstor:
  Laboratoy AEROL 809
END:VEVENT
BEGIN:VEVENT
SUMMARY:Performance of aircraft (ZMLP)\, Laboratory excercises (VL)\, [S4]
DTSTART;TZID=Europe/Ljubljana:20251215T153000
DTEND;TZID=Europe/Ljubljana:20251215T193000
DTSTAMP:20260425T215906Z
UID:fs-AFLABS-URNIK:srecanje:16526-2025-12-15 15:30:00+01:00
DESCRIPTION:Predmet: Performance of aircraft (ZMLP)\, Laboratory excercise
 s (VL)\, [S4]\nLetniki: Aircraft design and maintenance (PAP-3)\, Airline 
 transport pilot (PAP-3)\nIzvajalci: Aleksej Majkić\, Peter Pipp\nProstor:
  Lecture hall IV/3B
END:VEVENT
BEGIN:VEVENT
SUMMARY:Performance of aircraft (ZMLP)\, Laboratory excercises (VL)\, [S4]
DTSTART;TZID=Europe/Ljubljana:20251222T153000
DTEND;TZID=Europe/Ljubljana:20251222T193000
DTSTAMP:20260425T215906Z
UID:fs-AFLABS-URNIK:srecanje:16526-2025-12-22 15:30:00+01:00
DESCRIPTION:Predmet: Performance of aircraft (ZMLP)\, Laboratory excercise
 s (VL)\, [S4]\nLetniki: Aircraft design and maintenance (PAP-3)\, Airline 
 transport pilot (PAP-3)\nIzvajalci: Aleksej Majkić\, Peter Pipp\nProstor:
  Lecture hall IV/3B
END:VEVENT
BEGIN:VEVENT
SUMMARY:Performance of aircraft (ZMLP)\, Laboratory excercises (VL)\, [S4]
DTSTART;TZID=Europe/Ljubljana:20260105T153000
DTEND;TZID=Europe/Ljubljana:20260105T193000
DTSTAMP:20260425T215906Z
UID:fs-AFLABS-URNIK:srecanje:16526-2026-01-05 15:30:00+01:00
DESCRIPTION:Predmet: Performance of aircraft (ZMLP)\, Laboratory excercise
 s (VL)\, [S4]\nLetniki: Aircraft design and maintenance (PAP-3)\, Airline 
 transport pilot (PAP-3)\nIzvajalci: Aleksej Majkić\, Peter Pipp\nProstor:
  Lecture hall IV/3B
END:VEVENT
BEGIN:VEVENT
SUMMARY:Performance of aircraft (ZMLP)\, Laboratory excercises (VL)\, [S4]
DTSTART;TZID=Europe/Ljubljana:20260112T153000
DTEND;TZID=Europe/Ljubljana:20260112T193000
DTSTAMP:20260425T215906Z
UID:fs-AFLABS-URNIK:srecanje:16526-2026-01-12 15:30:00+01:00
DESCRIPTION:Predmet: Performance of aircraft (ZMLP)\, Laboratory excercise
 s (VL)\, [S4]\nLetniki: Aircraft design and maintenance (PAP-3)\, Airline 
 transport pilot (PAP-3)\nIzvajalci: Aleksej Majkić\, Peter Pipp\nProstor:
  Lecture hall IV/3B
END:VEVENT
BEGIN:VEVENT
SUMMARY:Air navigaton 1 (LN1P)\, Laboratory excercises (VL)\, [S1]
DTSTART;TZID=Europe/Ljubljana:20251216T153000
DTEND;TZID=Europe/Ljubljana:20251216T193000
DTSTAMP:20260425T215906Z
UID:fs-AFLABS-URNIK:srecanje:16567-2025-12-16 15:30:00+01:00
DESCRIPTION:Predmet: Air navigaton 1 (LN1P)\, Laboratory excercises (VL)\,
  [S1]\nLetniki: Airline transport pilot (PAP-3)\nIzvajalci: Aleksej Majki
 ć\, Peter Pipp\nProstor: Laboratoy AEROL 809
END:VEVENT
BEGIN:VEVENT
SUMMARY:Air navigaton 1 (LN1P)\, Laboratory excercises (VL)\, [S1]
DTSTART;TZID=Europe/Ljubljana:20251223T153000
DTEND;TZID=Europe/Ljubljana:20251223T193000
DTSTAMP:20260425T215906Z
UID:fs-AFLABS-URNIK:srecanje:16567-2025-12-23 15:30:00+01:00
DESCRIPTION:Predmet: Air navigaton 1 (LN1P)\, Laboratory excercises (VL)\,
  [S1]\nLetniki: Airline transport pilot (PAP-3)\nIzvajalci: Aleksej Majki
 ć\, Peter Pipp\nProstor: Laboratoy AEROL 809
END:VEVENT
BEGIN:VEVENT
SUMMARY:Air navigaton 1 (LN1P)\, Laboratory excercises (VL)\, [S1]
DTSTART;TZID=Europe/Ljubljana:20260106T153000
DTEND;TZID=Europe/Ljubljana:20260106T193000
DTSTAMP:20260425T215906Z
UID:fs-AFLABS-URNIK:srecanje:16567-2026-01-06 15:30:00+01:00
DESCRIPTION:Predmet: Air navigaton 1 (LN1P)\, Laboratory excercises (VL)\,
  [S1]\nLetniki: Airline transport pilot (PAP-3)\nIzvajalci: Aleksej Majki
 ć\, Peter Pipp\nProstor: Laboratoy AEROL 809
END:VEVENT
BEGIN:VEVENT
SUMMARY:Air navigaton 1 (LN1P)\, Laboratory excercises (VL)\, [S1]
DTSTART;TZID=Europe/Ljubljana:20260113T153000
DTEND;TZID=Europe/Ljubljana:20260113T193000
DTSTAMP:20260425T215906Z
UID:fs-AFLABS-URNIK:srecanje:16567-2026-01-13 15:30:00+01:00
DESCRIPTION:Predmet: Air navigaton 1 (LN1P)\, Laboratory excercises (VL)\,
  [S1]\nLetniki: Airline transport pilot (PAP-3)\nIzvajalci: Aleksej Majki
 ć\, Peter Pipp\nProstor: Laboratoy AEROL 809
END:VEVENT
BEGIN:VEVENT
SUMMARY:Air navigaton 1 (LN1P)\, Laboratory excercises (VL)\, [S2]
DTSTART;TZID=Europe/Ljubljana:20251216T153000
DTEND;TZID=Europe/Ljubljana:20251216T193000
DTSTAMP:20260425T215906Z
UID:fs-AFLABS-URNIK:srecanje:16569-2025-12-16 15:30:00+01:00
DESCRIPTION:Predmet: Air navigaton 1 (LN1P)\, Laboratory excercises (VL)\,
  [S2]\nLetniki: Airline transport pilot (PAP-3)\nIzvajalci: Aleksej Majki
 ć\, Peter Pipp\nProstor: Lecture hall IV/3A
END:VEVENT
BEGIN:VEVENT
SUMMARY:Air navigaton 1 (LN1P)\, Laboratory excercises (VL)\, [S2]
DTSTART;TZID=Europe/Ljubljana:20251223T153000
DTEND;TZID=Europe/Ljubljana:20251223T193000
DTSTAMP:20260425T215906Z
UID:fs-AFLABS-URNIK:srecanje:16569-2025-12-23 15:30:00+01:00
DESCRIPTION:Predmet: Air navigaton 1 (LN1P)\, Laboratory excercises (VL)\,
  [S2]\nLetniki: Airline transport pilot (PAP-3)\nIzvajalci: Aleksej Majki
 ć\, Peter Pipp\nProstor: Lecture hall IV/3A
END:VEVENT
BEGIN:VEVENT
SUMMARY:Air navigaton 1 (LN1P)\, Laboratory excercises (VL)\, [S2]
DTSTART;TZID=Europe/Ljubljana:20260106T153000
DTEND;TZID=Europe/Ljubljana:20260106T193000
DTSTAMP:20260425T215906Z
UID:fs-AFLABS-URNIK:srecanje:16569-2026-01-06 15:30:00+01:00
DESCRIPTION:Predmet: Air navigaton 1 (LN1P)\, Laboratory excercises (VL)\,
  [S2]\nLetniki: Airline transport pilot (PAP-3)\nIzvajalci: Aleksej Majki
 ć\, Peter Pipp\nProstor: Lecture hall IV/3A
END:VEVENT
BEGIN:VEVENT
SUMMARY:Air navigaton 1 (LN1P)\, Laboratory excercises (VL)\, [S2]
DTSTART;TZID=Europe/Ljubljana:20260113T153000
DTEND;TZID=Europe/Ljubljana:20260113T193000
DTSTAMP:20260425T215906Z
UID:fs-AFLABS-URNIK:srecanje:16569-2026-01-13 15:30:00+01:00
DESCRIPTION:Predmet: Air navigaton 1 (LN1P)\, Laboratory excercises (VL)\,
  [S2]\nLetniki: Airline transport pilot (PAP-3)\nIzvajalci: Aleksej Majki
 ć\, Peter Pipp\nProstor: Lecture hall IV/3A
END:VEVENT
BEGIN:VEVENT
SUMMARY:Aircraft design 2 (KL2P)\, Lecture exercises (VP)\, [S1]
DTSTART;TZID=Europe/Ljubljana:20251217T100000
DTEND;TZID=Europe/Ljubljana:20251217T120000
DTSTAMP:20260425T215906Z
UID:fs-AFLABS-URNIK:srecanje:17449-2025-12-17 10:00:00+01:00
DESCRIPTION:Predmet: Aircraft design 2 (KL2P)\, Lecture exercises (VP)\, [
 S1]\nLetniki: Aircraft design and maintenance (PAP-3)\nIzvajalci: Aleksej 
 Majkić\, Peter Pipp\nProstor: Lecture hall IV/3A
END:VEVENT
BEGIN:VEVENT
SUMMARY:Aircraft design 2 (KL2P)\, Lecture exercises (VP)\, [S1]
DTSTART;TZID=Europe/Ljubljana:20251224T100000
DTEND;TZID=Europe/Ljubljana:20251224T120000
DTSTAMP:20260425T215906Z
UID:fs-AFLABS-URNIK:srecanje:17449-2025-12-24 10:00:00+01:00
DESCRIPTION:Predmet: Aircraft design 2 (KL2P)\, Lecture exercises (VP)\, [
 S1]\nLetniki: Aircraft design and maintenance (PAP-3)\nIzvajalci: Aleksej 
 Majkić\, Peter Pipp\nProstor: Lecture hall IV/3A
END:VEVENT
BEGIN:VEVENT
SUMMARY:Aircraft design 2 (KL2P)\, Lecture exercises (VP)\, [S1]
DTSTART;TZID=Europe/Ljubljana:20260107T100000
DTEND;TZID=Europe/Ljubljana:20260107T120000
DTSTAMP:20260425T215906Z
UID:fs-AFLABS-URNIK:srecanje:17449-2026-01-07 10:00:00+01:00
DESCRIPTION:Predmet: Aircraft design 2 (KL2P)\, Lecture exercises (VP)\, [
 S1]\nLetniki: Aircraft design and maintenance (PAP-3)\nIzvajalci: Aleksej 
 Majkić\, Peter Pipp\nProstor: Lecture hall IV/3A
END:VEVENT
BEGIN:VEVENT
SUMMARY:Aircraft design 2 (KL2P)\, Lecture exercises (VP)\, [S1]
DTSTART;TZID=Europe/Ljubljana:20260114T100000
DTEND;TZID=Europe/Ljubljana:20260114T120000
DTSTAMP:20260425T215906Z
UID:fs-AFLABS-URNIK:srecanje:17449-2026-01-14 10:00:00+01:00
DESCRIPTION:Predmet: Aircraft design 2 (KL2P)\, Lecture exercises (VP)\, [
 S1]\nLetniki: Aircraft design and maintenance (PAP-3)\nIzvajalci: Aleksej 
 Majkić\, Peter Pipp\nProstor: Lecture hall IV/3A
END:VEVENT
BEGIN:VEVENT
SUMMARY:Aeronautical phraseology (LTFP)\, Lecture exercises (VP)\, [S1]
DTSTART;TZID=Europe/Ljubljana:20251217T133000
DTEND;TZID=Europe/Ljubljana:20251217T153000
DTSTAMP:20260425T215906Z
UID:fs-AFLABS-URNIK:srecanje:16065-2025-12-17 13:30:00+01:00
DESCRIPTION:Predmet: Aeronautical phraseology (LTFP)\, Lecture exercises (
 VP)\, [S1]\nLetniki: Airline transport pilot (PAP-3)\nIzvajalci: Andrej Gr
 ebenšek\, Peter Pipp\nProstor: Lecture hall IV/3B
END:VEVENT
BEGIN:VEVENT
SUMMARY:Aeronautical phraseology (LTFP)\, Lecture exercises (VP)\, [S1]
DTSTART;TZID=Europe/Ljubljana:20251224T133000
DTEND;TZID=Europe/Ljubljana:20251224T153000
DTSTAMP:20260425T215906Z
UID:fs-AFLABS-URNIK:srecanje:16065-2025-12-24 13:30:00+01:00
DESCRIPTION:Predmet: Aeronautical phraseology (LTFP)\, Lecture exercises (
 VP)\, [S1]\nLetniki: Airline transport pilot (PAP-3)\nIzvajalci: Andrej Gr
 ebenšek\, Peter Pipp\nProstor: Lecture hall IV/3B
END:VEVENT
BEGIN:VEVENT
SUMMARY:Aeronautical phraseology (LTFP)\, Lecture exercises (VP)\, [S1]
DTSTART;TZID=Europe/Ljubljana:20260107T133000
DTEND;TZID=Europe/Ljubljana:20260107T153000
DTSTAMP:20260425T215906Z
UID:fs-AFLABS-URNIK:srecanje:16065-2026-01-07 13:30:00+01:00
DESCRIPTION:Predmet: Aeronautical phraseology (LTFP)\, Lecture exercises (
 VP)\, [S1]\nLetniki: Airline transport pilot (PAP-3)\nIzvajalci: Andrej Gr
 ebenšek\, Peter Pipp\nProstor: Lecture hall IV/3B
END:VEVENT
BEGIN:VEVENT
SUMMARY:Aeronautical phraseology (LTFP)\, Lecture exercises (VP)\, [S1]
DTSTART;TZID=Europe/Ljubljana:20260114T133000
DTEND;TZID=Europe/Ljubljana:20260114T153000
DTSTAMP:20260425T215906Z
UID:fs-AFLABS-URNIK:srecanje:16065-2026-01-14 13:30:00+01:00
DESCRIPTION:Predmet: Aeronautical phraseology (LTFP)\, Lecture exercises (
 VP)\, [S1]\nLetniki: Airline transport pilot (PAP-3)\nIzvajalci: Andrej Gr
 ebenšek\, Peter Pipp\nProstor: Lecture hall IV/3B
END:VEVENT
BEGIN:VEVENT
SUMMARY:Aircraft systems (SNLP)\, Laboratory excercises (VL)\, [S1]
DTSTART;TZID=Europe/Ljubljana:20251218T113000
DTEND;TZID=Europe/Ljubljana:20251218T133000
DTSTAMP:20260425T215906Z
UID:fs-AFLABS-URNIK:srecanje:16632-2025-12-18 11:30:00+01:00
DESCRIPTION:Predmet: Aircraft systems (SNLP)\, Laboratory excercises (VL)\
 , [S1]\nLetniki: Aircraft design and maintenance (PAP-3)\, Airline transpo
 rt pilot (PAP-3)\nIzvajalci: Aleksej Majkić\, Peter Pipp\nProstor: Labora
 toy AEROL 809
END:VEVENT
BEGIN:VEVENT
SUMMARY:Aircraft systems (SNLP)\, Laboratory excercises (VL)\, [S1]
DTSTART;TZID=Europe/Ljubljana:20260108T113000
DTEND;TZID=Europe/Ljubljana:20260108T133000
DTSTAMP:20260425T215906Z
UID:fs-AFLABS-URNIK:srecanje:16632-2026-01-08 11:30:00+01:00
DESCRIPTION:Predmet: Aircraft systems (SNLP)\, Laboratory excercises (VL)\
 , [S1]\nLetniki: Aircraft design and maintenance (PAP-3)\, Airline transpo
 rt pilot (PAP-3)\nIzvajalci: Aleksej Majkić\, Peter Pipp\nProstor: Labora
 toy AEROL 809
END:VEVENT
BEGIN:VEVENT
SUMMARY:Aircraft systems (SNLP)\, Laboratory excercises (VL)\, [S2]
DTSTART;TZID=Europe/Ljubljana:20251218T133000
DTEND;TZID=Europe/Ljubljana:20251218T153000
DTSTAMP:20260425T215906Z
UID:fs-AFLABS-URNIK:srecanje:16634-2025-12-18 13:30:00+01:00
DESCRIPTION:Predmet: Aircraft systems (SNLP)\, Laboratory excercises (VL)\
 , [S2]\nLetniki: Aircraft design and maintenance (PAP-3)\, Airline transpo
 rt pilot (PAP-3)\nIzvajalci: Aleksej Majkić\, Peter Pipp\nProstor: Labora
 toy AEROL 809
END:VEVENT
BEGIN:VEVENT
SUMMARY:Aircraft systems (SNLP)\, Laboratory excercises (VL)\, [S2]
DTSTART;TZID=Europe/Ljubljana:20260108T133000
DTEND;TZID=Europe/Ljubljana:20260108T153000
DTSTAMP:20260425T215906Z
UID:fs-AFLABS-URNIK:srecanje:16634-2026-01-08 13:30:00+01:00
DESCRIPTION:Predmet: Aircraft systems (SNLP)\, Laboratory excercises (VL)\
 , [S2]\nLetniki: Aircraft design and maintenance (PAP-3)\, Airline transpo
 rt pilot (PAP-3)\nIzvajalci: Aleksej Majkić\, Peter Pipp\nProstor: Labora
 toy AEROL 809
END:VEVENT
BEGIN:VEVENT
SUMMARY:Aircraft systems (SNLP)\, Laboratory excercises (VL)\, [S3]
DTSTART;TZID=Europe/Ljubljana:20251219T093000
DTEND;TZID=Europe/Ljubljana:20251219T113000
DTSTAMP:20260425T215906Z
UID:fs-AFLABS-URNIK:srecanje:16635-2025-12-19 09:30:00+01:00
DESCRIPTION:Predmet: Aircraft systems (SNLP)\, Laboratory excercises (VL)\
 , [S3]\nLetniki: Aircraft design and maintenance (PAP-3)\, Airline transpo
 rt pilot (PAP-3)\nIzvajalci: Aleksej Majkić\, Peter Pipp\nProstor: Labora
 toy AEROL 809
END:VEVENT
BEGIN:VEVENT
SUMMARY:Aircraft systems (SNLP)\, Laboratory excercises (VL)\, [S3]
DTSTART;TZID=Europe/Ljubljana:20260109T093000
DTEND;TZID=Europe/Ljubljana:20260109T113000
DTSTAMP:20260425T215906Z
UID:fs-AFLABS-URNIK:srecanje:16635-2026-01-09 09:30:00+01:00
DESCRIPTION:Predmet: Aircraft systems (SNLP)\, Laboratory excercises (VL)\
 , [S3]\nLetniki: Aircraft design and maintenance (PAP-3)\, Airline transpo
 rt pilot (PAP-3)\nIzvajalci: Aleksej Majkić\, Peter Pipp\nProstor: Labora
 toy AEROL 809
END:VEVENT
BEGIN:VEVENT
SUMMARY:Aircraft systems (SNLP)\, Laboratory excercises (VL)\, [S4]
DTSTART;TZID=Europe/Ljubljana:20251219T113000
DTEND;TZID=Europe/Ljubljana:20251219T133000
DTSTAMP:20260425T215906Z
UID:fs-AFLABS-URNIK:srecanje:16636-2025-12-19 11:30:00+01:00
DESCRIPTION:Predmet: Aircraft systems (SNLP)\, Laboratory excercises (VL)\
 , [S4]\nLetniki: Aircraft design and maintenance (PAP-3)\, Airline transpo
 rt pilot (PAP-3)\nIzvajalci: Aleksej Majkić\, Peter Pipp\nProstor: Labora
 toy AEROL 809
END:VEVENT
BEGIN:VEVENT
SUMMARY:Aircraft systems (SNLP)\, Laboratory excercises (VL)\, [S4]
DTSTART;TZID=Europe/Ljubljana:20260109T113000
DTEND;TZID=Europe/Ljubljana:20260109T133000
DTSTAMP:20260425T215906Z
UID:fs-AFLABS-URNIK:srecanje:16636-2026-01-09 11:30:00+01:00
DESCRIPTION:Predmet: Aircraft systems (SNLP)\, Laboratory excercises (VL)\
 , [S4]\nLetniki: Aircraft design and maintenance (PAP-3)\, Airline transpo
 rt pilot (PAP-3)\nIzvajalci: Aleksej Majkić\, Peter Pipp\nProstor: Labora
 toy AEROL 809
END:VEVENT
BEGIN:VEVENT
SUMMARY:Air navigaton 2 (LN2P)\, Lecture exercises (VP)\, [S1]
DTSTART;TZID=Europe/Ljubljana:20260217T143000
DTEND;TZID=Europe/Ljubljana:20260217T163000
DTSTAMP:20260425T215906Z
UID:fs-AFLABS-URNIK:srecanje:17452-2026-02-17 14:30:00+01:00
DESCRIPTION:Predmet: Air navigaton 2 (LN2P)\, Lecture exercises (VP)\, [S1
 ]\nLetniki: Airline transport pilot (PAP-3)\nIzvajalci: Aleksej Majkić\, 
 Peter Pipp\nProstor: Lecture hall V/2
END:VEVENT
BEGIN:VEVENT
SUMMARY:Aeromechanics and airframes (ALKP)\, Lecture exercises (VP)\, [S1]
DTSTART;TZID=Europe/Ljubljana:20260218T143000
DTEND;TZID=Europe/Ljubljana:20260218T163000
DTSTAMP:20260425T215906Z
UID:fs-AFLABS-URNIK:srecanje:16461-2026-02-18 14:30:00+01:00
DESCRIPTION:Predmet: Aeromechanics and airframes (ALKP)\, Lecture exercise
 s (VP)\, [S1]\nLetniki: Aircraft design and maintenance (PAP-2)\, Airline 
 transport pilot (PAP-2)\nIzvajalci: Peter Pipp\nProstor: Lecture hall II/3
 B
END:VEVENT
BEGIN:VEVENT
SUMMARY:Letalska navigacija 2 kolokvij
DTSTART;TZID=Europe/Ljubljana:20260114T100000
DTEND;TZID=Europe/Ljubljana:20260114T120000
DTSTAMP:20260425T215906Z
UID:fs-AFLABS-URNIK:rezervacija:13507
ATTENDEE:Airline transport pilot (PAP-3)
CATEGORIES:Reservation
COLOR:royalblue
DESCRIPTION:Predmeti: Air navigaton 2 (LN2P)\nLetniki: Airline transport p
 ilot (PAP-3)\nIzvajalci: Peter Pipp\nProstori: Lecture hall IV/3B
LOCATION:Lecture hall IV/3B
ORGANIZER:Peter Pipp
X-WR-TIMEZONE:Europe/Ljubljana
END:VEVENT
BEGIN:VEVENT
SUMMARY:Zmogljivosti letal
DTSTART;TZID=Europe/Ljubljana:20260120T130000
DTEND;TZID=Europe/Ljubljana:20260120T140000
DTSTAMP:20260425T215906Z
UID:fs-AFLABS-URNIK:rezervacija:13508
ATTENDEE:Aircraft design and maintenance (PAP-3)
ATTENDEE:Airline transport pilot (PAP-3)
CATEGORIES:Reservation
COLOR:royalblue
DESCRIPTION:Predmeti: Performance of aircraft (ZMLP)\nLetniki: Aircraft de
 sign and maintenance (PAP-3)\, Airline transport pilot (PAP-3)\nIzvajalci:
  Peter Pipp\nProstori: Lecture hall II/2
LOCATION:Lecture hall II/2
ORGANIZER:Peter Pipp
X-WR-TIMEZONE:Europe/Ljubljana
END:VEVENT
BEGIN:VEVENT
SUMMARY:Sestanek FP
DTSTART;TZID=Europe/Ljubljana:20260210T143000
DTEND;TZID=Europe/Ljubljana:20260210T163000
DTSTAMP:20260425T215906Z
UID:fs-AFLABS-URNIK:rezervacija:13702
CATEGORIES:Reservation
COLOR:royalblue
DESCRIPTION:Predmeti: \nLetniki: \nIzvajalci: Peter Pipp\nProstori: Confer
 ence room
LOCATION:Conference room
ORGANIZER:Peter Pipp
X-WR-TIMEZONE:Europe/Ljubljana
END:VEVENT
END:VCALENDAR
