BEGIN:VCALENDAR
VERSION:2.0
PRODID:-//AFLabs urnik izvoz - fs//aflabs.si//SI
NAME:UL FS Urnik
X-WR-CALNAME:UL FS Urnik
DTSTAMP:20260423T132121Z
REFRESH-INTERVAL:PT1H
SOURCE:https://urnik.fs.uni-lj.si/en/teacher/948/?day=2025-04-21&export=1
URL:https://urnik.fs.uni-lj.si/en/teacher/948/?day=2025-04-21&export=1
X-PUBLISHED-TTL:PT1H
X-WR-TIMEZONE:Europe/Ljubljana
BEGIN:VTIMEZONE
TZID:Europe/Ljubljana
BEGIN:DAYLIGHT
DTSTART:20260329T020000
RDATE:20260329T020000
RDATE:20270328T020000
TZNAME:CEST
TZOFFSETFROM:+0100
TZOFFSETTO:+0200
END:DAYLIGHT
BEGIN:STANDARD
DTSTART:20261025T030000
RDATE:20261025T030000
RDATE:20271031T030000
TZNAME:CET
TZOFFSETFROM:+0200
TZOFFSETTO:+0100
END:STANDARD
END:VTIMEZONE
BEGIN:VEVENT
SUMMARY:Sestanek LAHDE
DTSTART;TZID=Europe/Ljubljana:20250228T100000
DTEND;TZID=Europe/Ljubljana:20250228T113000
DTSTAMP:20260423T132121Z
UID:fs-AFLABS-URNIK:rezervacija:9228
CATEGORIES:Reservation
COLOR:royalblue
DESCRIPTION:Predmeti: \nLetniki: \nIzvajalci: Andrej Kitanovski\, Jakob Pe
 rne\nProstori: Conference room
LOCATION:Conference room
ORGANIZER:Andrej Kitanovski, Jakob Perne
X-WR-TIMEZONE:Europe/Ljubljana
END:VEVENT
BEGIN:VEVENT
SUMMARY:Sestanek LAHDE
DTSTART;TZID=Europe/Ljubljana:20250221T120000
DTEND;TZID=Europe/Ljubljana:20250221T140000
DTSTAMP:20260423T132121Z
UID:fs-AFLABS-URNIK:rezervacija:9308
CATEGORIES:Reservation
COLOR:royalblue
DESCRIPTION:Predmeti: \nLetniki: \nIzvajalci: Jakob Perne\nProstori: Confe
 rence room
LOCATION:Conference room
ORGANIZER:Jakob Perne
X-WR-TIMEZONE:Europe/Ljubljana
END:VEVENT
BEGIN:VEVENT
SUMMARY:sestanek LAHDE
DTSTART;TZID=Europe/Ljubljana:20250317T090000
DTEND;TZID=Europe/Ljubljana:20250317T110000
DTSTAMP:20260423T132121Z
UID:fs-AFLABS-URNIK:rezervacija:9399
CATEGORIES:Reservation
COLOR:royalblue
DESCRIPTION:Predmeti: \nLetniki: \nIzvajalci: Jakob Perne\nProstori: Confe
 rence room
LOCATION:Conference room
ORGANIZER:Jakob Perne
X-WR-TIMEZONE:Europe/Ljubljana
END:VEVENT
BEGIN:VEVENT
SUMMARY:sestanek LAHDE
DTSTART;TZID=Europe/Ljubljana:20250311T100000
DTEND;TZID=Europe/Ljubljana:20250311T113000
DTSTAMP:20260423T132121Z
UID:fs-AFLABS-URNIK:rezervacija:9498
CATEGORIES:Reservation
COLOR:royalblue
DESCRIPTION:Predmeti: \nLetniki: \nIzvajalci: Jakob Perne\nProstori: Confe
 rence room
LOCATION:Conference room
ORGANIZER:Jakob Perne
X-WR-TIMEZONE:Europe/Ljubljana
END:VEVENT
BEGIN:VEVENT
SUMMARY:Lahde
DTSTART;TZID=Europe/Ljubljana:20250328T103000
DTEND;TZID=Europe/Ljubljana:20250328T123000
DTSTAMP:20260423T132121Z
UID:fs-AFLABS-URNIK:rezervacija:9739
CATEGORIES:Reservation
COLOR:royalblue
DESCRIPTION:Predmeti: \nLetniki: \nIzvajalci: Jakob Perne\nProstori: Confe
 rence room
LOCATION:Conference room
ORGANIZER:Jakob Perne
X-WR-TIMEZONE:Europe/Ljubljana
END:VEVENT
BEGIN:VEVENT
SUMMARY:LAHDE
DTSTART;TZID=Europe/Ljubljana:20250404T110000
DTEND;TZID=Europe/Ljubljana:20250404T120000
DTSTAMP:20260423T132121Z
UID:fs-AFLABS-URNIK:rezervacija:9763
CATEGORIES:Reservation
COLOR:royalblue
DESCRIPTION:Predmeti: \nLetniki: \nIzvajalci: Jakob Perne\nProstori: Confe
 rence room
LOCATION:Conference room
ORGANIZER:Jakob Perne
X-WR-TIMEZONE:Europe/Ljubljana
END:VEVENT
BEGIN:VEVENT
SUMMARY:LAHDE
DTSTART;TZID=Europe/Ljubljana:20250418T100000
DTEND;TZID=Europe/Ljubljana:20250418T140000
DTSTAMP:20260423T132121Z
UID:fs-AFLABS-URNIK:rezervacija:9916
CATEGORIES:Reservation
COLOR:royalblue
DESCRIPTION:Predmeti: \nLetniki: \nIzvajalci: Jakob Perne\nProstori: Confe
 rence room
LOCATION:Conference room
ORGANIZER:Jakob Perne
X-WR-TIMEZONE:Europe/Ljubljana
END:VEVENT
BEGIN:VEVENT
SUMMARY:LAHDE
DTSTART;TZID=Europe/Ljubljana:20250425T120000
DTEND;TZID=Europe/Ljubljana:20250425T133000
DTSTAMP:20260423T132121Z
UID:fs-AFLABS-URNIK:rezervacija:9945
CATEGORIES:Reservation
COLOR:royalblue
DESCRIPTION:Predmeti: \nLetniki: \nIzvajalci: Jakob Perne\nProstori: Confe
 rence room
LOCATION:Conference room
ORGANIZER:Jakob Perne
X-WR-TIMEZONE:Europe/Ljubljana
END:VEVENT
BEGIN:VEVENT
SUMMARY:LAHDE
DTSTART;TZID=Europe/Ljubljana:20250530T120000
DTEND;TZID=Europe/Ljubljana:20250530T133000
DTSTAMP:20260423T132121Z
UID:fs-AFLABS-URNIK:rezervacija:9946
CATEGORIES:Reservation
COLOR:royalblue
DESCRIPTION:Predmeti: \nLetniki: \nIzvajalci: Jakob Perne\nProstori: Confe
 rence room
LOCATION:Conference room
ORGANIZER:Jakob Perne
X-WR-TIMEZONE:Europe/Ljubljana
END:VEVENT
BEGIN:VEVENT
SUMMARY:LAHDE
DTSTART;TZID=Europe/Ljubljana:20250509T110000
DTEND;TZID=Europe/Ljubljana:20250509T123000
DTSTAMP:20260423T132121Z
UID:fs-AFLABS-URNIK:rezervacija:10029
CATEGORIES:Reservation
COLOR:royalblue
DESCRIPTION:Predmeti: \nLetniki: \nIzvajalci: Jakob Perne\nProstori: Confe
 rence room
LOCATION:Conference room
ORGANIZER:Jakob Perne
X-WR-TIMEZONE:Europe/Ljubljana
END:VEVENT
BEGIN:VEVENT
SUMMARY:Laboratorijske vaje
DTSTART;TZID=Europe/Ljubljana:20250513T120000
DTEND;TZID=Europe/Ljubljana:20250513T140000
DTSTAMP:20260423T132121Z
UID:fs-AFLABS-URNIK:rezervacija:10060
ATTENDEE:Process engineering (PAP-2)
CATEGORIES:Reservation
COLOR:royalblue
DESCRIPTION:Predmeti: Refrigeration and heat pumps - PAP (HTTP)\nLetniki: 
 Process engineering (PAP-2)\nIzvajalci: Jakob Perne\nProstori: Lecture hal
 l II/3B
LOCATION:Lecture hall II/3B
ORGANIZER:Jakob Perne
X-WR-TIMEZONE:Europe/Ljubljana
END:VEVENT
BEGIN:VEVENT
SUMMARY:Laborarorijske vaje
DTSTART;TZID=Europe/Ljubljana:20250513T140000
DTEND;TZID=Europe/Ljubljana:20250513T160000
DTSTAMP:20260423T132121Z
UID:fs-AFLABS-URNIK:rezervacija:10061
ATTENDEE:Process engineering (PAP-2)
CATEGORIES:Reservation
COLOR:royalblue
DESCRIPTION:Predmeti: Refrigeration and heat pumps - PAP (HTTP)\nLetniki: 
 Process engineering (PAP-2)\nIzvajalci: Jakob Perne\nProstori: Lecture hal
 l II/3B
LOCATION:Lecture hall II/3B
ORGANIZER:Jakob Perne
X-WR-TIMEZONE:Europe/Ljubljana
END:VEVENT
BEGIN:VEVENT
SUMMARY:Primopredaja dela dr. Oumayma Chdil
DTSTART;TZID=Europe/Ljubljana:20250515T130000
DTEND;TZID=Europe/Ljubljana:20250515T143000
DTSTAMP:20260423T132121Z
UID:fs-AFLABS-URNIK:rezervacija:10079
CATEGORIES:Reservation
COLOR:royalblue
DESCRIPTION:Predmeti: \nLetniki: \nIzvajalci: Stella Cavalleri\, Oumayma C
 hdil\, Darja Gačnik\, Jakob Perne\nProstori: Conference room
LOCATION:Conference room
ORGANIZER:Stella Cavalleri, Oumayma Chdil, Darja Gačnik, Jakob Perne
X-WR-TIMEZONE:Europe/Ljubljana
END:VEVENT
END:VCALENDAR
