BEGIN:VCALENDAR
VERSION:2.0
PRODID:-//AFLabs urnik izvoz - fs//aflabs.si//SI
NAME:UL FS Urnik
X-WR-CALNAME:UL FS Urnik
DTSTAMP:20260423T201910Z
REFRESH-INTERVAL:PT1H
SOURCE:https://urnik.fs.uni-lj.si/en/teacher/948/?day=2026-01-19&export=1
URL:https://urnik.fs.uni-lj.si/en/teacher/948/?day=2026-01-19&export=1
X-PUBLISHED-TTL:PT1H
X-WR-TIMEZONE:Europe/Ljubljana
BEGIN:VTIMEZONE
TZID:Europe/Ljubljana
BEGIN:DAYLIGHT
DTSTART:20260329T020000
RDATE:20260329T020000
RDATE:20270328T020000
TZNAME:CEST
TZOFFSETFROM:+0100
TZOFFSETTO:+0200
END:DAYLIGHT
BEGIN:STANDARD
DTSTART:20261025T030000
RDATE:20261025T030000
RDATE:20271031T030000
TZNAME:CET
TZOFFSETFROM:+0200
TZOFFSETTO:+0100
END:STANDARD
END:VTIMEZONE
BEGIN:VEVENT
SUMMARY:Heat and mass transfer (PTSP)\, Laboratory excercises (VL)\, [S4]
DTSTART;TZID=Europe/Ljubljana:20251215T093000
DTEND;TZID=Europe/Ljubljana:20251215T113000
DTSTAMP:20260423T201910Z
UID:fs-AFLABS-URNIK:srecanje:15778-2025-12-15 09:30:00+01:00
DESCRIPTION:Predmet: Heat and mass transfer (PTSP)\, Laboratory excercises
  (VL)\, [S4]\nLetniki: Aircraft design and maintenance (PAP-2)\, Airline t
 ransport pilot (PAP-2)\, Design of machines and devices (PAP-2)\, Energy e
 ngineering (PAP-2)\, Mechatronics (PAP-2)\, Process engineering (PAP-2)\, 
 Production engineering (PAP-2)\, Production technologies (PAP-2)\, Konstru
 iranje strojev in naprav (PAP-2)\nIzvajalci: Katja Klinar\, Jakob Perne\, 
 Urban Tomc\, Blaž Velkavrh\, Katja Vozel\nProstor: Laboratory LAHDE K-1A-
 II
END:VEVENT
BEGIN:VEVENT
SUMMARY:Heat and mass transfer (PTSP)\, Laboratory excercises (VL)\, [S4]
DTSTART;TZID=Europe/Ljubljana:20260105T093000
DTEND;TZID=Europe/Ljubljana:20260105T113000
DTSTAMP:20260423T201910Z
UID:fs-AFLABS-URNIK:srecanje:15778-2026-01-05 09:30:00+01:00
DESCRIPTION:Predmet: Heat and mass transfer (PTSP)\, Laboratory excercises
  (VL)\, [S4]\nLetniki: Aircraft design and maintenance (PAP-2)\, Airline t
 ransport pilot (PAP-2)\, Design of machines and devices (PAP-2)\, Energy e
 ngineering (PAP-2)\, Mechatronics (PAP-2)\, Process engineering (PAP-2)\, 
 Production engineering (PAP-2)\, Production technologies (PAP-2)\, Konstru
 iranje strojev in naprav (PAP-2)\nIzvajalci: Katja Klinar\, Jakob Perne\, 
 Urban Tomc\, Blaž Velkavrh\, Katja Vozel\nProstor: Laboratory LAHDE K-1A-
 II
END:VEVENT
BEGIN:VEVENT
SUMMARY:Heat and mass transfer (PTSP)\, Laboratory excercises (VL)\, [S16]
DTSTART;TZID=Europe/Ljubljana:20251215T133000
DTEND;TZID=Europe/Ljubljana:20251215T153000
DTSTAMP:20260423T201910Z
UID:fs-AFLABS-URNIK:srecanje:15780-2025-12-15 13:30:00+01:00
DESCRIPTION:Predmet: Heat and mass transfer (PTSP)\, Laboratory excercises
  (VL)\, [S16]\nLetniki: Aircraft design and maintenance (PAP-2)\, Airline 
 transport pilot (PAP-2)\, Design of machines and devices (PAP-2)\, Energy 
 engineering (PAP-2)\, Mechatronics (PAP-2)\, Process engineering (PAP-2)\,
  Production engineering (PAP-2)\, Production technologies (PAP-2)\, Konstr
 uiranje strojev in naprav (PAP-2)\nIzvajalci: Jakob Perne\, Urban Tomc\, B
 laž Velkavrh\, Katja Vozel\nProstor: Laboratory LAHDE K-1A-II
END:VEVENT
BEGIN:VEVENT
SUMMARY:Heat and mass transfer (PTSP)\, Laboratory excercises (VL)\, [S16]
DTSTART;TZID=Europe/Ljubljana:20260105T133000
DTEND;TZID=Europe/Ljubljana:20260105T153000
DTSTAMP:20260423T201910Z
UID:fs-AFLABS-URNIK:srecanje:15780-2026-01-05 13:30:00+01:00
DESCRIPTION:Predmet: Heat and mass transfer (PTSP)\, Laboratory excercises
  (VL)\, [S16]\nLetniki: Aircraft design and maintenance (PAP-2)\, Airline 
 transport pilot (PAP-2)\, Design of machines and devices (PAP-2)\, Energy 
 engineering (PAP-2)\, Mechatronics (PAP-2)\, Process engineering (PAP-2)\,
  Production engineering (PAP-2)\, Production technologies (PAP-2)\, Konstr
 uiranje strojev in naprav (PAP-2)\nIzvajalci: Jakob Perne\, Urban Tomc\, B
 laž Velkavrh\, Katja Vozel\nProstor: Laboratory LAHDE K-1A-II
END:VEVENT
BEGIN:VEVENT
SUMMARY:Heat and mass transfer (PTSP)\, Laboratory excercises (VL)\, [S9]
DTSTART;TZID=Europe/Ljubljana:20251218T133000
DTEND;TZID=Europe/Ljubljana:20251218T150000
DTSTAMP:20260423T201910Z
UID:fs-AFLABS-URNIK:srecanje:15784-2025-12-18 13:30:00+01:00
DESCRIPTION:Predmet: Heat and mass transfer (PTSP)\, Laboratory excercises
  (VL)\, [S9]\nLetniki: Aircraft design and maintenance (PAP-2)\, Airline t
 ransport pilot (PAP-2)\, Design of machines and devices (PAP-2)\, Energy e
 ngineering (PAP-2)\, Mechatronics (PAP-2)\, Process engineering (PAP-2)\, 
 Production engineering (PAP-2)\, Production technologies (PAP-2)\, Konstru
 iranje strojev in naprav (PAP-2)\nIzvajalci: Katja Klinar\, Jakob Perne\, 
 Urban Tomc\, Blaž Velkavrh\, Katja Vozel\nProstor: Laboratory LAHDE K-1A-
 II
END:VEVENT
BEGIN:VEVENT
SUMMARY:Heat and mass transfer (PTSP)\, Laboratory excercises (VL)\, [S9]
DTSTART;TZID=Europe/Ljubljana:20260108T133000
DTEND;TZID=Europe/Ljubljana:20260108T150000
DTSTAMP:20260423T201910Z
UID:fs-AFLABS-URNIK:srecanje:15784-2026-01-08 13:30:00+01:00
DESCRIPTION:Predmet: Heat and mass transfer (PTSP)\, Laboratory excercises
  (VL)\, [S9]\nLetniki: Aircraft design and maintenance (PAP-2)\, Airline t
 ransport pilot (PAP-2)\, Design of machines and devices (PAP-2)\, Energy e
 ngineering (PAP-2)\, Mechatronics (PAP-2)\, Process engineering (PAP-2)\, 
 Production engineering (PAP-2)\, Production technologies (PAP-2)\, Konstru
 iranje strojev in naprav (PAP-2)\nIzvajalci: Katja Klinar\, Jakob Perne\, 
 Urban Tomc\, Blaž Velkavrh\, Katja Vozel\nProstor: Laboratory LAHDE K-1A-
 II
END:VEVENT
BEGIN:VEVENT
SUMMARY:Heat and mass transfer (PTSP)\, Laboratory excercises (VL)\, [S15]
DTSTART;TZID=Europe/Ljubljana:20251218T153000
DTEND;TZID=Europe/Ljubljana:20251218T170000
DTSTAMP:20260423T201910Z
UID:fs-AFLABS-URNIK:srecanje:15786-2025-12-18 15:30:00+01:00
DESCRIPTION:Predmet: Heat and mass transfer (PTSP)\, Laboratory excercises
  (VL)\, [S15]\nLetniki: Aircraft design and maintenance (PAP-2)\, Airline 
 transport pilot (PAP-2)\, Design of machines and devices (PAP-2)\, Energy 
 engineering (PAP-2)\, Mechatronics (PAP-2)\, Process engineering (PAP-2)\,
  Production engineering (PAP-2)\, Production technologies (PAP-2)\, Konstr
 uiranje strojev in naprav (PAP-2)\nIzvajalci: Katja Klinar\, Jakob Perne\,
  Urban Tomc\, Blaž Velkavrh\, Katja Vozel\nProstor: Laboratory LAHDE K-1A
 -II
END:VEVENT
BEGIN:VEVENT
SUMMARY:Heat and mass transfer (PTSP)\, Laboratory excercises (VL)\, [S15]
DTSTART;TZID=Europe/Ljubljana:20260108T153000
DTEND;TZID=Europe/Ljubljana:20260108T170000
DTSTAMP:20260423T201910Z
UID:fs-AFLABS-URNIK:srecanje:15786-2026-01-08 15:30:00+01:00
DESCRIPTION:Predmet: Heat and mass transfer (PTSP)\, Laboratory excercises
  (VL)\, [S15]\nLetniki: Aircraft design and maintenance (PAP-2)\, Airline 
 transport pilot (PAP-2)\, Design of machines and devices (PAP-2)\, Energy 
 engineering (PAP-2)\, Mechatronics (PAP-2)\, Process engineering (PAP-2)\,
  Production engineering (PAP-2)\, Production technologies (PAP-2)\, Konstr
 uiranje strojev in naprav (PAP-2)\nIzvajalci: Katja Klinar\, Jakob Perne\,
  Urban Tomc\, Blaž Velkavrh\, Katja Vozel\nProstor: Laboratory LAHDE K-1A
 -II
END:VEVENT
BEGIN:VEVENT
SUMMARY:Heat and mass transfer (PTSP)\, Laboratory excercises (VL)\, [S12]
DTSTART;TZID=Europe/Ljubljana:20251219T133000
DTEND;TZID=Europe/Ljubljana:20251219T150000
DTSTAMP:20260423T201910Z
UID:fs-AFLABS-URNIK:srecanje:15776-2025-12-19 13:30:00+01:00
DESCRIPTION:Predmet: Heat and mass transfer (PTSP)\, Laboratory excercises
  (VL)\, [S12]\nLetniki: Aircraft design and maintenance (PAP-2)\, Airline 
 transport pilot (PAP-2)\, Design of machines and devices (PAP-2)\, Energy 
 engineering (PAP-2)\, Mechatronics (PAP-2)\, Process engineering (PAP-2)\,
  Production engineering (PAP-2)\, Production technologies (PAP-2)\, Konstr
 uiranje strojev in naprav (PAP-2)\nIzvajalci: Katja Klinar\, Jakob Perne\,
  Urban Tomc\, Blaž Velkavrh\, Katja Vozel\nProstor: Laboratory LAHDE K-1A
 -II
END:VEVENT
BEGIN:VEVENT
SUMMARY:Heat and mass transfer (PTSP)\, Laboratory excercises (VL)\, [S12]
DTSTART;TZID=Europe/Ljubljana:20260109T133000
DTEND;TZID=Europe/Ljubljana:20260109T150000
DTSTAMP:20260423T201910Z
UID:fs-AFLABS-URNIK:srecanje:15776-2026-01-09 13:30:00+01:00
DESCRIPTION:Predmet: Heat and mass transfer (PTSP)\, Laboratory excercises
  (VL)\, [S12]\nLetniki: Aircraft design and maintenance (PAP-2)\, Airline 
 transport pilot (PAP-2)\, Design of machines and devices (PAP-2)\, Energy 
 engineering (PAP-2)\, Mechatronics (PAP-2)\, Process engineering (PAP-2)\,
  Production engineering (PAP-2)\, Production technologies (PAP-2)\, Konstr
 uiranje strojev in naprav (PAP-2)\nIzvajalci: Katja Klinar\, Jakob Perne\,
  Urban Tomc\, Blaž Velkavrh\, Katja Vozel\nProstor: Laboratory LAHDE K-1A
 -II
END:VEVENT
BEGIN:VEVENT
SUMMARY:Heat and mass transfer (PTSP)\, Laboratory excercises (VL)\, [S6]
DTSTART;TZID=Europe/Ljubljana:20251219T100000
DTEND;TZID=Europe/Ljubljana:20251219T120000
DTSTAMP:20260423T201910Z
UID:fs-AFLABS-URNIK:srecanje:15788-2025-12-19 10:00:00+01:00
DESCRIPTION:Predmet: Heat and mass transfer (PTSP)\, Laboratory excercises
  (VL)\, [S6]\nLetniki: Aircraft design and maintenance (PAP-2)\, Airline t
 ransport pilot (PAP-2)\, Design of machines and devices (PAP-2)\, Energy e
 ngineering (PAP-2)\, Mechatronics (PAP-2)\, Process engineering (PAP-2)\, 
 Production engineering (PAP-2)\, Production technologies (PAP-2)\, Konstru
 iranje strojev in naprav (PAP-2)\nIzvajalci: Katja Klinar\, Jakob Perne\, 
 Urban Tomc\, Blaž Velkavrh\, Katja Vozel\nProstor: Laboratory LAHDE K-1A-
 II
END:VEVENT
BEGIN:VEVENT
SUMMARY:Heat and mass transfer (PTSP)\, Laboratory excercises (VL)\, [S6]
DTSTART;TZID=Europe/Ljubljana:20260109T100000
DTEND;TZID=Europe/Ljubljana:20260109T120000
DTSTAMP:20260423T201910Z
UID:fs-AFLABS-URNIK:srecanje:15788-2026-01-09 10:00:00+01:00
DESCRIPTION:Predmet: Heat and mass transfer (PTSP)\, Laboratory excercises
  (VL)\, [S6]\nLetniki: Aircraft design and maintenance (PAP-2)\, Airline t
 ransport pilot (PAP-2)\, Design of machines and devices (PAP-2)\, Energy e
 ngineering (PAP-2)\, Mechatronics (PAP-2)\, Process engineering (PAP-2)\, 
 Production engineering (PAP-2)\, Production technologies (PAP-2)\, Konstru
 iranje strojev in naprav (PAP-2)\nIzvajalci: Katja Klinar\, Jakob Perne\, 
 Urban Tomc\, Blaž Velkavrh\, Katja Vozel\nProstor: Laboratory LAHDE K-1A-
 II
END:VEVENT
BEGIN:VEVENT
SUMMARY:Heat and mass transfer (PTSP)\, Laboratory excercises (VL)\, [S11]
DTSTART;TZID=Europe/Ljubljana:20251219T120000
DTEND;TZID=Europe/Ljubljana:20251219T133000
DTSTAMP:20260423T201910Z
UID:fs-AFLABS-URNIK:srecanje:15790-2025-12-19 12:00:00+01:00
DESCRIPTION:Predmet: Heat and mass transfer (PTSP)\, Laboratory excercises
  (VL)\, [S11]\nLetniki: Aircraft design and maintenance (PAP-2)\, Airline 
 transport pilot (PAP-2)\, Design of machines and devices (PAP-2)\, Energy 
 engineering (PAP-2)\, Mechatronics (PAP-2)\, Process engineering (PAP-2)\,
  Production engineering (PAP-2)\, Production technologies (PAP-2)\, Konstr
 uiranje strojev in naprav (PAP-2)\nIzvajalci: Katja Klinar\, Jakob Perne\,
  Urban Tomc\, Blaž Velkavrh\, Katja Vozel\nProstor: Laboratory LAHDE K-1A
 -II
END:VEVENT
BEGIN:VEVENT
SUMMARY:Heat and mass transfer (PTSP)\, Laboratory excercises (VL)\, [S11]
DTSTART;TZID=Europe/Ljubljana:20260109T120000
DTEND;TZID=Europe/Ljubljana:20260109T133000
DTSTAMP:20260423T201910Z
UID:fs-AFLABS-URNIK:srecanje:15790-2026-01-09 12:00:00+01:00
DESCRIPTION:Predmet: Heat and mass transfer (PTSP)\, Laboratory excercises
  (VL)\, [S11]\nLetniki: Aircraft design and maintenance (PAP-2)\, Airline 
 transport pilot (PAP-2)\, Design of machines and devices (PAP-2)\, Energy 
 engineering (PAP-2)\, Mechatronics (PAP-2)\, Process engineering (PAP-2)\,
  Production engineering (PAP-2)\, Production technologies (PAP-2)\, Konstr
 uiranje strojev in naprav (PAP-2)\nIzvajalci: Katja Klinar\, Jakob Perne\,
  Urban Tomc\, Blaž Velkavrh\, Katja Vozel\nProstor: Laboratory LAHDE K-1A
 -II
END:VEVENT
BEGIN:VEVENT
SUMMARY:Heat and mass transfer (PTSP)\, Laboratory excercises (VL)\, [S3]
DTSTART;TZID=Europe/Ljubljana:20251222T093000
DTEND;TZID=Europe/Ljubljana:20251222T113000
DTSTAMP:20260423T201910Z
UID:fs-AFLABS-URNIK:srecanje:15777-2025-12-22 09:30:00+01:00
DESCRIPTION:Predmet: Heat and mass transfer (PTSP)\, Laboratory excercises
  (VL)\, [S3]\nLetniki: Aircraft design and maintenance (PAP-2)\, Airline t
 ransport pilot (PAP-2)\, Design of machines and devices (PAP-2)\, Energy e
 ngineering (PAP-2)\, Mechatronics (PAP-2)\, Process engineering (PAP-2)\, 
 Production engineering (PAP-2)\, Production technologies (PAP-2)\, Konstru
 iranje strojev in naprav (PAP-2)\nIzvajalci: Katja Klinar\, Jakob Perne\, 
 Urban Tomc\, Blaž Velkavrh\, Katja Vozel\nProstor: Laboratory LAHDE K-1A-
 II
END:VEVENT
BEGIN:VEVENT
SUMMARY:Heat and mass transfer (PTSP)\, Laboratory excercises (VL)\, [S13]
DTSTART;TZID=Europe/Ljubljana:20251222T133000
DTEND;TZID=Europe/Ljubljana:20251222T153000
DTSTAMP:20260423T201910Z
UID:fs-AFLABS-URNIK:srecanje:15779-2025-12-22 13:30:00+01:00
DESCRIPTION:Predmet: Heat and mass transfer (PTSP)\, Laboratory excercises
  (VL)\, [S13]\nLetniki: Aircraft design and maintenance (PAP-2)\, Airline 
 transport pilot (PAP-2)\, Design of machines and devices (PAP-2)\, Energy 
 engineering (PAP-2)\, Mechatronics (PAP-2)\, Process engineering (PAP-2)\,
  Production engineering (PAP-2)\, Production technologies (PAP-2)\, Konstr
 uiranje strojev in naprav (PAP-2)\nIzvajalci: Jakob Perne\, Urban Tomc\, B
 laž Velkavrh\, Katja Vozel\nProstor: Laboratory LAHDE K-1A-II
END:VEVENT
BEGIN:VEVENT
SUMMARY:Heat and mass transfer (PTSP)\, Laboratory excercises (VL)\, [S8]
DTSTART;TZID=Europe/Ljubljana:20251222T120000
DTEND;TZID=Europe/Ljubljana:20251222T133000
DTSTAMP:20260423T201910Z
UID:fs-AFLABS-URNIK:srecanje:15781-2025-12-22 12:00:00+01:00
DESCRIPTION:Predmet: Heat and mass transfer (PTSP)\, Laboratory excercises
  (VL)\, [S8]\nLetniki: Aircraft design and maintenance (PAP-2)\, Airline t
 ransport pilot (PAP-2)\, Design of machines and devices (PAP-2)\, Energy e
 ngineering (PAP-2)\, Mechatronics (PAP-2)\, Process engineering (PAP-2)\, 
 Production engineering (PAP-2)\, Production technologies (PAP-2)\, Konstru
 iranje strojev in naprav (PAP-2)\nIzvajalci: Jakob Perne\, Urban Tomc\, Bl
 až Velkavrh\, Katja Vozel\nProstor: Laboratory LAHDE K-1A-II
END:VEVENT
BEGIN:VEVENT
SUMMARY:Heat and mass transfer (PTSP)\, Laboratory excercises (VL)\, [S14]
DTSTART;TZID=Europe/Ljubljana:20251223T140000
DTEND;TZID=Europe/Ljubljana:20251223T153000
DTSTAMP:20260423T201910Z
UID:fs-AFLABS-URNIK:srecanje:15775-2025-12-23 14:00:00+01:00
DESCRIPTION:Predmet: Heat and mass transfer (PTSP)\, Laboratory excercises
  (VL)\, [S14]\nLetniki: Aircraft design and maintenance (PAP-2)\, Airline 
 transport pilot (PAP-2)\, Design of machines and devices (PAP-2)\, Energy 
 engineering (PAP-2)\, Mechatronics (PAP-2)\, Process engineering (PAP-2)\,
  Production engineering (PAP-2)\, Production technologies (PAP-2)\, Konstr
 uiranje strojev in naprav (PAP-2)\nIzvajalci: Katja Klinar\, Jakob Perne\,
  Urban Tomc\, Blaž Velkavrh\, Katja Vozel\nProstor: Laboratory LAHDE K-1A
 -II
END:VEVENT
BEGIN:VEVENT
SUMMARY:Heat and mass transfer (PTSP)\, Laboratory excercises (VL)\, [S7]
DTSTART;TZID=Europe/Ljubljana:20251225T133000
DTEND;TZID=Europe/Ljubljana:20251225T150000
DTSTAMP:20260423T201910Z
UID:fs-AFLABS-URNIK:srecanje:15783-2025-12-25 13:30:00+01:00
DESCRIPTION:Predmet: Heat and mass transfer (PTSP)\, Laboratory excercises
  (VL)\, [S7]\nLetniki: Aircraft design and maintenance (PAP-2)\, Airline t
 ransport pilot (PAP-2)\, Design of machines and devices (PAP-2)\, Energy e
 ngineering (PAP-2)\, Mechatronics (PAP-2)\, Process engineering (PAP-2)\, 
 Production engineering (PAP-2)\, Production technologies (PAP-2)\, Konstru
 iranje strojev in naprav (PAP-2)\nIzvajalci: Katja Klinar\, Jakob Perne\, 
 Urban Tomc\, Blaž Velkavrh\, Katja Vozel\nProstor: Laboratory LAHDE K-1A-
 II
END:VEVENT
BEGIN:VEVENT
SUMMARY:Heat and mass transfer (PTSP)\, Laboratory excercises (VL)\, [S2]
DTSTART;TZID=Europe/Ljubljana:20251225T153000
DTEND;TZID=Europe/Ljubljana:20251225T170000
DTSTAMP:20260423T201910Z
UID:fs-AFLABS-URNIK:srecanje:15785-2025-12-25 15:30:00+01:00
DESCRIPTION:Predmet: Heat and mass transfer (PTSP)\, Laboratory excercises
  (VL)\, [S2]\nLetniki: Aircraft design and maintenance (PAP-2)\, Airline t
 ransport pilot (PAP-2)\, Design of machines and devices (PAP-2)\, Energy e
 ngineering (PAP-2)\, Mechatronics (PAP-2)\, Process engineering (PAP-2)\, 
 Production engineering (PAP-2)\, Production technologies (PAP-2)\, Konstru
 iranje strojev in naprav (PAP-2)\nIzvajalci: Katja Klinar\, Jakob Perne\, 
 Urban Tomc\, Blaž Velkavrh\, Katja Vozel\nProstor: Laboratory LAHDE K-1A-
 II
END:VEVENT
BEGIN:VEVENT
SUMMARY:Heat and mass transfer (PTSP)\, Laboratory excercises (VL)\, [S1]
DTSTART;TZID=Europe/Ljubljana:20260119T133000
DTEND;TZID=Europe/Ljubljana:20260119T150000
DTSTAMP:20260423T201910Z
UID:fs-AFLABS-URNIK:premaknjeno-srecanje:113200
ATTENDEE:Aircraft design and maintenance (PAP-2)
ATTENDEE:Airline transport pilot (PAP-2)
ATTENDEE:Design of machines and devices (PAP-2)
ATTENDEE:Energy engineering (PAP-2)
ATTENDEE:Konstruiranje strojev in naprav (PAP-2)
ATTENDEE:Mechatronics (PAP-2)
ATTENDEE:Process engineering (PAP-2)
ATTENDEE:Production engineering (PAP-2)
ATTENDEE:Production technologies (PAP-2)
CATEGORIES:Entry,Special
COLOR:forestgreen
DESCRIPTION:Predmet: Heat and mass transfer (PTSP)\, Laboratory excercises
  (VL)\, [S1]\nLetniki: Aircraft design and maintenance (PAP-2)\, Airline t
 ransport pilot (PAP-2)\, Design of machines and devices (PAP-2)\, Energy e
 ngineering (PAP-2)\, Mechatronics (PAP-2)\, Process engineering (PAP-2)\, 
 Production engineering (PAP-2)\, Production technologies (PAP-2)\, Konstru
 iranje strojev in naprav (PAP-2)\nIzvajalci: Katja Klinar\, Jakob Perne\, 
 Urban Tomc\, Blaž Velkavrh\, Katja Vozel\nProstor: Laboratory LAHDE K-1A-
 II
LOCATION:Laboratory LAHDE K-1A-II
ORGANIZER:Katja Klinar, Jakob Perne, Urban Tomc, Blaž Velkavrh, Katja Voz
 el
RELATED-TO:fs-AFLABS-URNIK:srecanje:15782
X-WR-TIMEZONE:Europe/Ljubljana
END:VEVENT
BEGIN:VEVENT
SUMMARY:Heat and mass transfer (PTSP)\, Laboratory excercises (VL)\, [S1]
DTSTART;TZID=Europe/Ljubljana:20251226T133000
DTEND;TZID=Europe/Ljubljana:20251226T150000
DTSTAMP:20260423T201910Z
UID:fs-AFLABS-URNIK:srecanje:15782-2025-12-26 13:30:00+01:00
DESCRIPTION:Predmet: Heat and mass transfer (PTSP)\, Laboratory excercises
  (VL)\, [S1]\nLetniki: Aircraft design and maintenance (PAP-2)\, Airline t
 ransport pilot (PAP-2)\, Design of machines and devices (PAP-2)\, Energy e
 ngineering (PAP-2)\, Mechatronics (PAP-2)\, Process engineering (PAP-2)\, 
 Production engineering (PAP-2)\, Production technologies (PAP-2)\, Konstru
 iranje strojev in naprav (PAP-2)\nIzvajalci: Katja Klinar\, Jakob Perne\, 
 Urban Tomc\, Blaž Velkavrh\, Katja Vozel\nProstor: Laboratory LAHDE K-1A-
 II
END:VEVENT
BEGIN:VEVENT
SUMMARY:Heat and mass transfer (PTSP)\, Laboratory excercises (VL)\, [S5]
DTSTART;TZID=Europe/Ljubljana:20260119T100000
DTEND;TZID=Europe/Ljubljana:20260119T120000
DTSTAMP:20260423T201910Z
UID:fs-AFLABS-URNIK:premaknjeno-srecanje:113235
ATTENDEE:Aircraft design and maintenance (PAP-2)
ATTENDEE:Airline transport pilot (PAP-2)
ATTENDEE:Design of machines and devices (PAP-2)
ATTENDEE:Energy engineering (PAP-2)
ATTENDEE:Konstruiranje strojev in naprav (PAP-2)
ATTENDEE:Mechatronics (PAP-2)
ATTENDEE:Process engineering (PAP-2)
ATTENDEE:Production engineering (PAP-2)
ATTENDEE:Production technologies (PAP-2)
CATEGORIES:Entry,Special
COLOR:forestgreen
DESCRIPTION:Predmet: Heat and mass transfer (PTSP)\, Laboratory excercises
  (VL)\, [S5]\nLetniki: Aircraft design and maintenance (PAP-2)\, Airline t
 ransport pilot (PAP-2)\, Design of machines and devices (PAP-2)\, Energy e
 ngineering (PAP-2)\, Mechatronics (PAP-2)\, Process engineering (PAP-2)\, 
 Production engineering (PAP-2)\, Production technologies (PAP-2)\, Konstru
 iranje strojev in naprav (PAP-2)\nIzvajalci: Katja Klinar\, Jakob Perne\, 
 Urban Tomc\, Blaž Velkavrh\, Katja Vozel\nProstor: Laboratory LAHDE K-1A-
 II
LOCATION:Laboratory LAHDE K-1A-II
ORGANIZER:Katja Klinar, Jakob Perne, Urban Tomc, Blaž Velkavrh, Katja Voz
 el
RELATED-TO:fs-AFLABS-URNIK:srecanje:15787
X-WR-TIMEZONE:Europe/Ljubljana
END:VEVENT
BEGIN:VEVENT
SUMMARY:Heat and mass transfer (PTSP)\, Laboratory excercises (VL)\, [S5]
DTSTART;TZID=Europe/Ljubljana:20251226T100000
DTEND;TZID=Europe/Ljubljana:20251226T120000
DTSTAMP:20260423T201910Z
UID:fs-AFLABS-URNIK:srecanje:15787-2025-12-26 10:00:00+01:00
DESCRIPTION:Predmet: Heat and mass transfer (PTSP)\, Laboratory excercises
  (VL)\, [S5]\nLetniki: Aircraft design and maintenance (PAP-2)\, Airline t
 ransport pilot (PAP-2)\, Design of machines and devices (PAP-2)\, Energy e
 ngineering (PAP-2)\, Mechatronics (PAP-2)\, Process engineering (PAP-2)\, 
 Production engineering (PAP-2)\, Production technologies (PAP-2)\, Konstru
 iranje strojev in naprav (PAP-2)\nIzvajalci: Katja Klinar\, Jakob Perne\, 
 Urban Tomc\, Blaž Velkavrh\, Katja Vozel\nProstor: Laboratory LAHDE K-1A-
 II
END:VEVENT
BEGIN:VEVENT
SUMMARY:Heat and mass transfer (PTSP)\, Laboratory excercises (VL)\, [S10]
DTSTART;TZID=Europe/Ljubljana:20260119T120000
DTEND;TZID=Europe/Ljubljana:20260119T133000
DTSTAMP:20260423T201910Z
UID:fs-AFLABS-URNIK:premaknjeno-srecanje:113249
ATTENDEE:Aircraft design and maintenance (PAP-2)
ATTENDEE:Airline transport pilot (PAP-2)
ATTENDEE:Design of machines and devices (PAP-2)
ATTENDEE:Energy engineering (PAP-2)
ATTENDEE:Konstruiranje strojev in naprav (PAP-2)
ATTENDEE:Mechatronics (PAP-2)
ATTENDEE:Process engineering (PAP-2)
ATTENDEE:Production engineering (PAP-2)
ATTENDEE:Production technologies (PAP-2)
CATEGORIES:Entry,Special
COLOR:forestgreen
DESCRIPTION:Predmet: Heat and mass transfer (PTSP)\, Laboratory excercises
  (VL)\, [S10]\nLetniki: Aircraft design and maintenance (PAP-2)\, Airline 
 transport pilot (PAP-2)\, Design of machines and devices (PAP-2)\, Energy 
 engineering (PAP-2)\, Mechatronics (PAP-2)\, Process engineering (PAP-2)\,
  Production engineering (PAP-2)\, Production technologies (PAP-2)\, Konstr
 uiranje strojev in naprav (PAP-2)\nIzvajalci: Katja Klinar\, Jakob Perne\,
  Urban Tomc\, Blaž Velkavrh\, Katja Vozel\nProstor: Laboratory LAHDE K-1A
 -II
LOCATION:Laboratory LAHDE K-1A-II
ORGANIZER:Katja Klinar, Jakob Perne, Urban Tomc, Blaž Velkavrh, Katja Voz
 el
RELATED-TO:fs-AFLABS-URNIK:srecanje:15789
X-WR-TIMEZONE:Europe/Ljubljana
END:VEVENT
BEGIN:VEVENT
SUMMARY:Heat and mass transfer (PTSP)\, Laboratory excercises (VL)\, [S10]
DTSTART;TZID=Europe/Ljubljana:20251226T120000
DTEND;TZID=Europe/Ljubljana:20251226T133000
DTSTAMP:20260423T201910Z
UID:fs-AFLABS-URNIK:srecanje:15789-2025-12-26 12:00:00+01:00
DESCRIPTION:Predmet: Heat and mass transfer (PTSP)\, Laboratory excercises
  (VL)\, [S10]\nLetniki: Aircraft design and maintenance (PAP-2)\, Airline 
 transport pilot (PAP-2)\, Design of machines and devices (PAP-2)\, Energy 
 engineering (PAP-2)\, Mechatronics (PAP-2)\, Process engineering (PAP-2)\,
  Production engineering (PAP-2)\, Production technologies (PAP-2)\, Konstr
 uiranje strojev in naprav (PAP-2)\nIzvajalci: Katja Klinar\, Jakob Perne\,
  Urban Tomc\, Blaž Velkavrh\, Katja Vozel\nProstor: Laboratory LAHDE K-1A
 -II
END:VEVENT
END:VCALENDAR
