BEGIN:VCALENDAR
VERSION:2.0
PRODID:-//AFLabs urnik izvoz - fs//aflabs.si//SI
NAME:UL FS Urnik
X-WR-CALNAME:UL FS Urnik
DTSTAMP:20260420T153902Z
REFRESH-INTERVAL:PT1H
SOURCE:https://urnik.fs.uni-lj.si/en/teacher/953/?day=2024-01-01&export=1
URL:https://urnik.fs.uni-lj.si/en/teacher/953/?day=2024-01-01&export=1
X-PUBLISHED-TTL:PT1H
X-WR-TIMEZONE:Europe/Ljubljana
BEGIN:VTIMEZONE
TZID:Europe/Ljubljana
BEGIN:DAYLIGHT
DTSTART:20260329T020000
RDATE:20260329T020000
RDATE:20270328T020000
TZNAME:CEST
TZOFFSETFROM:+0100
TZOFFSETTO:+0200
END:DAYLIGHT
BEGIN:STANDARD
DTSTART:20261025T030000
RDATE:20261025T030000
RDATE:20271031T030000
TZNAME:CET
TZOFFSETFROM:+0200
TZOFFSETTO:+0100
END:STANDARD
END:VTIMEZONE
BEGIN:VEVENT
SUMMARY:Strojnik.si: Tečaj Pythona
DTSTART;TZID=Europe/Ljubljana:20231106T180000
DTEND;TZID=Europe/Ljubljana:20231106T193000
DTSTAMP:20260420T153902Z
UID:fs-AFLABS-URNIK:rezervacija:950
CATEGORIES:Reservation
COLOR:royalblue
DESCRIPTION:Predmeti: \nLetniki: \nIzvajalci: .SI STROJNIK\nProstori: Lect
 ure hall II/3A
LOCATION:Lecture hall II/3A
ORGANIZER:.SI STROJNIK
X-WR-TIMEZONE:Europe/Ljubljana
END:VEVENT
BEGIN:VEVENT
SUMMARY:Strojnik.si: Tečaj Pythona
DTSTART;TZID=Europe/Ljubljana:20231108T180000
DTEND;TZID=Europe/Ljubljana:20231108T193000
DTSTAMP:20260420T153902Z
UID:fs-AFLABS-URNIK:rezervacija:1102
CATEGORIES:Reservation
COLOR:royalblue
DESCRIPTION:Predmeti: \nLetniki: \nIzvajalci: .SI STROJNIK\nProstori: Lect
 ure hall II/3A
LOCATION:Lecture hall II/3A
ORGANIZER:.SI STROJNIK
X-WR-TIMEZONE:Europe/Ljubljana
END:VEVENT
BEGIN:VEVENT
SUMMARY:Strojnik.si: Tečaj Pythona
DTSTART;TZID=Europe/Ljubljana:20231113T180000
DTEND;TZID=Europe/Ljubljana:20231113T193000
DTSTAMP:20260420T153902Z
UID:fs-AFLABS-URNIK:rezervacija:1334
CATEGORIES:Reservation
COLOR:royalblue
DESCRIPTION:Predmeti: \nLetniki: \nIzvajalci: .SI STROJNIK\nProstori: Lect
 ure hall II/3A
LOCATION:Lecture hall II/3A
ORGANIZER:.SI STROJNIK
X-WR-TIMEZONE:Europe/Ljubljana
END:VEVENT
BEGIN:VEVENT
SUMMARY:Strojnik.si: Tečaj navtike
DTSTART;TZID=Europe/Ljubljana:20231025T160000
DTEND;TZID=Europe/Ljubljana:20231025T193000
DTSTAMP:20260420T153902Z
UID:fs-AFLABS-URNIK:rezervacija:3178
CATEGORIES:Reservation
COLOR:royalblue
DESCRIPTION:Predmeti: \nLetniki: \nIzvajalci: .SI STROJNIK\nProstori: Lect
 ure hall II/2
LOCATION:Lecture hall II/2
ORGANIZER:.SI STROJNIK
X-WR-TIMEZONE:Europe/Ljubljana
END:VEVENT
BEGIN:VEVENT
SUMMARY:Strojnik.si: Tečaj navtike
DTSTART;TZID=Europe/Ljubljana:20231017T160000
DTEND;TZID=Europe/Ljubljana:20231017T193000
DTSTAMP:20260420T153902Z
UID:fs-AFLABS-URNIK:rezervacija:1254
CATEGORIES:Reservation
COLOR:royalblue
DESCRIPTION:Predmeti: \nLetniki: \nIzvajalci: .SI STROJNIK\nProstori: Lect
 ure hall II/3A
LOCATION:Lecture hall II/3A
ORGANIZER:.SI STROJNIK
X-WR-TIMEZONE:Europe/Ljubljana
END:VEVENT
BEGIN:VEVENT
SUMMARY:Strojnik.si: Tečaj programiranja v C++
DTSTART;TZID=Europe/Ljubljana:20231207T170000
DTEND;TZID=Europe/Ljubljana:20231207T183000
DTSTAMP:20260420T153902Z
UID:fs-AFLABS-URNIK:rezervacija:4062
CATEGORIES:Reservation
COLOR:royalblue
DESCRIPTION:Predmeti: \nLetniki: \nIzvajalci: .SI STROJNIK\nProstori: Lect
 ure hall III/3B
LOCATION:Lecture hall III/3B
ORGANIZER:.SI STROJNIK
X-WR-TIMEZONE:Europe/Ljubljana
END:VEVENT
BEGIN:VEVENT
SUMMARY:Strojnik.si: Tečaj Pythona
DTSTART;TZID=Europe/Ljubljana:20231107T180000
DTEND;TZID=Europe/Ljubljana:20231107T193000
DTSTAMP:20260420T153902Z
UID:fs-AFLABS-URNIK:rezervacija:1027
CATEGORIES:Reservation
COLOR:royalblue
DESCRIPTION:Predmeti: \nLetniki: \nIzvajalci: .SI STROJNIK\nProstori: Lect
 ure hall II/3A
LOCATION:Lecture hall II/3A
ORGANIZER:.SI STROJNIK
X-WR-TIMEZONE:Europe/Ljubljana
END:VEVENT
BEGIN:VEVENT
SUMMARY:Strojnik.si: Tečaj programiranja v C++
DTSTART;TZID=Europe/Ljubljana:20231205T170000
DTEND;TZID=Europe/Ljubljana:20231205T183000
DTSTAMP:20260420T153902Z
UID:fs-AFLABS-URNIK:rezervacija:4058
CATEGORIES:Reservation
COLOR:royalblue
DESCRIPTION:Predmeti: \nLetniki: \nIzvajalci: .SI STROJNIK\nProstori: Lect
 ure hall III/3B
LOCATION:Lecture hall III/3B
ORGANIZER:.SI STROJNIK
X-WR-TIMEZONE:Europe/Ljubljana
END:VEVENT
BEGIN:VEVENT
SUMMARY:Strojnik.si: Tečaj Pythona
DTSTART;TZID=Europe/Ljubljana:20231115T180000
DTEND;TZID=Europe/Ljubljana:20231115T193000
DTSTAMP:20260420T153902Z
UID:fs-AFLABS-URNIK:rezervacija:1409
CATEGORIES:Reservation
COLOR:royalblue
DESCRIPTION:Predmeti: \nLetniki: \nIzvajalci: .SI STROJNIK\nProstori: Lect
 ure hall II/3A
LOCATION:Lecture hall II/3A
ORGANIZER:.SI STROJNIK
X-WR-TIMEZONE:Europe/Ljubljana
END:VEVENT
BEGIN:VEVENT
SUMMARY:Strojnik.si: Tečaj navtike
DTSTART;TZID=Europe/Ljubljana:20231018T160000
DTEND;TZID=Europe/Ljubljana:20231018T193000
DTSTAMP:20260420T153902Z
UID:fs-AFLABS-URNIK:rezervacija:1333
CATEGORIES:Reservation
COLOR:royalblue
DESCRIPTION:Predmeti: \nLetniki: \nIzvajalci: .SI STROJNIK\nProstori: Lect
 ure hall II/3A
LOCATION:Lecture hall II/3A
ORGANIZER:.SI STROJNIK
X-WR-TIMEZONE:Europe/Ljubljana
END:VEVENT
BEGIN:VEVENT
SUMMARY:Strojnik.si: Tečaj navtike
DTSTART;TZID=Europe/Ljubljana:20231024T160000
DTEND;TZID=Europe/Ljubljana:20231024T193000
DTSTAMP:20260420T153902Z
UID:fs-AFLABS-URNIK:rezervacija:3179
CATEGORIES:Reservation
COLOR:royalblue
DESCRIPTION:Predmeti: \nLetniki: \nIzvajalci: .SI STROJNIK\nProstori: Lect
 ure hall V/2
LOCATION:Lecture hall V/2
ORGANIZER:.SI STROJNIK
X-WR-TIMEZONE:Europe/Ljubljana
END:VEVENT
BEGIN:VEVENT
SUMMARY:Strojnik.si: Tečaj navtike
DTSTART;TZID=Europe/Ljubljana:20231016T160000
DTEND;TZID=Europe/Ljubljana:20231016T193000
DTSTAMP:20260420T153902Z
UID:fs-AFLABS-URNIK:rezervacija:1183
CATEGORIES:Reservation
COLOR:royalblue
DESCRIPTION:Predmeti: \nLetniki: \nIzvajalci: .SI STROJNIK\nProstori: Lect
 ure hall II/3A
LOCATION:Lecture hall II/3A
ORGANIZER:.SI STROJNIK
X-WR-TIMEZONE:Europe/Ljubljana
END:VEVENT
BEGIN:VEVENT
SUMMARY:Strojnik.si: Tečaj navtike
DTSTART;TZID=Europe/Ljubljana:20231026T160000
DTEND;TZID=Europe/Ljubljana:20231026T193000
DTSTAMP:20260420T153902Z
UID:fs-AFLABS-URNIK:rezervacija:3234
CATEGORIES:Reservation
COLOR:royalblue
DESCRIPTION:Predmeti: \nLetniki: \nIzvajalci: FS Dekanat\, .SI STROJNIK\nP
 rostori: Lecture hall III/3A
LOCATION:Lecture hall III/3A
ORGANIZER:FS Dekanat, .SI STROJNIK
X-WR-TIMEZONE:Europe/Ljubljana
END:VEVENT
BEGIN:VEVENT
SUMMARY:Seja ŠO FS
DTSTART;TZID=Europe/Ljubljana:20231012T180000
DTEND;TZID=Europe/Ljubljana:20231012T193000
DTSTAMP:20260420T153902Z
UID:fs-AFLABS-URNIK:rezervacija:1720
CATEGORIES:Reservation
COLOR:royalblue
DESCRIPTION:Predmeti: \nLetniki: \nIzvajalci: .SI STROJNIK\nProstori: Conf
 erence room
LOCATION:Conference room
ORGANIZER:.SI STROJNIK
X-WR-TIMEZONE:Europe/Ljubljana
END:VEVENT
BEGIN:VEVENT
SUMMARY:Strojnik.si: Tečaj programiranja v C++
DTSTART;TZID=Europe/Ljubljana:20231130T170000
DTEND;TZID=Europe/Ljubljana:20231130T183000
DTSTAMP:20260420T153902Z
UID:fs-AFLABS-URNIK:rezervacija:4072
CATEGORIES:Reservation
COLOR:royalblue
DESCRIPTION:Predmeti: \nLetniki: \nIzvajalci: .SI STROJNIK\nProstori: Lect
 ure hall III/3A
LOCATION:Lecture hall III/3A
ORGANIZER:.SI STROJNIK
X-WR-TIMEZONE:Europe/Ljubljana
END:VEVENT
BEGIN:VEVENT
SUMMARY:Strojnik.si: Tečaj Pythona
DTSTART;TZID=Europe/Ljubljana:20231114T180000
DTEND;TZID=Europe/Ljubljana:20231114T193000
DTSTAMP:20260420T153902Z
UID:fs-AFLABS-URNIK:rezervacija:1488
CATEGORIES:Reservation
COLOR:royalblue
DESCRIPTION:Predmeti: \nLetniki: \nIzvajalci: .SI STROJNIK\nProstori: Lect
 ure hall III/3A
LOCATION:Lecture hall III/3A
ORGANIZER:.SI STROJNIK
X-WR-TIMEZONE:Europe/Ljubljana
END:VEVENT
BEGIN:VEVENT
SUMMARY:Strojnik.si: Tečaj Pythona
DTSTART;TZID=Europe/Ljubljana:20231109T180000
DTEND;TZID=Europe/Ljubljana:20231109T193000
DTSTAMP:20260420T153902Z
UID:fs-AFLABS-URNIK:rezervacija:1184
CATEGORIES:Reservation
COLOR:royalblue
DESCRIPTION:Predmeti: \nLetniki: \nIzvajalci: .SI STROJNIK\nProstori: Lect
 ure hall II/3A
LOCATION:Lecture hall II/3A
ORGANIZER:.SI STROJNIK
X-WR-TIMEZONE:Europe/Ljubljana
END:VEVENT
BEGIN:VEVENT
SUMMARY:Strojnik.si: Tečaj Pythona
DTSTART;TZID=Europe/Ljubljana:20231110T180000
DTEND;TZID=Europe/Ljubljana:20231110T193000
DTSTAMP:20260420T153902Z
UID:fs-AFLABS-URNIK:rezervacija:1255
CATEGORIES:Reservation
COLOR:royalblue
DESCRIPTION:Predmeti: \nLetniki: \nIzvajalci: .SI STROJNIK\nProstori: Lect
 ure hall II/3A
LOCATION:Lecture hall II/3A
ORGANIZER:.SI STROJNIK
X-WR-TIMEZONE:Europe/Ljubljana
END:VEVENT
BEGIN:VEVENT
SUMMARY:Strojnik.si: Tečaj programiranja v C++
DTSTART;TZID=Europe/Ljubljana:20231128T170000
DTEND;TZID=Europe/Ljubljana:20231128T183000
DTSTAMP:20260420T153902Z
UID:fs-AFLABS-URNIK:rezervacija:4061
CATEGORIES:Reservation
COLOR:royalblue
DESCRIPTION:Predmeti: \nLetniki: \nIzvajalci: .SI STROJNIK\nProstori: Lect
 ure hall III/3B
LOCATION:Lecture hall III/3B
ORGANIZER:.SI STROJNIK
X-WR-TIMEZONE:Europe/Ljubljana
END:VEVENT
END:VCALENDAR
