BEGIN:VCALENDAR
VERSION:2.0
PRODID:-//AFLabs urnik izvoz - fs//aflabs.si//SI
NAME:UL FS Urnik
X-WR-CALNAME:UL FS Urnik
DTSTAMP:20260420T073937Z
REFRESH-INTERVAL:PT1H
SOURCE:https://urnik.fs.uni-lj.si/en/teacher/965/?day=2024-07-08&export=1
URL:https://urnik.fs.uni-lj.si/en/teacher/965/?day=2024-07-08&export=1
X-PUBLISHED-TTL:PT1H
X-WR-TIMEZONE:Europe/Ljubljana
BEGIN:VTIMEZONE
TZID:Europe/Ljubljana
BEGIN:DAYLIGHT
DTSTART:20260329T020000
RDATE:20260329T020000
RDATE:20270328T020000
TZNAME:CEST
TZOFFSETFROM:+0100
TZOFFSETTO:+0200
END:DAYLIGHT
BEGIN:STANDARD
DTSTART:20261025T030000
RDATE:20261025T030000
RDATE:20271031T030000
TZNAME:CET
TZOFFSETFROM:+0200
TZOFFSETTO:+0100
END:STANDARD
END:VTIMEZONE
BEGIN:VEVENT
SUMMARY:KNNN
DTSTART;TZID=Europe/Ljubljana:20240617T110000
DTEND;TZID=Europe/Ljubljana:20240617T123000
DTSTAMP:20260420T073937Z
UID:fs-AFLABS-URNIK:rezervacija:4883
CATEGORIES:Reservation
COLOR:royalblue
DESCRIPTION:Predmeti: \nLetniki: \nIzvajalci: Dekanat FS\nProstori: Leskov
 arjeva conference room
LOCATION:Leskovarjeva conference room
ORGANIZER:Dekanat FS
X-WR-TIMEZONE:Europe/Ljubljana
END:VEVENT
BEGIN:VEVENT
SUMMARY:Joga
DTSTART;TZID=Europe/Ljubljana:20240627T070000
DTEND;TZID=Europe/Ljubljana:20240627T080000
DTSTAMP:20260420T073937Z
UID:fs-AFLABS-URNIK:rezervacija:5890
CATEGORIES:Reservation
COLOR:royalblue
DESCRIPTION:Predmeti: \nLetniki: \nIzvajalci: Dekanat FS\nProstori: Leskov
 arjeva conference room
LOCATION:Leskovarjeva conference room
ORGANIZER:Dekanat FS
X-WR-TIMEZONE:Europe/Ljubljana
END:VEVENT
BEGIN:VEVENT
SUMMARY:Zagovori RRP
DTSTART;TZID=Europe/Ljubljana:20240628T093000
DTEND;TZID=Europe/Ljubljana:20240628T110000
DTSTAMP:20260420T073937Z
UID:fs-AFLABS-URNIK:rezervacija:5892
CATEGORIES:Reservation
COLOR:royalblue
DESCRIPTION:Predmeti: \nLetniki: \nIzvajalci: Dekanat FS\nProstori: Leskov
 arjeva conference room
LOCATION:Leskovarjeva conference room
ORGANIZER:Dekanat FS
X-WR-TIMEZONE:Europe/Ljubljana
END:VEVENT
BEGIN:VEVENT
SUMMARY:Zag. dr. Domjan
DTSTART;TZID=Europe/Ljubljana:20240701T150000
DTEND;TZID=Europe/Ljubljana:20240701T170000
DTSTAMP:20260420T073937Z
UID:fs-AFLABS-URNIK:rezervacija:5893
CATEGORIES:Reservation
COLOR:royalblue
DESCRIPTION:Predmeti: \nLetniki: \nIzvajalci: Dekanat FS\nProstori: Leskov
 arjeva conference room
LOCATION:Leskovarjeva conference room
ORGANIZER:Dekanat FS
X-WR-TIMEZONE:Europe/Ljubljana
END:VEVENT
BEGIN:VEVENT
SUMMARY:Joga
DTSTART;TZID=Europe/Ljubljana:20240701T070000
DTEND;TZID=Europe/Ljubljana:20240701T080000
DTSTAMP:20260420T073937Z
UID:fs-AFLABS-URNIK:rezervacija:5894
CATEGORIES:Reservation
COLOR:royalblue
DESCRIPTION:Predmeti: \nLetniki: \nIzvajalci: Dekanat FS\nProstori: Leskov
 arjeva conference room
LOCATION:Leskovarjeva conference room
ORGANIZER:Dekanat FS
X-WR-TIMEZONE:Europe/Ljubljana
END:VEVENT
BEGIN:VEVENT
SUMMARY:Joga
DTSTART;TZID=Europe/Ljubljana:20240704T070000
DTEND;TZID=Europe/Ljubljana:20240704T080000
DTSTAMP:20260420T073937Z
UID:fs-AFLABS-URNIK:rezervacija:5895
CATEGORIES:Reservation
COLOR:royalblue
DESCRIPTION:Predmeti: \nLetniki: \nIzvajalci: Dekanat FS\nProstori: Leskov
 arjeva conference room
LOCATION:Leskovarjeva conference room
ORGANIZER:Dekanat FS
X-WR-TIMEZONE:Europe/Ljubljana
END:VEVENT
BEGIN:VEVENT
SUMMARY:Joga
DTSTART;TZID=Europe/Ljubljana:20240708T070000
DTEND;TZID=Europe/Ljubljana:20240708T080000
DTSTAMP:20260420T073937Z
UID:fs-AFLABS-URNIK:rezervacija:5896
CATEGORIES:Reservation
COLOR:royalblue
DESCRIPTION:Predmeti: \nLetniki: \nIzvajalci: Dekanat FS\nProstori: Leskov
 arjeva conference room
LOCATION:Leskovarjeva conference room
ORGANIZER:Dekanat FS
X-WR-TIMEZONE:Europe/Ljubljana
END:VEVENT
BEGIN:VEVENT
SUMMARY:Joga
DTSTART;TZID=Europe/Ljubljana:20240711T070000
DTEND;TZID=Europe/Ljubljana:20240711T080000
DTSTAMP:20260420T073937Z
UID:fs-AFLABS-URNIK:rezervacija:5897
CATEGORIES:Reservation
COLOR:royalblue
DESCRIPTION:Predmeti: \nLetniki: \nIzvajalci: Dekanat FS\nProstori: Leskov
 arjeva conference room
LOCATION:Leskovarjeva conference room
ORGANIZER:Dekanat FS
X-WR-TIMEZONE:Europe/Ljubljana
END:VEVENT
BEGIN:VEVENT
SUMMARY:Zag. dr. Berce
DTSTART;TZID=Europe/Ljubljana:20240704T100000
DTEND;TZID=Europe/Ljubljana:20240704T120000
DTSTAMP:20260420T073937Z
UID:fs-AFLABS-URNIK:rezervacija:5902
CATEGORIES:Reservation
COLOR:royalblue
DESCRIPTION:Predmeti: \nLetniki: \nIzvajalci: Dekanat FS\nProstori: Leskov
 arjeva conference room
LOCATION:Leskovarjeva conference room
ORGANIZER:Dekanat FS
X-WR-TIMEZONE:Europe/Ljubljana
END:VEVENT
BEGIN:VEVENT
SUMMARY:Pred. dr. teme Imširović
DTSTART;TZID=Europe/Ljubljana:20240711T083000
DTEND;TZID=Europe/Ljubljana:20240711T093000
DTSTAMP:20260420T073937Z
UID:fs-AFLABS-URNIK:rezervacija:5906
CATEGORIES:Reservation
COLOR:royalblue
DESCRIPTION:Predmeti: \nLetniki: \nIzvajalci: Dekanat FS\nProstori: Leskov
 arjeva conference room
LOCATION:Leskovarjeva conference room
ORGANIZER:Dekanat FS
X-WR-TIMEZONE:Europe/Ljubljana
END:VEVENT
BEGIN:VEVENT
SUMMARY:Pred. dr. teme Ghavi
DTSTART;TZID=Europe/Ljubljana:20240711T093000
DTEND;TZID=Europe/Ljubljana:20240711T110000
DTSTAMP:20260420T073937Z
UID:fs-AFLABS-URNIK:rezervacija:5907
CATEGORIES:Reservation
COLOR:royalblue
DESCRIPTION:Predmeti: \nLetniki: \nIzvajalci: Dekanat FS\nProstori: Leskov
 arjeva conference room
LOCATION:Leskovarjeva conference room
ORGANIZER:Dekanat FS
X-WR-TIMEZONE:Europe/Ljubljana
END:VEVENT
BEGIN:VEVENT
SUMMARY:Zagovori RRP
DTSTART;TZID=Europe/Ljubljana:20240703T093000
DTEND;TZID=Europe/Ljubljana:20240703T110000
DTSTAMP:20260420T073937Z
UID:fs-AFLABS-URNIK:rezervacija:5910
CATEGORIES:Reservation
COLOR:royalblue
DESCRIPTION:Predmeti: \nLetniki: \nIzvajalci: Dekanat FS\nProstori: Leskov
 arjeva conference room
LOCATION:Leskovarjeva conference room
ORGANIZER:Dekanat FS
X-WR-TIMEZONE:Europe/Ljubljana
END:VEVENT
BEGIN:VEVENT
SUMMARY:A. Vidergar - predstavitev rezultatov raziskovalnega dela in zagov
 or Seminarja II
DTSTART;TZID=Europe/Ljubljana:20240716T110000
DTEND;TZID=Europe/Ljubljana:20240716T130000
DTSTAMP:20260420T073937Z
UID:fs-AFLABS-URNIK:rezervacija:5927
CATEGORIES:Reservation
COLOR:royalblue
DESCRIPTION:Predmeti: \nLetniki: \nIzvajalci: Dekanat FS\nProstori: Leskov
 arjeva conference room
LOCATION:Leskovarjeva conference room
ORGANIZER:Dekanat FS
X-WR-TIMEZONE:Europe/Ljubljana
END:VEVENT
BEGIN:VEVENT
SUMMARY:Zagovori RRP
DTSTART;TZID=Europe/Ljubljana:20240724T073000
DTEND;TZID=Europe/Ljubljana:20240724T100000
DTSTAMP:20260420T073937Z
UID:fs-AFLABS-URNIK:rezervacija:5954
CATEGORIES:Reservation
COLOR:royalblue
DESCRIPTION:Predmeti: \nLetniki: \nIzvajalci: Dekanat FS\nProstori: Leskov
 arjeva conference room
LOCATION:Leskovarjeva conference room
ORGANIZER:Dekanat FS
X-WR-TIMEZONE:Europe/Ljubljana
END:VEVENT
BEGIN:VEVENT
SUMMARY:Zagovori RRP
DTSTART;TZID=Europe/Ljubljana:20240725T073000
DTEND;TZID=Europe/Ljubljana:20240725T100000
DTSTAMP:20260420T073937Z
UID:fs-AFLABS-URNIK:rezervacija:5957
CATEGORIES:Reservation
COLOR:royalblue
DESCRIPTION:Predmeti: \nLetniki: \nIzvajalci: Dekanat FS\nProstori: Leskov
 arjeva conference room
LOCATION:Leskovarjeva conference room
ORGANIZER:Dekanat FS
X-WR-TIMEZONE:Europe/Ljubljana
END:VEVENT
BEGIN:VEVENT
SUMMARY:Pred. rez. razisk. dela A. Malus
DTSTART;TZID=Europe/Ljubljana:20240730T100000
DTEND;TZID=Europe/Ljubljana:20240730T120000
DTSTAMP:20260420T073937Z
UID:fs-AFLABS-URNIK:rezervacija:5958
CATEGORIES:Reservation
COLOR:royalblue
DESCRIPTION:Predmeti: \nLetniki: \nIzvajalci: Dekanat FS\nProstori: Leskov
 arjeva conference room
LOCATION:Leskovarjeva conference room
ORGANIZER:Dekanat FS
X-WR-TIMEZONE:Europe/Ljubljana
END:VEVENT
END:VCALENDAR
